BEGIN:VCALENDAR
VERSION:2.0
PRODID:-//Northwest Georgia Regional Library System - ECPv6.15.17.1//NONSGML v1.0//EN
CALSCALE:GREGORIAN
METHOD:PUBLISH
X-WR-CALNAME:Northwest Georgia Regional Library System
X-ORIGINAL-URL:https://ngrl.devtest.center
X-WR-CALDESC:Events for Northwest Georgia Regional Library System
REFRESH-INTERVAL;VALUE=DURATION:PT1H
X-Robots-Tag:noindex
X-PUBLISHED-TTL:PT1H
BEGIN:VTIMEZONE
TZID:America/New_York
BEGIN:DAYLIGHT
TZOFFSETFROM:-0500
TZOFFSETTO:-0400
TZNAME:EDT
DTSTART:20230312T070000
END:DAYLIGHT
BEGIN:STANDARD
TZOFFSETFROM:-0400
TZOFFSETTO:-0500
TZNAME:EST
DTSTART:20231105T060000
END:STANDARD
BEGIN:DAYLIGHT
TZOFFSETFROM:-0500
TZOFFSETTO:-0400
TZNAME:EDT
DTSTART:20240310T070000
END:DAYLIGHT
BEGIN:STANDARD
TZOFFSETFROM:-0400
TZOFFSETTO:-0500
TZNAME:EST
DTSTART:20241103T060000
END:STANDARD
BEGIN:DAYLIGHT
TZOFFSETFROM:-0500
TZOFFSETTO:-0400
TZNAME:EDT
DTSTART:20250309T070000
END:DAYLIGHT
BEGIN:STANDARD
TZOFFSETFROM:-0400
TZOFFSETTO:-0500
TZNAME:EST
DTSTART:20251102T060000
END:STANDARD
END:VTIMEZONE
BEGIN:VEVENT
DTSTART;TZID=America/New_York:20241223T100000
DTEND;TZID=America/New_York:20241223T110000
DTSTAMP:20260422T205354
CREATED:20230524T172115Z
LAST-MODIFIED:20250428T140953Z
UID:39867-1734948000-1734951600@ngrl.devtest.center
SUMMARY:Workout with Nancy -- Adults
DESCRIPTION:Open to ages 18 and older. Get your heart pumping in this workout class led by Nancy Guzman. \n\nMondays @ 10:30 a.m. in August\nMondays @ 10:30 a.m. in September\nMondays @ 10:30 a.m. in October\nMondays @ 10:30 a.m. in November\nMondays @ 10:30 a.m. in December\nMondays @ 10:30 a.m. in January\nMondays @ 10:30 a.m. in February\nMondays @ 10:30 a.m. in March\nMondays @ 10:30 a.m. in April\nMondays @ 10:30 a.m. in May\nMondays @ 10:30 a.m. in June\nMondays @ 10:30 a.m. in July\nMondays @ 10:30 a.m. in August\nMondays @ 10:30 a.m. in September\nMondays @ 10 a.m. in October\nMondays @ 10 a.m. in November\nMondays @ 10 a.m. in December\nMondays @ 10 a.m. in January\nMondays @ 10 a.m. in February\nMondays @ 10 a.m. in March\nMondays @ 10 a.m. in April\nMonday May 5 & 19 @ 10 a.m.\n\nNo class January 1 & 15 \nNo class February 17 \nDisclaimer: All aspects of in-person programming are subject to change based on health crisis guidelines and procedures.
URL:https://ngrl.devtest.center/event/workout-with-nancy-adults/2024-12-23/
LOCATION:Calhoun-Gordon County Public Library\, 100 N Park Avenue\, Calhoun\, GA\, 30701\, United States
ATTACH;FMTTYPE=image/png:https://ngrl.devtest.center/wp-content/uploads/2021/09/Adults-Featured.png
END:VEVENT
BEGIN:VEVENT
DTSTART;TZID=America/New_York:20241223T110000
DTEND;TZID=America/New_York:20241223T120000
DTSTAMP:20260422T205354
CREATED:20221227T190026Z
LAST-MODIFIED:20260415T125836Z
UID:56491-1734951600-1734955200@ngrl.devtest.center
SUMMARY:Baby & Toddler Time -- Children
DESCRIPTION:Open to birth – preschool age. \nAn opportunity for young children to play\, dance\, listen to music\, hear stories\, and learn new things! \n\n\n\nMondays in July @ 11 a.m.\nMondays in August @ 11 a.m.\nMondays in September @ 11 a.m.\nMondays in October @ 11 a.m.\nMondays in November @ 11 a.m.\nMondays in December @ 11 a.m.\nMondays in January @ 11 a.m\n\n\n\n\nMondays in February @ 11 a.m.\nMondays in March @ 11 a.m.\nMondays in April @ 11 a.m.\n\n  \n\nClosed January 19\nClosed February 16 for Staff Service\n\nDisclaimer: All aspects of in-person programming are subject to change based on health crisis guidelines and procedures.
URL:https://ngrl.devtest.center/event/baby-toddler-time-children/2024-12-23/
LOCATION:Chatsworth-Murray County Public Library\, 706 Old Dalton Ellijay Rd\, Chatsworth\, GA\, 30705\, United States
ATTACH;FMTTYPE=image/png:https://ngrl.devtest.center/wp-content/uploads/2021/09/Kids-Featured.png
ORGANIZER;CN="Chatsworth-Murray County Library":MAILTO:ngrl.librarian@gmail.com
END:VEVENT
BEGIN:VEVENT
DTSTART;TZID=America/New_York:20241223T113000
DTEND;TZID=America/New_York:20241223T123000
DTSTAMP:20260422T205354
CREATED:20241120T154805Z
LAST-MODIFIED:20241120T154805Z
UID:38414-1734953400-1734957000@ngrl.devtest.center
SUMMARY:Gingerbread House Decorating --Adults
DESCRIPTION:Open to adults 19 and older. Join us for a festive morning of holiday fun\, where you craft your edible masterpiece while enjoying seasonal treats and warm beverages. All supplies provided. \n\nMonday\, December 23 @ 11:30 a.m.\n\nDisclaimer: All aspects of in-person programming are subject to change based on health crisis guidelines and procedures.
URL:https://ngrl.devtest.center/event/gingerbread-house-decorating-adults/
LOCATION:Dalton-Whitfield County Public Library\, 310 Cappes St\, Dalton\, GA\, 30720\, United States
ATTACH;FMTTYPE=image/png:https://ngrl.devtest.center/wp-content/uploads/2021/09/Adults-Featured.png
ORGANIZER;CN="Dalton-Whitfield County Public Library":MAILTO:ngrl.librarian@gmail.com
END:VEVENT
BEGIN:VEVENT
DTSTART;TZID=America/New_York:20241223T160000
DTEND;TZID=America/New_York:20241223T170000
DTSTAMP:20260422T205354
CREATED:20241119T145705Z
LAST-MODIFIED:20250519T173943Z
UID:41279-1734969600-1734973200@ngrl.devtest.center
SUMMARY:Chess Club -- Kids
DESCRIPTION:Open to kids under 12. If you are interested in playing\, or learning to play the game\, come by and join the Chess Club. \n\nMonday\, December 2\, 16 & 30 @ 4 p.m.\nMonday\, January 13 @ 4 p.m.\nMondays in February @ 4 p.m.\nMondays in March @ 4 p.m.\nMondays in April @ 4 p.m.\nMondays in June @ 4 p.m.\nMondays in July @ 4 p.m.\n\nNo Chess Club on March 17 or 31 \nDisclaimer: All aspects of in-person programming are subject to change based on health crisis guidelines and procedures. \n  \n 
URL:https://ngrl.devtest.center/event/chess-club-kids-2/2024-12-23/
LOCATION:Calhoun-Gordon County Public Library\, 100 N Park Avenue\, Calhoun\, GA\, 30701\, United States
ATTACH;FMTTYPE=image/png:https://ngrl.devtest.center/wp-content/uploads/2021/09/Kids-Featured.png
END:VEVENT
BEGIN:VEVENT
DTSTART;VALUE=DATE:20241224
DTEND;VALUE=DATE:20241225
DTSTAMP:20260422T205354
CREATED:20231220T160725Z
LAST-MODIFIED:20231220T160725Z
UID:30424-1734998400-1735084799@ngrl.devtest.center
SUMMARY:CLOSED for Christmas -- All NGRL Branches
DESCRIPTION:We will be closed for Christmas. We hope that all members of our community can spend this time with loved ones and friends. The bookdrop will be open for returns. \n\nCLOSED Tuesday\, December 24\nCLOSED Wednesday\, December 25\nCLOSED Thursday\, December 26\n\nNo materials will be due while we are closed. Downloadable items will still be available.
URL:https://ngrl.devtest.center/event/closed-for-christmas-all-ngrl-branches-2/
LOCATION:GA
ATTACH;FMTTYPE=image/png:https://ngrl.devtest.center/wp-content/uploads/2021/09/Closed-Featured.png
END:VEVENT
BEGIN:VEVENT
DTSTART;VALUE=DATE:20241225
DTEND;VALUE=DATE:20241226
DTSTAMP:20260422T205354
CREATED:20231220T160725Z
LAST-MODIFIED:20231220T160725Z
UID:30425-1735084800-1735171199@ngrl.devtest.center
SUMMARY:CLOSED for Christmas -- All NGRL Branches
DESCRIPTION:We will be closed for Christmas. We hope that all members of our community can spend this time with loved ones and friends. The bookdrop will be open for returns. \n\nCLOSED Tuesday\, December 24\nCLOSED Wednesday\, December 25\nCLOSED Thursday\, December 26\n\nNo materials will be due while we are closed. Downloadable items will still be available.
URL:https://ngrl.devtest.center/event/closed-for-christmas-all-ngrl-branches-2/2024-12-25/
LOCATION:GA
ATTACH;FMTTYPE=image/png:https://ngrl.devtest.center/wp-content/uploads/2021/09/Closed-Featured.png
END:VEVENT
BEGIN:VEVENT
DTSTART;TZID=America/New_York:20241225T160000
DTEND;TZID=America/New_York:20241225T170000
DTSTAMP:20260422T205354
CREATED:20240429T152134Z
LAST-MODIFIED:20260323T181206Z
UID:54918-1735142400-1735146000@ngrl.devtest.center
SUMMARY:Beginner Spanish -- Adults (Spanish translator present)
DESCRIPTION:Open to adults 18 and older. Interested in becoming a student of the Spanish language? Come\, practice and learn with Dalton State Professor Dr. Brian Hibbs for a beginner-level Spanish course. \n  \n\nWednesdays in March @ 4 p.m.\nWednesdays in April @ 4 p.m.\n\nDisclaimer: All aspects of in-person programming are subject to change based on health crisis guidelines and procedures.
URL:https://ngrl.devtest.center/event/beginner-spanish-adults-spanish-translator-present/2024-12-25/
LOCATION:Dalton-Whitfield County Public Library\, 310 Cappes St\, Dalton\, GA\, 30720\, United States
ATTACH;FMTTYPE=image/png:https://ngrl.devtest.center/wp-content/uploads/2021/09/Adults-Featured.png
ORGANIZER;CN="Dalton-Whitfield County Public Library":MAILTO:ngrl.librarian@gmail.com
END:VEVENT
BEGIN:VEVENT
DTSTART;VALUE=DATE:20241226
DTEND;VALUE=DATE:20241227
DTSTAMP:20260422T205354
CREATED:20231220T160725Z
LAST-MODIFIED:20231220T160725Z
UID:30426-1735171200-1735257599@ngrl.devtest.center
SUMMARY:CLOSED for Christmas -- All NGRL Branches
DESCRIPTION:We will be closed for Christmas. We hope that all members of our community can spend this time with loved ones and friends. The bookdrop will be open for returns. \n\nCLOSED Tuesday\, December 24\nCLOSED Wednesday\, December 25\nCLOSED Thursday\, December 26\n\nNo materials will be due while we are closed. Downloadable items will still be available.
URL:https://ngrl.devtest.center/event/closed-for-christmas-all-ngrl-branches-2/2024-12-26/
LOCATION:GA
ATTACH;FMTTYPE=image/png:https://ngrl.devtest.center/wp-content/uploads/2021/09/Closed-Featured.png
END:VEVENT
BEGIN:VEVENT
DTSTART;TZID=America/New_York:20241226T103000
DTEND;TZID=America/New_York:20241226T113000
DTSTAMP:20260422T205354
CREATED:20240719T111111Z
LAST-MODIFIED:20250428T142412Z
UID:38950-1735209000-1735212600@ngrl.devtest.center
SUMMARY:Baby Lapsit - Children
DESCRIPTION:New parents are welcome to come learn to communicate and read with your baby. \n\nThursdays @ 10:30 a.m.\nThursday\, December 12 & 19 @ 10:30 a.m.\nThursdays in January @ 10:30 a.m.\nThursdays in February @ 10:30 a.m.\nThursdays in March @ 10:30 a.m.\nThursdays in April @ 10:30 a.m.\nThursday in May @ 10:30 a.m.\n\nDisclaimer: All aspects of in-person programming are subject to change based on health crisis guidelines and procedures.
URL:https://ngrl.devtest.center/event/baby-lapis-children/2024-12-26/
LOCATION:Calhoun-Gordon County Public Library\, 100 N Park Avenue\, Calhoun\, GA\, 30701\, United States
ATTACH;FMTTYPE=image/png:https://ngrl.devtest.center/wp-content/uploads/2021/09/Kids-Featured.png
END:VEVENT
BEGIN:VEVENT
DTSTART;TZID=America/New_York:20241226T110000
DTEND;TZID=America/New_York:20241226T120000
DTSTAMP:20260422T205354
CREATED:20231219T164608Z
LAST-MODIFIED:20250820T144152Z
UID:40868-1735210800-1735214400@ngrl.devtest.center
SUMMARY:Beginner ESOL (Spanish Translator) - Adults
DESCRIPTION:Open to ages 18 and older. Practice and learn the English language with Dalton State Professor Dr. Brian Hibbs  Spanish translator will be present. \n\nTuesday\, January 9 & 23 @ 4 p.m.\nTuesday\, March 5 & 19 @ 4 p.m.\nTuesday\, March 2\, 16 and 30 @ 4 p.m.\nTuesday\, May 7 @ 4 p.m.\nTuesday\, May 14 @ 4 p.m.\nTuesday\, May 21 @ 4:30 p.m.\nTuesday\, May 28 @ 4:30 p.m.\nTuesday\, June 4 @ 4:30 p.m.\nWednesdays in September @ 11 a.m.\nWednesdays in October @ 11 a.m.\nWednesdays in January @ 11 a.m.\nThursdays in February @ 11 a.m.\nThursdays in March @ 11 a.m.\nThursdays in April @ 11 a.m.\nThursdays in May @ 11 a.m.\nMonday in August @ 11 a.m.\n\n  \n\nNo Beginner ESOL January 2 & 9 \nNo ESOL May 29\n\nDisclaimer: All aspects of in-person programming are subject to change based on health crisis guidelines and procedures.
URL:https://ngrl.devtest.center/event/beginner-esol-spanish-translator-adults/2024-12-26/
LOCATION:Dalton-Whitfield County Public Library\, 310 Cappes St\, Dalton\, GA\, 30720\, United States
ATTACH;FMTTYPE=image/png:https://ngrl.devtest.center/wp-content/uploads/2021/09/Adults-Featured.png
ORGANIZER;CN="Dalton-Whitfield County Public Library":MAILTO:ngrl.librarian@gmail.com
END:VEVENT
BEGIN:VEVENT
DTSTART;TZID=America/New_York:20241226T160000
DTEND;TZID=America/New_York:20241226T180000
DTSTAMP:20260422T205354
CREATED:20221227T185620Z
LAST-MODIFIED:20250428T160047Z
UID:40070-1735228800-1735236000@ngrl.devtest.center
SUMMARY:Dungeons & Dragons -- Tweens & Teens
DESCRIPTION:Open to 6th to 12th grade. Come to this interactive workshop to learn the basics of D&D play and character development led by Steven Bennett. Note: This is an after hours program and the rest of the library may not be open. \n\nWednesday\, January 11 @ 6 – 8 p.m.\nWednesday\, January 25 @ 6 – 8 p.m.\nWednesday\, February 8 @ 6 – 8 p.m.\nWednesday\, February 22 @ 6 – 8 p.m.\nWednesday\, March 8 @ 6 – 8 p.m.\nWednesday\, March 22 @ 6 – 8 p.m.\nThursday\, April 13 @ 6 – 8 p.m.\nThursday\, April 27 @ 6 – 8 p.m.\nThursday\, May 4 @ 6 – 8 p.m.\nThursday\, May 18 @ 6 – 8 p.m.\nThursday\, June 15 @ 6 – 8 p.m.\nThursday\, June 29 @ 6 – 8 p.m.\nThursday\, July 13 @ 6 – 8 p.m.\nThursday\, July 27 @ 6 – 8 p.m.\nThursday\, August 10 @ 6-8 p.m.\nThursday\, August 24 @ 6 -8 p.m.\nThursday\, September 7 @ 6-8 p.m.\nThursday\, September 21 @ 6-8 p.m.\nThursday\, October 5 @ 6 p.m.\nThursday\, October 19 @ 6 p.m.\nThursday\, November 2 @ 6 p.m.\nThursday\, November 16 @ 6 p.m.\nThursday\, November 30 @ 6 p.m.\nThursday\, January 11 @ 6 p.m.\nThursday\, January 25 @ 6 p.m.\nThursday\, February 8 @ 6 p.m.\nThursday\, February 22 @ 6 p.m.\nThursday\, March 7 @ 6 p.m.\nThursday\, March 21 @ 6 p.m.\nWednesdays at 4 p.m. in April\nThursdays in May @ 4 p.m.\nThursdays in June @ 4 p.m.\nThursdays in July @ 4 p.m.\nThursdays in August @ 4 p.m.\nThursdays in February @ 4 p.m.\nThursdays in March @ 4 p.m.\nThursdays in April @ 4 p.m.\nThursdays in May @ 4 p.m.\n\n  \n\nNote: One-shot adventures on the second and fourth Wednesday of each month.\nThursdays in January @ 4 p.m.\n\nDisclaimer: All aspects of in-person programming are subject to change based on health crisis guidelines and procedures.
URL:https://ngrl.devtest.center/event/dungeons-dragons-tweens-teens-3-2024-04-24-2024-05-02/2024-12-26/
LOCATION:Calhoun-Gordon County Public Library\, 100 N Park Avenue\, Calhoun\, GA\, 30701\, United States
ATTACH;FMTTYPE=image/png:https://ngrl.devtest.center/wp-content/uploads/2021/09/Teens-Featured.png
END:VEVENT
BEGIN:VEVENT
DTSTART;TZID=America/New_York:20241226T163000
DTEND;TZID=America/New_York:20241226T180000
DTSTAMP:20260422T205354
CREATED:20240213T163641Z
LAST-MODIFIED:20250224T211425Z
UID:41060-1735230600-1735236000@ngrl.devtest.center
SUMMARY:Pokémon Club -- All Ages
DESCRIPTION:Open to all ages. While we await the return of the Pokémon League\, trainers and Pokémon fans alike can gather for a weekly meetup to battle\, trade\, and share their love for all things Pokémon. \n\nWeekly on Thursdays at 4:30 – 6 p.m.\nFriday\, March 27 at 4:30-6 p.m. is Bingo Night\nThursday\, February 27 is National Pokémon Day\n\nDisclaimer: All aspects of in-person programming are subject to change based on health crisis guidelines and procedures.
URL:https://ngrl.devtest.center/event/pokemon-club-all-ages-3-2024-05-02/2024-12-26/
LOCATION:Dalton-Whitfield County Public Library\, 310 Cappes St\, Dalton\, GA\, 30720\, United States
ATTACH;FMTTYPE=image/png:https://ngrl.devtest.center/wp-content/uploads/2021/09/All-Ages-Featured.png
ORGANIZER;CN="Dalton-Whitfield County Public Library":MAILTO:ngrl.librarian@gmail.com
END:VEVENT
BEGIN:VEVENT
DTSTART;TZID=America/New_York:20241227T103000
DTEND;TZID=America/New_York:20241227T113000
DTSTAMP:20260422T205354
CREATED:20230220T191140Z
LAST-MODIFIED:20250428T143033Z
UID:37640-1735295400-1735299000@ngrl.devtest.center
SUMMARY:Zumba -- Adults
DESCRIPTION:Open to ages 18 and older. Get your heart pumping with this Latin music-based workout led by Nancy Guzman. \n\nWeekly on Fridays @ 10:30 a.m. \n\n  \n\nThursday\, December 14 @10:30 a.m.\nFriday\, December 1\, 8 and 29 @ 10:30 a.m.\nFriday\, September 13 & 27 @ 10:30 a.m.\nFriday\, October 11 & 25 @ 10:30 a.m.\nFriday\, November 8 & 22 @ 10:30 a.m.\nFriday\, December 6 & 20 @ 10:30 a.m.\nFriday\, January 10\, 24 & 31 @ 10:30 a.m.\nFridays in February @ 10:30 a.m.\nFriday May 2\, 16 & 30 at 10:30 a.m.\n\nDisclaimer: All aspects of in-person programming are subject to change based on health crisis guidelines and procedures.
URL:https://ngrl.devtest.center/event/zumba-adults/2024-12-27/
LOCATION:Calhoun-Gordon County Public Library\, 100 N Park Avenue\, Calhoun\, GA\, 30701\, United States
ATTACH;FMTTYPE=image/png:https://ngrl.devtest.center/wp-content/uploads/2021/09/Adults-Featured.png
END:VEVENT
BEGIN:VEVENT
DTSTART;TZID=America/New_York:20241227T103000
DTEND;TZID=America/New_York:20241227T113000
DTSTAMP:20260422T205354
CREATED:20241022T124551Z
LAST-MODIFIED:20250428T155730Z
UID:37600-1735295400-1735299000@ngrl.devtest.center
SUMMARY:Veterans Coffee -- Adults
DESCRIPTION:Open to adults 19 and older. Vets are invited to join this social coffee hour in our history room. \n\nFridays at 10:30 a.m.\n\nDisclaimer: All aspects of in-person programming are subject to change based on health crisis guidelines and procedures.
URL:https://ngrl.devtest.center/event/veterans-coffee-adults/2024-12-27/
LOCATION:Calhoun-Gordon County Public Library\, 100 N Park Avenue\, Calhoun\, GA\, 30701\, United States
ATTACH;FMTTYPE=image/png:https://ngrl.devtest.center/wp-content/uploads/2021/09/Adults-Featured.png
END:VEVENT
BEGIN:VEVENT
DTSTART;TZID=America/New_York:20241227T150000
DTEND;TZID=America/New_York:20241227T170000
DTSTAMP:20260422T205354
CREATED:20240124T163413Z
LAST-MODIFIED:20250514T143302Z
UID:38219-1735311600-1735318800@ngrl.devtest.center
SUMMARY:LEGOs @ the Library
DESCRIPTION:Open to pre-K to 5th grade. Kids can play with our big collection of LEGO® and Duplo® bricks. Drop in and try a different LEGO® challenge each week or just enjoy some building time. \n\nFridays @ 3 – 5 p.m.\nNo Legos April 18\n\nDisclaimer: All aspects of in-person programming are subject to change based on health crisis guidelines and procedures.
URL:https://ngrl.devtest.center/event/legos-the-library-2024-02-09/2024-12-27/
LOCATION:Dalton-Whitfield County Public Library\, 310 Cappes St\, Dalton\, GA\, 30720\, United States
ORGANIZER;CN="Dalton-Whitfield County Public Library":MAILTO:ngrl.librarian@gmail.com
END:VEVENT
BEGIN:VEVENT
DTSTART;TZID=America/New_York:20241228T110000
DTEND;TZID=America/New_York:20241228T130000
DTSTAMP:20260422T205354
CREATED:20221227T185954Z
LAST-MODIFIED:20250320T162818Z
UID:38444-1735383600-1735390800@ngrl.devtest.center
SUMMARY:Anime Club -- Tweens & Teens
DESCRIPTION:Open to 6th-12th grades. Come hang out with your friends in grades 6-12 at the Chatsworth-Murray County Public Library. Enjoy discussing and watching some of your favorite shows with other fans! \n\nTuesday\, January 10 @ 3 – 5 p.m.\nTuesday\, February 14 @ 3 – 5 p.m. – Theme: Demon Slayer\nTuesday\, March 14 @ 3 – 5 p.m. – Theme: Fruits Basket\nTuesday\, April 11 @ 3 – 5 p.m. – Theme: Haikyu!\nTuesday\, May 9 @ 3 – 5 p.m. – Theme: Dr. Stone\nMonday\, June 5 @ 3 – 5 p.m. – Theme: Kaguya-Sama Love Is War\nWednesday\, July 19 @ 3 – 5 p.m. – Theme: Ace Attorney\nTuesday\, August 8 @ 3 – 5 p.m. – Theme: My Love Story!!\nTuesday\, September 12 @ 4-5:30 p.m. – Theme: Natsume’s Book of Friends \nTuesday\, October 10 @ 4-5:30 p.m. – Theme: Soul Eater\nTuesday\, November 7 @ 4-5:30 p.m. – Theme: The Girl I Like Forgot Her Glasses\nTuesday\, December 5 @ 4-5:30 p.m. – Theme: Polar Bear Cafe\nTuesday\, January 9 @ 4-5:30 p.m. – Theme: Frieren: Beyond Journey’s End\nTuesday\, February 6 @ 4-5 p.m. – Theme: Horimiya\nMonday\, March 25 @ 6-7:45 p.m.\nMonday\, April 29 @ 6-7:45 p.m.\nMonday\, May 20 @ 6-7:45 p.m.\nMonday\, June 24 @ 6-7:45 p.m.\nMonday\, July 22 @ 6-7:45 p.m.\nMonday\, August 26 @ 6-7:45 p.m.\nMonday\, September 23 @ 6-7:45 p.m.\nMonday\, October 21 @ 6-7:45 p.m.\nMonday\, December 16 @ 6-7:45 p.m.\nSaturday\, December 28 @ 11 a.m.-1:00 p.m.\nSaturday\, January 4 @ 11 a.m.-1 p.m.\nMonday\, January 27 @ 6-7:45 p.m.\nSaturday\, February 1 @ 11 a.m.-1 p.m.\nMonday\, February 24 @ 6-7:45 p.m.\nSaturday\, March 8 @ 11 a.m.- 1 p.m.\nMonday\, March 24 @ 6-7:45 p.m.\nSaturday\, April 5 @ 11 a.m.-1 p.m.\n\n\nDisclaimer: All aspects of in-person programming are subject to change based on health crisis guidelines and procedures.
URL:https://ngrl.devtest.center/event/anime-club-tweens-teens-4/2024-12-28/
LOCATION:Chatsworth-Murray County Public Library\, 706 Old Dalton Ellijay Rd\, Chatsworth\, GA\, 30705\, United States
ATTACH;FMTTYPE=image/png:https://ngrl.devtest.center/wp-content/uploads/2021/09/Teens-Featured.png
ORGANIZER;CN="Chatsworth-Murray County Library":MAILTO:ngrl.librarian@gmail.com
END:VEVENT
END:VCALENDAR