BEGIN:VCALENDAR
VERSION:2.0
PRODID:-//Northwest Georgia Regional Library System - ECPv6.15.17.1//NONSGML v1.0//EN
CALSCALE:GREGORIAN
METHOD:PUBLISH
X-WR-CALNAME:Northwest Georgia Regional Library System
X-ORIGINAL-URL:https://ngrl.devtest.center
X-WR-CALDESC:Events for Northwest Georgia Regional Library System
REFRESH-INTERVAL;VALUE=DURATION:PT1H
X-Robots-Tag:noindex
X-PUBLISHED-TTL:PT1H
BEGIN:VTIMEZONE
TZID:America/New_York
BEGIN:DAYLIGHT
TZOFFSETFROM:-0500
TZOFFSETTO:-0400
TZNAME:EDT
DTSTART:20240310T070000
END:DAYLIGHT
BEGIN:STANDARD
TZOFFSETFROM:-0400
TZOFFSETTO:-0500
TZNAME:EST
DTSTART:20241103T060000
END:STANDARD
BEGIN:DAYLIGHT
TZOFFSETFROM:-0500
TZOFFSETTO:-0400
TZNAME:EDT
DTSTART:20250309T070000
END:DAYLIGHT
BEGIN:STANDARD
TZOFFSETFROM:-0400
TZOFFSETTO:-0500
TZNAME:EST
DTSTART:20251102T060000
END:STANDARD
BEGIN:DAYLIGHT
TZOFFSETFROM:-0500
TZOFFSETTO:-0400
TZNAME:EDT
DTSTART:20260308T070000
END:DAYLIGHT
BEGIN:STANDARD
TZOFFSETFROM:-0400
TZOFFSETTO:-0500
TZNAME:EST
DTSTART:20261101T060000
END:STANDARD
END:VTIMEZONE
BEGIN:VEVENT
DTSTART;TZID=America/New_York:20250628T111500
DTEND;TZID=America/New_York:20250628T121500
DTSTAMP:20260419T232452
CREATED:20240719T111826Z
LAST-MODIFIED:20250821T144613Z
UID:46710-1751109300-1751112900@ngrl.devtest.center
SUMMARY:S.T.E.A.M. Storytime - Children
DESCRIPTION:Open to children 5-12. Join Miss Katya for a story and an experiment. \n\nThursday\, October 24 @ 4 p.m.\nThursday\, November 21 @ 4 p.m.\nThursday\, December 13 @ 4 p.m.\nThursday\, January 10 @ 4 p.m. This month — Paddle Boats\nThursday\, February 21 @ 4 p.m.\nThursday\, March 27 @ 4 p.m.\nThursday\, April 17 @ 4 p.m.\nThursday\, May 23 @ 4 p.m.\nThursday\, June 7 @ 11:15 a.m. (Salad Art Spinner)\nThursday\, June 14 @ 11:15 a.m. (Exploding Art)\nThursday\, June 21 @ 11:15 a.m. (Shadow Art)\nThursday\, June 28 @ 11:15 a.m. (Natural Tie-Dye)\nThursday\, August 7 @ 4 p.m.\nClosed July 4\nThursday\, July 12 @ 11:15 a.m. (Window Clings)\nSaturday\, September 13 @ 11:15 a.m.\n\n\nDisclaimer: All aspects of in-person programming are subject to change based on health crisis guidelines and procedures.
URL:https://ngrl.devtest.center/event/s-t-e-a-m-storytime-children-2-2025-01-10-2025-05-23/2025-06-28/
LOCATION:Calhoun-Gordon County Public Library\, 100 N Park Avenue\, Calhoun\, GA\, 30701\, United States
ATTACH;FMTTYPE=image/png:https://ngrl.devtest.center/wp-content/uploads/2021/09/Kids-Featured.png
END:VEVENT
BEGIN:VEVENT
DTSTART;TZID=America/New_York:20250628T134500
DTEND;TZID=America/New_York:20250628T160000
DTSTAMP:20260419T232452
CREATED:20250519T155157Z
LAST-MODIFIED:20250519T155157Z
UID:47363-1751118300-1751126400@ngrl.devtest.center
SUMMARY:After Hours Slumber Party -- Kids
DESCRIPTION:Open to kids. Come in your bright\, colorful jammies\, watch a movie\, have some snacks and drinks and play some sleepover games. \n\nSaturday\, June 28 @ 1:45 – 4 p.m. K – 2nd grades\nSaturday\, July 19 @ 1:45 – 5 p.m. 3rd – 5th grades\n\nDisclaimer: All aspects of in-person programming are subject to change based on health crisis guidelines and procedures.
URL:https://ngrl.devtest.center/event/after-hours-slumber-party-kids/2025-06-28/
LOCATION:Dalton-Whitfield County Public Library\, 310 Cappes St\, Dalton\, GA\, 30720\, United States
ATTACH;FMTTYPE=image/png:https://ngrl.devtest.center/wp-content/uploads/2021/09/Kids-Featured.png
ORGANIZER;CN="Dalton-Whitfield County Public Library":MAILTO:ngrl.librarian@gmail.com
END:VEVENT
END:VCALENDAR