BEGIN:VCALENDAR
VERSION:2.0
PRODID:-//Northwest Georgia Regional Library System - ECPv6.15.17.1//NONSGML v1.0//EN
CALSCALE:GREGORIAN
METHOD:PUBLISH
X-WR-CALNAME:Northwest Georgia Regional Library System
X-ORIGINAL-URL:https://ngrl.devtest.center
X-WR-CALDESC:Events for Northwest Georgia Regional Library System
REFRESH-INTERVAL;VALUE=DURATION:PT1H
X-Robots-Tag:noindex
X-PUBLISHED-TTL:PT1H
BEGIN:VTIMEZONE
TZID:America/New_York
BEGIN:DAYLIGHT
TZOFFSETFROM:-0500
TZOFFSETTO:-0400
TZNAME:EDT
DTSTART:20240310T070000
END:DAYLIGHT
BEGIN:STANDARD
TZOFFSETFROM:-0400
TZOFFSETTO:-0500
TZNAME:EST
DTSTART:20241103T060000
END:STANDARD
BEGIN:DAYLIGHT
TZOFFSETFROM:-0500
TZOFFSETTO:-0400
TZNAME:EDT
DTSTART:20250309T070000
END:DAYLIGHT
BEGIN:STANDARD
TZOFFSETFROM:-0400
TZOFFSETTO:-0500
TZNAME:EST
DTSTART:20251102T060000
END:STANDARD
BEGIN:DAYLIGHT
TZOFFSETFROM:-0500
TZOFFSETTO:-0400
TZNAME:EDT
DTSTART:20260308T070000
END:DAYLIGHT
BEGIN:STANDARD
TZOFFSETFROM:-0400
TZOFFSETTO:-0500
TZNAME:EST
DTSTART:20261101T060000
END:STANDARD
END:VTIMEZONE
BEGIN:VEVENT
DTSTART;TZID=America/New_York:20250620T103000
DTEND;TZID=America/New_York:20250620T113000
DTSTAMP:20260419T102334
CREATED:20230220T191140Z
LAST-MODIFIED:20250821T134434Z
UID:46728-1750415400-1750419000@ngrl.devtest.center
SUMMARY:Zumba -- Adults
DESCRIPTION:Open to ages 18 and older. Get your heart pumping with this Latin music-based workout led by Nancy Guzman. \n\nWeekly on Fridays @ 10:30 a.m. \n\n  \n\nThursday\, December 14 @10:30 a.m.\nFriday\, December 1\, 8 and 29 @ 10:30 a.m.\nFriday\, September 13 & 27 @ 10:30 a.m.\nFriday\, October 11 & 25 @ 10:30 a.m.\nFriday\, November 8 & 22 @ 10:30 a.m.\nFriday\, December 6 & 20 @ 10:30 a.m.\nFriday\, January 10\, 24 & 31 @ 10:30 a.m.\nFridays in February @ 10:30 a.m.\nFriday May 2\, 16 & 30 at 10:30 a.m.\nFriday\, June 6 & 20 @ 10:30 a.m.\nFriday\, July 18 @ 10:30\nFriday\, August 8 & 22 @ 10:30 a.m.\nFriday\, September 5 & 19 @ 10:30 a.m.\n\nDisclaimer: All aspects of in-person programming are subject to change based on health crisis guidelines and procedures.
URL:https://ngrl.devtest.center/event/zumba-adults-2025-05-02/2025-06-20/
LOCATION:Calhoun-Gordon County Public Library\, 100 N Park Avenue\, Calhoun\, GA\, 30701\, United States
ATTACH;FMTTYPE=image/png:https://ngrl.devtest.center/wp-content/uploads/2021/09/Adults-Featured.png
END:VEVENT
BEGIN:VEVENT
DTSTART;TZID=America/New_York:20250620T103000
DTEND;TZID=America/New_York:20250620T113000
DTSTAMP:20260419T102334
CREATED:20241022T124551Z
LAST-MODIFIED:20260320T171152Z
UID:46662-1750415400-1750419000@ngrl.devtest.center
SUMMARY:Veterans Coffee -- Adults
DESCRIPTION:Open to adults 19 and older. Vets are invited to join this social coffee hour in our history room. \n\nFridays @ 10:30 a.m.\n\nNo Veterans coffee November 28 \nNo Veterans coffee December 26 \nDisclaimer: All aspects of in-person programming are subject to change based on health crisis guidelines and procedures.
URL:https://ngrl.devtest.center/event/veterans-coffee-adults-2025-05-02/2025-06-20/
LOCATION:Calhoun-Gordon County Public Library\, 100 N Park Avenue\, Calhoun\, GA\, 30701\, United States
ATTACH;FMTTYPE=image/png:https://ngrl.devtest.center/wp-content/uploads/2021/09/Adults-Featured.png
END:VEVENT
BEGIN:VEVENT
DTSTART;TZID=America/New_York:20250620T150000
DTEND;TZID=America/New_York:20250620T160000
DTSTAMP:20260419T102334
CREATED:20250521T131908Z
LAST-MODIFIED:20250521T193653Z
UID:47866-1750431600-1750435200@ngrl.devtest.center
SUMMARY:Decorating Dog Treats -- All Ages
DESCRIPTION:Open to all ages. Friday afternoon is love your four-legged friend afternoon. Start with Decorating Dog Treats and then spend some time with puppies. \n\nFriday\, June 20 @ 3 p.m.\nFriday\, June 20 @ 4 p.m.\n\nDisclaimer: All aspects of in-person programming are subject to change based on health crisis guidelines and procedures.
URL:https://ngrl.devtest.center/event/decorating-dog-treats-all-ages/
LOCATION:Calhoun-Gordon County Public Library\, 100 N Park Avenue\, Calhoun\, GA\, 30701\, United States
ATTACH;FMTTYPE=image/png:https://ngrl.devtest.center/wp-content/uploads/2021/09/All-Ages-Featured.png
END:VEVENT
BEGIN:VEVENT
DTSTART;TZID=America/New_York:20250620T150000
DTEND;TZID=America/New_York:20250620T170000
DTSTAMP:20260419T102334
CREATED:20240124T163413Z
LAST-MODIFIED:20260323T182131Z
UID:46571-1750431600-1750438800@ngrl.devtest.center
SUMMARY:LEGOs @ the Library
DESCRIPTION:Open to pre-K to 5th grade. Kids can play with our big collection of LEGO® and Duplo® bricks. Drop in and try a different LEGO® challenge each week or just enjoy some building time. \n\nFridays @ 3 – 5 p.m.\nNo Legos December 26\nNo Legos April 3\n\nDisclaimer: All aspects of in-person programming are subject to change based on health crisis guidelines and procedures.
URL:https://ngrl.devtest.center/event/legos-the-library/2025-06-20/
LOCATION:Dalton-Whitfield County Public Library\, 310 Cappes St\, Dalton\, GA\, 30720\, United States
ORGANIZER;CN="Dalton-Whitfield County Public Library":MAILTO:ngrl.librarian@gmail.com
END:VEVENT
BEGIN:VEVENT
DTSTART;TZID=America/New_York:20250620T150000
DTEND;TZID=America/New_York:20250620T170000
DTSTAMP:20260419T102334
CREATED:20250417T150847Z
LAST-MODIFIED:20250923T182735Z
UID:47913-1750431600-1750438800@ngrl.devtest.center
SUMMARY:Plant Swap -- Adults
DESCRIPTION:Open to adults. Bring a plant and take a plant. We’ll set up on our outdoor patio and light refreshments will be provided. \n\nSaturday\, May 3 @ 10 a.m.-1:30 p.m.\nFriday\, June 20 @ 3 – 5 p.m.\nSaturday\, September 13 @ 10 a.m. to 1 p.m.\nSaturday\, October 11 @ 10 a.m.-1 p.m.\n\nDisclaimer: All aspects of in-person programming are subject to change based on health crisis guidelines and procedures.
URL:https://ngrl.devtest.center/event/plant-swap-adults-2/2025-06-20/
LOCATION:Chatsworth-Murray County Public Library\, 706 Old Dalton Ellijay Rd\, Chatsworth\, GA\, 30705\, United States
ATTACH;FMTTYPE=image/png:https://ngrl.devtest.center/wp-content/uploads/2021/09/Adults-Featured.png
ORGANIZER;CN="Chatsworth-Murray County Library":MAILTO:ngrl.librarian@gmail.com
END:VEVENT
BEGIN:VEVENT
DTSTART;TZID=America/New_York:20250620T150000
DTEND;TZID=America/New_York:20250620T170000
DTSTAMP:20260419T102334
CREATED:20250519T140118Z
LAST-MODIFIED:20250519T140118Z
UID:47315-1750431600-1750438800@ngrl.devtest.center
SUMMARY:TnT Summer Art Club -- Tweens and Teens
DESCRIPTION:Open to 6th – 12th grades. The Summer Art Club is for tweens and teens who come together to create fun\, casual art or work on more detailed pieces for a special art gallery showing at the end of the summer. All supplies provided. \n\nFridays in June and July @ 3-5 p.m.\n\nDisclaimer: All aspects of in-person programming are subject to change based on health crisis guidelines and procedures.
URL:https://ngrl.devtest.center/event/tnt-summer-art-club-tweens-and-teens-2/2025-06-20/
LOCATION:Dalton-Whitfield County Public Library\, 310 Cappes St\, Dalton\, GA\, 30720\, United States
ATTACH;FMTTYPE=image/png:https://ngrl.devtest.center/wp-content/uploads/2021/09/Teens-Featured.png
ORGANIZER;CN="Dalton-Whitfield County Public Library":MAILTO:ngrl.librarian@gmail.com
END:VEVENT
BEGIN:VEVENT
DTSTART;TZID=America/New_York:20250620T160000
DTEND;TZID=America/New_York:20250620T170000
DTSTAMP:20260419T102334
CREATED:20250515T141824Z
LAST-MODIFIED:20260318T200551Z
UID:46640-1750435200-1750438800@ngrl.devtest.center
SUMMARY:Barks & Books -- Kids
DESCRIPTION:Open to all ages. Children of all ages can come and enjoy time reading with local therapy dogs at the library! \n  \n\nFriday\, January 16 @ 4-5 p.m.\nFriday\, February 20 @ 4-5 p.m.\nFriday\, March 20 @ 4-5 p.m.\nFriday\, April 17 @ 4-5 p.m.\n\nDisclaimer: All aspects of in-person programming are subject to change based on health crisis guidelines and procedures.
URL:https://ngrl.devtest.center/event/barks-books-kids/2025-06-20/
LOCATION:Chatsworth-Murray County Public Library\, 706 Old Dalton Ellijay Rd\, Chatsworth\, GA\, 30705\, United States
ATTACH;FMTTYPE=image/png:https://ngrl.devtest.center/wp-content/uploads/2021/09/Kids-Featured.png
ORGANIZER;CN="Chatsworth-Murray County Library":MAILTO:ngrl.librarian@gmail.com
END:VEVENT
BEGIN:VEVENT
DTSTART;TZID=America/New_York:20250620T160000
DTEND;TZID=America/New_York:20250620T170000
DTSTAMP:20260419T102334
CREATED:20250521T194035Z
LAST-MODIFIED:20250521T194035Z
UID:47952-1750435200-1750438800@ngrl.devtest.center
SUMMARY:Afternoon with Pups -- All Ages
DESCRIPTION:Open to all ages. Friday afternoon is love your four-legged friend afternoon. Start with Decorating Dog Treats and then spend some time with puppies. \n\nFriday\, June 20 @ 3 p.m. Decorating Dog Treats\nFriday\, June 20 @ 4 p.m. Afternoon with Pup\n\nDisclaimer: All aspects of in-person programming are subject to change based on health crisis guidelines and procedures.
URL:https://ngrl.devtest.center/event/afternoon-with-pups-all-ages/
LOCATION:Calhoun-Gordon County Public Library\, 100 N Park Avenue\, Calhoun\, GA\, 30701\, United States
ATTACH;FMTTYPE=image/png:https://ngrl.devtest.center/wp-content/uploads/2021/09/All-Ages-Featured.png
END:VEVENT
END:VCALENDAR