BEGIN:VCALENDAR
VERSION:2.0
PRODID:-//Northwest Georgia Regional Library System - ECPv6.15.17.1//NONSGML v1.0//EN
CALSCALE:GREGORIAN
METHOD:PUBLISH
X-WR-CALNAME:Northwest Georgia Regional Library System
X-ORIGINAL-URL:https://ngrl.devtest.center
X-WR-CALDESC:Events for Northwest Georgia Regional Library System
REFRESH-INTERVAL;VALUE=DURATION:PT1H
X-Robots-Tag:noindex
X-PUBLISHED-TTL:PT1H
BEGIN:VTIMEZONE
TZID:America/New_York
BEGIN:DAYLIGHT
TZOFFSETFROM:-0500
TZOFFSETTO:-0400
TZNAME:EDT
DTSTART:20240310T070000
END:DAYLIGHT
BEGIN:STANDARD
TZOFFSETFROM:-0400
TZOFFSETTO:-0500
TZNAME:EST
DTSTART:20241103T060000
END:STANDARD
BEGIN:DAYLIGHT
TZOFFSETFROM:-0500
TZOFFSETTO:-0400
TZNAME:EDT
DTSTART:20250309T070000
END:DAYLIGHT
BEGIN:STANDARD
TZOFFSETFROM:-0400
TZOFFSETTO:-0500
TZNAME:EST
DTSTART:20251102T060000
END:STANDARD
BEGIN:DAYLIGHT
TZOFFSETFROM:-0500
TZOFFSETTO:-0400
TZNAME:EDT
DTSTART:20260308T070000
END:DAYLIGHT
BEGIN:STANDARD
TZOFFSETFROM:-0400
TZOFFSETTO:-0500
TZNAME:EST
DTSTART:20261101T060000
END:STANDARD
END:VTIMEZONE
BEGIN:VEVENT
DTSTART;TZID=America/New_York:20250607T100000
DTEND;TZID=America/New_York:20250607T130000
DTSTAMP:20260419T214055
CREATED:20221227T185107Z
LAST-MODIFIED:20260323T181532Z
UID:46582-1749290400-1749301200@ngrl.devtest.center
SUMMARY:Friends of the Library Book Sale -- All Ages
DESCRIPTION:Open to all ages. \nPlease come join us and see what the Friends of the Library Book Sale has to offer. We have thousands of used books as well as audiobooks and equipment available for sale for reduced prices. Proceeds of the sale go to benefit the Dalton-Whitfield County Public Library’s staff\, programs\, and collections. \n\nFirst Saturday of each month\, excluding holidays\, @ 10 a.m. – 1 p.m.\nSaturday\, April 11 @ 10 a.m.-1 p.m.\n\nNo sale Easter weekend. \nWe look forward to seeing you there!
URL:https://ngrl.devtest.center/event/friends-of-the-library-book-sale-all-ages-4-2025-05-03-2025-06-07/2025-06-07/
LOCATION:Dalton-Whitfield County Public Library\, 310 Cappes St\, Dalton\, GA\, 30720\, United States
ATTACH;FMTTYPE=image/png:https://ngrl.devtest.center/wp-content/uploads/2021/09/All-Ages-Featured.png
ORGANIZER;CN="Dalton-Whitfield County Public Library":MAILTO:ngrl.librarian@gmail.com
END:VEVENT
BEGIN:VEVENT
DTSTART;TZID=America/New_York:20250607T103000
DTEND;TZID=America/New_York:20250607T130000
DTSTAMP:20260419T214055
CREATED:20250519T152255Z
LAST-MODIFIED:20250519T152856Z
UID:47350-1749292200-1749301200@ngrl.devtest.center
SUMMARY:Citizenship Course Pt. 1 -- Adults
DESCRIPTION:Open to adults 19 and older. This course helps individuals prepare for the citizenship exam and interviews. Presented by Maria Guijon. \n\nSaturday\, June 7 @ 10:30 a.m. to 1 p.m. Pt. 1\nSaturday\, June 14  @ 10:30 a.m. to 1 p.m. Pt. 2\n\nDisclaimer: All aspects of in-person programming are subject to change based on health crisis guidelines and procedures.
URL:https://ngrl.devtest.center/event/citizenship-course-adults-2025-06-14/
LOCATION:Dalton-Whitfield County Public Library\, 310 Cappes St\, Dalton\, GA\, 30720\, United States
ATTACH;FMTTYPE=image/png:https://ngrl.devtest.center/wp-content/uploads/2021/09/Adults-Featured.png
ORGANIZER;CN="Dalton-Whitfield County Public Library":MAILTO:ngrl.librarian@gmail.com
END:VEVENT
BEGIN:VEVENT
DTSTART;TZID=America/New_York:20250607T111500
DTEND;TZID=America/New_York:20250607T121500
DTSTAMP:20260419T214055
CREATED:20240719T111826Z
LAST-MODIFIED:20250821T144612Z
UID:46010-1749294900-1749298500@ngrl.devtest.center
SUMMARY:S.T.E.A.M. Storytime - Children
DESCRIPTION:Open to children 5-12. Join Miss Katya for a story and an experiment. \n\nThursday\, October 24 @ 4 p.m.\nThursday\, November 21 @ 4 p.m.\nThursday\, December 13 @ 4 p.m.\nThursday\, January 10 @ 4 p.m. This month — Paddle Boats\nThursday\, February 21 @ 4 p.m.\nThursday\, March 27 @ 4 p.m.\nThursday\, April 17 @ 4 p.m.\nThursday\, May 23 @ 4 p.m.\nThursday\, June 7 @ 11:15 a.m. (Salad Art Spinner)\nThursday\, June 14 @ 11:15 a.m. (Exploding Art)\nThursday\, June 21 @ 11:15 a.m. (Shadow Art)\nThursday\, June 28 @ 11:15 a.m. (Natural Tie-Dye)\nThursday\, August 7 @ 4 p.m.\nClosed July 4\nThursday\, July 12 @ 11:15 a.m. (Window Clings)\nSaturday\, September 13 @ 11:15 a.m.\n\n\nDisclaimer: All aspects of in-person programming are subject to change based on health crisis guidelines and procedures.
URL:https://ngrl.devtest.center/event/s-t-e-a-m-storytime-children-2-2025-01-10-2025-05-23/2025-06-07/
LOCATION:Calhoun-Gordon County Public Library\, 100 N Park Avenue\, Calhoun\, GA\, 30701\, United States
ATTACH;FMTTYPE=image/png:https://ngrl.devtest.center/wp-content/uploads/2021/09/Kids-Featured.png
END:VEVENT
END:VCALENDAR