BEGIN:VCALENDAR
VERSION:2.0
PRODID:-//Northwest Georgia Regional Library System - ECPv6.15.17.1//NONSGML v1.0//EN
CALSCALE:GREGORIAN
METHOD:PUBLISH
X-ORIGINAL-URL:https://ngrl.devtest.center
X-WR-CALDESC:Events for Northwest Georgia Regional Library System
REFRESH-INTERVAL;VALUE=DURATION:PT1H
X-Robots-Tag:noindex
X-PUBLISHED-TTL:PT1H
BEGIN:VTIMEZONE
TZID:America/New_York
BEGIN:DAYLIGHT
TZOFFSETFROM:-0500
TZOFFSETTO:-0400
TZNAME:EDT
DTSTART:20240310T070000
END:DAYLIGHT
BEGIN:STANDARD
TZOFFSETFROM:-0400
TZOFFSETTO:-0500
TZNAME:EST
DTSTART:20241103T060000
END:STANDARD
BEGIN:DAYLIGHT
TZOFFSETFROM:-0500
TZOFFSETTO:-0400
TZNAME:EDT
DTSTART:20250309T070000
END:DAYLIGHT
BEGIN:STANDARD
TZOFFSETFROM:-0400
TZOFFSETTO:-0500
TZNAME:EST
DTSTART:20251102T060000
END:STANDARD
BEGIN:DAYLIGHT
TZOFFSETFROM:-0500
TZOFFSETTO:-0400
TZNAME:EDT
DTSTART:20260308T070000
END:DAYLIGHT
BEGIN:STANDARD
TZOFFSETFROM:-0400
TZOFFSETTO:-0500
TZNAME:EST
DTSTART:20261101T060000
END:STANDARD
END:VTIMEZONE
BEGIN:VEVENT
DTSTART;TZID=America/New_York:20250405T100000
DTEND;TZID=America/New_York:20250405T130000
DTSTAMP:20260419T185754
CREATED:20221227T185107Z
LAST-MODIFIED:20250417T155448Z
UID:44212-1743847200-1743858000@ngrl.devtest.center
SUMMARY:Friends of the Library Book Sale -- All Ages
DESCRIPTION:Open to all ages. \nPlease come join us and see what the Friends of the Library Book Sale has to offer. We have thousands of used books as well as audiobooks and equipment available for sale for reduced prices. Proceeds of the sale go to benefit the Dalton-Whitfield County Public Library’s staff\, programs\, and collections. \n\nFirst Saturday of each month\, excluding holidays\, @ 10 a.m. – 1 p.m.\n\nWe look forward to seeing you there!
URL:https://ngrl.devtest.center/event/friends-of-the-library-book-sale-all-ages-4/2025-04-05/
LOCATION:Dalton-Whitfield County Public Library\, 310 Cappes St\, Dalton\, GA\, 30720\, United States
ATTACH;FMTTYPE=image/png:https://ngrl.devtest.center/wp-content/uploads/2021/09/All-Ages-Featured.png
ORGANIZER;CN="Dalton-Whitfield County Public Library":MAILTO:ngrl.librarian@gmail.com
END:VEVENT
BEGIN:VEVENT
DTSTART;TZID=America/New_York:20250405T103000
DTEND;TZID=America/New_York:20250405T113000
DTSTAMP:20260419T185754
CREATED:20250324T132210Z
LAST-MODIFIED:20250324T132210Z
UID:44196-1743849000-1743852600@ngrl.devtest.center
SUMMARY:Plant Swap -- Adults
DESCRIPTION:Open to adults 18 and older. Join us for a chance to swap plants with other gardening lovers. \n\nSaturday\, April 5 @ 10:30\n\nDisclaimer: All aspects of in-person programming are subject to change based on health crisis guidelines and procedures.
URL:https://ngrl.devtest.center/event/plant-swap-adults/
LOCATION:Calhoun-Gordon County Public Library\, 100 N Park Avenue\, Calhoun\, GA\, 30701\, United States
ATTACH;FMTTYPE=image/png:https://ngrl.devtest.center/wp-content/uploads/2021/09/Adults-Featured.png
END:VEVENT
BEGIN:VEVENT
DTSTART;TZID=America/New_York:20250405T103000
DTEND;TZID=America/New_York:20250405T113000
DTSTAMP:20260419T185754
CREATED:20250324T132709Z
LAST-MODIFIED:20250324T132709Z
UID:44198-1743849000-1743852600@ngrl.devtest.center
SUMMARY:Family Lego -- All Ages
DESCRIPTION:Open to all ages. Bring the whole family for a morning of building fun with Legos. \n\nSaturday\, April 5 @ 10:30 a.m.\n\nDisclaimer: All aspects of in-person programming are subject to change based on health crisis guidelines and procedures.
URL:https://ngrl.devtest.center/event/family-lego-all-ages-2/
LOCATION:Calhoun-Gordon County Public Library\, 100 N Park Avenue\, Calhoun\, GA\, 30701\, United States
ATTACH;FMTTYPE=image/png:https://ngrl.devtest.center/wp-content/uploads/2021/09/All-Ages-Featured.png
END:VEVENT
BEGIN:VEVENT
DTSTART;TZID=America/New_York:20250405T103000
DTEND;TZID=America/New_York:20250405T130000
DTSTAMP:20260419T185754
CREATED:20250324T184219Z
LAST-MODIFIED:20260323T192940Z
UID:44770-1743849000-1743858000@ngrl.devtest.center
SUMMARY:Citizenship Course Part 1 & 2 -- Adults (Bilingual)
DESCRIPTION:Open to adults. This course helps individuals prepare for the citizenship exam and interview. Presented by Maria Guijon. \n  \n\nSaturday\, February 7 @ 10:30 a.m. – 1:30 Part 1\nSaturday\, February 21 @ 10:30 a.m. – 1:30 Part 2\nSaturday\, April 11 @ 10:30 a.m. – 1:30 Part 1\nSaturday\, April 18 @ 10:30 a.m. – 1:30 Part 2\n\nDisclaimer: All aspects of in-person programming are subject to change based on health crisis guidelines and procedures.
URL:https://ngrl.devtest.center/event/citizenship-course-part-1-adults-bilingual-2/2025-04-05/
LOCATION:Dalton-Whitfield County Public Library\, 310 Cappes St\, Dalton\, GA\, 30720\, United States
ATTACH;FMTTYPE=image/png:https://ngrl.devtest.center/wp-content/uploads/2021/09/Adults-Featured.png
ORGANIZER;CN="Dalton-Whitfield County Public Library":MAILTO:ngrl.librarian@gmail.com
END:VEVENT
BEGIN:VEVENT
DTSTART;TZID=America/New_York:20250405T110000
DTEND;TZID=America/New_York:20250405T130000
DTSTAMP:20260419T185754
CREATED:20221227T185954Z
LAST-MODIFIED:20221227T185954Z
UID:43627-1743850800-1743858000@ngrl.devtest.center
SUMMARY:Anime Club -- Tweens & Teens
DESCRIPTION:Open to 6th-12th grades. Come hang out with your friends in grades 6-12 at the Chatsworth-Murray County Public Library. Enjoy discussing and watching some of your favorite shows with other fans! \n\nTuesday\, January 10 @ 3 – 5 p.m.\nTuesday\, February 14 @ 3 – 5 p.m. – Theme: Demon Slayer\nTuesday\, March 14 @ 3 – 5 p.m. – Theme: Fruits Basket\nTuesday\, April 11 @ 3 – 5 p.m. – Theme: Haikyu!\nTuesday\, May 9 @ 3 – 5 p.m. – Theme: Dr. Stone\nMonday\, June 5 @ 3 – 5 p.m. – Theme: Kaguya-Sama Love Is War\nWednesday\, July 19 @ 3 – 5 p.m. – Theme: Ace Attorney\nTuesday\, August 8 @ 3 – 5 p.m. – Theme: My Love Story!!\nTuesday\, September 12 @ 4-5:30 p.m. – Theme: Natsume’s Book of Friends \nTuesday\, October 10 @ 4-5:30 p.m. – Theme: Soul Eater\nTuesday\, November 7 @ 4-5:30 p.m. – Theme: The Girl I Like Forgot Her Glasses\nTuesday\, December 5 @ 4-5:30 p.m. – Theme: Polar Bear Cafe\nTuesday\, January 9 @ 4-5:30 p.m. – Theme: Frieren: Beyond Journey’s End\nTuesday\, February 6 @ 4-5 p.m. – Theme: Horimiya\nMonday\, March 25 @ 6-7:45 p.m.\nMonday\, April 29 @ 6-7:45 p.m.\nMonday\, May 20 @ 6-7:45 p.m.\nMonday\, June 24 @ 6-7:45 p.m.\nMonday\, July 22 @ 6-7:45 p.m.\nMonday\, August 26 @ 6-7:45 p.m.\nMonday\, September 23 @ 6-7:45 p.m.\nMonday\, October 21 @ 6-7:45 p.m.\nMonday\, December 16 @ 6-7:45 p.m.\nSaturday\, December 28 @ 11 a.m.-1:00 p.m.\nSaturday\, January 4 @ 11 a.m.-1 p.m.\nMonday\, January 27 @ 6-7:45 p.m.\nSaturday\, February 1 @ 11 a.m.-1 p.m.\nMonday\, February 24 @ 6-7:45 p.m.\nSaturday\, March 8 @ 11 a.m.- 1 p.m.\nMonday\, March 24 @ 6-7:45 p.m.\nSaturday\, April 5 @ 11 a.m.-1 p.m.\n\n\nDisclaimer: All aspects of in-person programming are subject to change based on health crisis guidelines and procedures.
URL:https://ngrl.devtest.center/event/anime-club-tweens-teens-4/2025-04-05/
LOCATION:Chatsworth-Murray County Public Library\, 706 Old Dalton Ellijay Rd\, Chatsworth\, GA\, 30705\, United States
ATTACH;FMTTYPE=image/png:https://ngrl.devtest.center/wp-content/uploads/2021/09/Teens-Featured.png
ORGANIZER;CN="Chatsworth-Murray County Library":MAILTO:ngrl.librarian@gmail.com
END:VEVENT
BEGIN:VEVENT
DTSTART;TZID=America/New_York:20250405T111500
DTEND;TZID=America/New_York:20250405T121500
DTSTAMP:20260419T185754
CREATED:20250324T145252Z
LAST-MODIFIED:20250324T145252Z
UID:44210-1743851700-1743855300@ngrl.devtest.center
SUMMARY:Getting Your Book Published with Vickie McEntire -- Adults
DESCRIPTION:Open to adults 18 and older. Vickie McEntire will off tips on getting your book published. \n\nSaturday\, April 5 @ 11:15 a.m.-12:15p.m.\n\nDisclaimer: All aspects of in-person programming are subject to change based on health crisis guidelines and procedures.
URL:https://ngrl.devtest.center/event/getting-your-book-published-with-vickie-mcentire-adults/
LOCATION:Calhoun-Gordon County Public Library\, 100 N Park Avenue\, Calhoun\, GA\, 30701\, United States
ATTACH;FMTTYPE=image/png:https://ngrl.devtest.center/wp-content/uploads/2021/09/Adults-Featured.png
END:VEVENT
END:VCALENDAR