BEGIN:VCALENDAR
VERSION:2.0
PRODID:-//Northwest Georgia Regional Library System - ECPv6.15.17.1//NONSGML v1.0//EN
CALSCALE:GREGORIAN
METHOD:PUBLISH
X-WR-CALNAME:Northwest Georgia Regional Library System
X-ORIGINAL-URL:https://ngrl.devtest.center
X-WR-CALDESC:Events for Northwest Georgia Regional Library System
REFRESH-INTERVAL;VALUE=DURATION:PT1H
X-Robots-Tag:noindex
X-PUBLISHED-TTL:PT1H
BEGIN:VTIMEZONE
TZID:America/New_York
BEGIN:DAYLIGHT
TZOFFSETFROM:-0500
TZOFFSETTO:-0400
TZNAME:EDT
DTSTART:20240310T070000
END:DAYLIGHT
BEGIN:STANDARD
TZOFFSETFROM:-0400
TZOFFSETTO:-0500
TZNAME:EST
DTSTART:20241103T060000
END:STANDARD
BEGIN:DAYLIGHT
TZOFFSETFROM:-0500
TZOFFSETTO:-0400
TZNAME:EDT
DTSTART:20250309T070000
END:DAYLIGHT
BEGIN:STANDARD
TZOFFSETFROM:-0400
TZOFFSETTO:-0500
TZNAME:EST
DTSTART:20251102T060000
END:STANDARD
BEGIN:DAYLIGHT
TZOFFSETFROM:-0500
TZOFFSETTO:-0400
TZNAME:EDT
DTSTART:20260308T070000
END:DAYLIGHT
BEGIN:STANDARD
TZOFFSETFROM:-0400
TZOFFSETTO:-0500
TZNAME:EST
DTSTART:20261101T060000
END:STANDARD
END:VTIMEZONE
BEGIN:VEVENT
DTSTART;TZID=America/New_York:20250327T100000
DTEND;TZID=America/New_York:20250327T230000
DTSTAMP:20260420T072204
CREATED:20250123T194748Z
LAST-MODIFIED:20250321T115427Z
UID:42007-1743069600-1743116400@ngrl.devtest.center
SUMMARY:AARP Tax Prep -- Adults
DESCRIPTION:Open to adults 19 and older. AARP will be here to help those in need of aid with their taxes. \n\nTuesdays and Thursdays in February @ 10 a.m.\nTuesday\, April 1\, 8 & 15 @ 10 a.m.\nThursday\, April 3 & 10 @ 10 a.m.\n\nDisclaimer: All aspects of in-person programming are subject to change based on health crisis guidelines and procedures.
URL:https://ngrl.devtest.center/event/aarp-tax-prep-adults/2025-03-27/
LOCATION:Calhoun-Gordon County Public Library\, 100 N Park Avenue\, Calhoun\, GA\, 30701\, United States
ATTACH;FMTTYPE=image/png:https://ngrl.devtest.center/wp-content/uploads/2021/09/Adults-Featured.png
END:VEVENT
BEGIN:VEVENT
DTSTART;TZID=America/New_York:20250327T103000
DTEND;TZID=America/New_York:20250327T113000
DTSTAMP:20260420T072204
CREATED:20240719T111111Z
LAST-MODIFIED:20250428T142417Z
UID:42369-1743071400-1743075000@ngrl.devtest.center
SUMMARY:Baby Lapsit - Children
DESCRIPTION:New parents are welcome to come learn to communicate and read with your baby. \n\nThursdays @ 10:30 a.m.\nThursday\, December 12 & 19 @ 10:30 a.m.\nThursdays in January @ 10:30 a.m.\nThursdays in February @ 10:30 a.m.\nThursdays in March @ 10:30 a.m.\nThursdays in April @ 10:30 a.m.\nThursday in May @ 10:30 a.m.\n\nDisclaimer: All aspects of in-person programming are subject to change based on health crisis guidelines and procedures.
URL:https://ngrl.devtest.center/event/baby-lapis-children/2025-03-27/
LOCATION:Calhoun-Gordon County Public Library\, 100 N Park Avenue\, Calhoun\, GA\, 30701\, United States
ATTACH;FMTTYPE=image/png:https://ngrl.devtest.center/wp-content/uploads/2021/09/Kids-Featured.png
END:VEVENT
BEGIN:VEVENT
DTSTART;TZID=America/New_York:20250327T110000
DTEND;TZID=America/New_York:20250327T120000
DTSTAMP:20260420T072204
CREATED:20231219T164608Z
LAST-MODIFIED:20250820T144156Z
UID:42931-1743073200-1743076800@ngrl.devtest.center
SUMMARY:Beginner ESOL (Spanish Translator) - Adults
DESCRIPTION:Open to ages 18 and older. Practice and learn the English language with Dalton State Professor Dr. Brian Hibbs  Spanish translator will be present. \n\nTuesday\, January 9 & 23 @ 4 p.m.\nTuesday\, March 5 & 19 @ 4 p.m.\nTuesday\, March 2\, 16 and 30 @ 4 p.m.\nTuesday\, May 7 @ 4 p.m.\nTuesday\, May 14 @ 4 p.m.\nTuesday\, May 21 @ 4:30 p.m.\nTuesday\, May 28 @ 4:30 p.m.\nTuesday\, June 4 @ 4:30 p.m.\nWednesdays in September @ 11 a.m.\nWednesdays in October @ 11 a.m.\nWednesdays in January @ 11 a.m.\nThursdays in February @ 11 a.m.\nThursdays in March @ 11 a.m.\nThursdays in April @ 11 a.m.\nThursdays in May @ 11 a.m.\nMonday in August @ 11 a.m.\n\n  \n\nNo Beginner ESOL January 2 & 9 \nNo ESOL May 29\n\nDisclaimer: All aspects of in-person programming are subject to change based on health crisis guidelines and procedures.
URL:https://ngrl.devtest.center/event/beginner-esol-spanish-translator-adults/2025-03-27/
LOCATION:Dalton-Whitfield County Public Library\, 310 Cappes St\, Dalton\, GA\, 30720\, United States
ATTACH;FMTTYPE=image/png:https://ngrl.devtest.center/wp-content/uploads/2021/09/Adults-Featured.png
ORGANIZER;CN="Dalton-Whitfield County Public Library":MAILTO:ngrl.librarian@gmail.com
END:VEVENT
BEGIN:VEVENT
DTSTART;TZID=America/New_York:20250327T160000
DTEND;TZID=America/New_York:20250327T170000
DTSTAMP:20260420T072204
CREATED:20240719T111826Z
LAST-MODIFIED:20250428T173507Z
UID:42429-1743091200-1743094800@ngrl.devtest.center
SUMMARY:S.T.E.A.M. Storytime - Children
DESCRIPTION:Open to children 5-12. Join Miss Katya for a story and an experiment. \n\nThursday\, October 24 @ 4 p.m.\nThursday\, November 21 @ 4 p.m.\nThursday\, December 13 @ 4 p.m.\nThursday\, January 10 @ 4 p.m. This month — Paddle Boats\nThursday\, February 21 @ 4 p.m.\nThursday\, March 27 @ 4 p.m.\nThursday\, April 17 @ 4 p.m.\nThursday\, May 23 @ 4 p.m.\n\nDisclaimer: All aspects of in-person programming are subject to change based on health crisis guidelines and procedures.
URL:https://ngrl.devtest.center/event/s-t-e-a-m-storytime-children-2-2025-01-10/2025-03-27/
LOCATION:Calhoun-Gordon County Public Library\, 100 N Park Avenue\, Calhoun\, GA\, 30701\, United States
ATTACH;FMTTYPE=image/png:https://ngrl.devtest.center/wp-content/uploads/2021/09/Kids-Featured.png
END:VEVENT
BEGIN:VEVENT
DTSTART;TZID=America/New_York:20250327T160000
DTEND;TZID=America/New_York:20250327T180000
DTSTAMP:20260420T072204
CREATED:20221227T185620Z
LAST-MODIFIED:20250428T160053Z
UID:42327-1743091200-1743098400@ngrl.devtest.center
SUMMARY:Dungeons & Dragons -- Tweens & Teens
DESCRIPTION:Open to 6th to 12th grade. Come to this interactive workshop to learn the basics of D&D play and character development led by Steven Bennett. Note: This is an after hours program and the rest of the library may not be open. \n\nWednesday\, January 11 @ 6 – 8 p.m.\nWednesday\, January 25 @ 6 – 8 p.m.\nWednesday\, February 8 @ 6 – 8 p.m.\nWednesday\, February 22 @ 6 – 8 p.m.\nWednesday\, March 8 @ 6 – 8 p.m.\nWednesday\, March 22 @ 6 – 8 p.m.\nThursday\, April 13 @ 6 – 8 p.m.\nThursday\, April 27 @ 6 – 8 p.m.\nThursday\, May 4 @ 6 – 8 p.m.\nThursday\, May 18 @ 6 – 8 p.m.\nThursday\, June 15 @ 6 – 8 p.m.\nThursday\, June 29 @ 6 – 8 p.m.\nThursday\, July 13 @ 6 – 8 p.m.\nThursday\, July 27 @ 6 – 8 p.m.\nThursday\, August 10 @ 6-8 p.m.\nThursday\, August 24 @ 6 -8 p.m.\nThursday\, September 7 @ 6-8 p.m.\nThursday\, September 21 @ 6-8 p.m.\nThursday\, October 5 @ 6 p.m.\nThursday\, October 19 @ 6 p.m.\nThursday\, November 2 @ 6 p.m.\nThursday\, November 16 @ 6 p.m.\nThursday\, November 30 @ 6 p.m.\nThursday\, January 11 @ 6 p.m.\nThursday\, January 25 @ 6 p.m.\nThursday\, February 8 @ 6 p.m.\nThursday\, February 22 @ 6 p.m.\nThursday\, March 7 @ 6 p.m.\nThursday\, March 21 @ 6 p.m.\nWednesdays at 4 p.m. in April\nThursdays in May @ 4 p.m.\nThursdays in June @ 4 p.m.\nThursdays in July @ 4 p.m.\nThursdays in August @ 4 p.m.\nThursdays in February @ 4 p.m.\nThursdays in March @ 4 p.m.\nThursdays in April @ 4 p.m.\nThursdays in May @ 4 p.m.\n\n  \n\nNote: One-shot adventures on the second and fourth Wednesday of each month.\nThursdays in January @ 4 p.m.\n\nDisclaimer: All aspects of in-person programming are subject to change based on health crisis guidelines and procedures.
URL:https://ngrl.devtest.center/event/dungeons-dragons-tweens-teens-3-2024-04-24-2024-05-02/2025-03-27/
LOCATION:Calhoun-Gordon County Public Library\, 100 N Park Avenue\, Calhoun\, GA\, 30701\, United States
ATTACH;FMTTYPE=image/png:https://ngrl.devtest.center/wp-content/uploads/2021/09/Teens-Featured.png
END:VEVENT
BEGIN:VEVENT
DTSTART;TZID=America/New_York:20250327T163000
DTEND;TZID=America/New_York:20250327T173000
DTSTAMP:20260420T072204
CREATED:20240213T163641Z
LAST-MODIFIED:20240213T163641Z
UID:43120-1743093000-1743096600@ngrl.devtest.center
SUMMARY:Pokémon Club: Bingo Night -- All Ages
DESCRIPTION:Open to all ages. While we await the return of the Pokémon League\, trainers and Pokémon fans alike can gather for a weekly meetup to battle\, trade\, and share their love for all things Pokémon. \n\nWeekly on Thursdays at 4:30 pm\nBingo Night on Thursday\, October 31 @ 4:30 p.m.\nBingo Night on Thursday\, December 19 @ 4:30 p.m.\nBingo Night on Thursday\, January 30 @ 4:30 p.m.\nBingo Night on Thursday\, March 27 @ 4:30 p.m.\n\nDisclaimer: All aspects of in-person programming are subject to change based on health crisis guidelines and procedures.
URL:https://ngrl.devtest.center/event/pokemon-club-all-ages-3-2024-05-02-2024-08-29-2024-09-26-2024-10-31/2025-03-27/
LOCATION:Dalton-Whitfield County Public Library\, 310 Cappes St\, Dalton\, GA\, 30720\, United States
ATTACH;FMTTYPE=image/png:https://ngrl.devtest.center/wp-content/uploads/2021/09/All-Ages-Featured.png
ORGANIZER;CN="Dalton-Whitfield County Public Library":MAILTO:ngrl.librarian@gmail.com
END:VEVENT
BEGIN:VEVENT
DTSTART;TZID=America/New_York:20250327T163000
DTEND;TZID=America/New_York:20250327T173000
DTSTAMP:20260420T072204
CREATED:20240213T163641Z
LAST-MODIFIED:20260323T180907Z
UID:44466-1743093000-1743096600@ngrl.devtest.center
SUMMARY:Pokémon Club -- All Ages
DESCRIPTION:Open to all ages. While we await the return of the Pokémon League\, trainers and Pokémon fans alike can gather for a weekly meetup to battle\, trade\, and share their love for all things Pokémon. \n  \n\nDecember 11 @ 4:30 p.m.\nThursdays in January @ 4:30 p.m.\nThursdays in February @ 4:30 p.m.\nThursdays in March @ 4:30 p.m.\nThursdays in April @ 4:30 p.m.\n\n  \n\nThursday\, March 26 @ 4:30 p.m. is Pokémon Bingo Night.\nThursday\, April 30 @ 4:30 p.m. is Pokémon Bingo Night.\n\nDisclaimer: All aspects of in-person programming are subject to change based on health crisis guidelines and procedures.
URL:https://ngrl.devtest.center/event/pokemon-club-all-ages-3-2024-05-02-2025-01-02/2025-03-27/
LOCATION:Dalton-Whitfield County Public Library\, 310 Cappes St\, Dalton\, GA\, 30720\, United States
ATTACH;FMTTYPE=image/png:https://ngrl.devtest.center/wp-content/uploads/2021/09/All-Ages-Featured.png
ORGANIZER;CN="Dalton-Whitfield County Public Library":MAILTO:ngrl.librarian@gmail.com
END:VEVENT
BEGIN:VEVENT
DTSTART;TZID=America/New_York:20250327T173000
DTEND;TZID=America/New_York:20250327T183000
DTSTAMP:20260420T072204
CREATED:20250225T143234Z
LAST-MODIFIED:20250225T143234Z
UID:43209-1743096600-1743100200@ngrl.devtest.center
SUMMARY:Art @ The Library: Bookmarks -- Adults (Translator present)
DESCRIPTION:Open to adults 19 and older. Join us for a creative drawing session at the library as we turn your unique works of art into bookmarks. All Supplies provided. \n\nMonday\, March 24 @ 11:30 a.m.-12:30 p.m.\nThursday\, March 27 @ 5:30-6:30 p.m.\n\nDisclaimer: All aspects of in-person programming are subject to change based on health crisis guidelines and procedures.
URL:https://ngrl.devtest.center/event/art-the-library-bookmarks-adults-translator-present/2025-03-27/
LOCATION:Dalton-Whitfield County Public Library\, 310 Cappes St\, Dalton\, GA\, 30720\, United States
ATTACH;FMTTYPE=image/png:https://ngrl.devtest.center/wp-content/uploads/2021/09/Adults-Featured.png
ORGANIZER;CN="Dalton-Whitfield County Public Library":MAILTO:ngrl.librarian@gmail.com
END:VEVENT
END:VCALENDAR