BEGIN:VCALENDAR
VERSION:2.0
PRODID:-//Northwest Georgia Regional Library System - ECPv6.15.17.1//NONSGML v1.0//EN
CALSCALE:GREGORIAN
METHOD:PUBLISH
X-ORIGINAL-URL:https://ngrl.devtest.center
X-WR-CALDESC:Events for Northwest Georgia Regional Library System
REFRESH-INTERVAL;VALUE=DURATION:PT1H
X-Robots-Tag:noindex
X-PUBLISHED-TTL:PT1H
BEGIN:VTIMEZONE
TZID:America/New_York
BEGIN:DAYLIGHT
TZOFFSETFROM:-0500
TZOFFSETTO:-0400
TZNAME:EDT
DTSTART:20240310T070000
END:DAYLIGHT
BEGIN:STANDARD
TZOFFSETFROM:-0400
TZOFFSETTO:-0500
TZNAME:EST
DTSTART:20241103T060000
END:STANDARD
BEGIN:DAYLIGHT
TZOFFSETFROM:-0500
TZOFFSETTO:-0400
TZNAME:EDT
DTSTART:20250309T070000
END:DAYLIGHT
BEGIN:STANDARD
TZOFFSETFROM:-0400
TZOFFSETTO:-0500
TZNAME:EST
DTSTART:20251102T060000
END:STANDARD
BEGIN:DAYLIGHT
TZOFFSETFROM:-0500
TZOFFSETTO:-0400
TZNAME:EDT
DTSTART:20260308T070000
END:DAYLIGHT
BEGIN:STANDARD
TZOFFSETFROM:-0400
TZOFFSETTO:-0500
TZNAME:EST
DTSTART:20261101T060000
END:STANDARD
END:VTIMEZONE
BEGIN:VEVENT
DTSTART;TZID=America/New_York:20250325T100000
DTEND;TZID=America/New_York:20250325T230000
DTSTAMP:20260420T072122
CREATED:20250123T194748Z
LAST-MODIFIED:20250321T115427Z
UID:42006-1742896800-1742943600@ngrl.devtest.center
SUMMARY:AARP Tax Prep -- Adults
DESCRIPTION:Open to adults 19 and older. AARP will be here to help those in need of aid with their taxes. \n\nTuesdays and Thursdays in February @ 10 a.m.\nTuesday\, April 1\, 8 & 15 @ 10 a.m.\nThursday\, April 3 & 10 @ 10 a.m.\n\nDisclaimer: All aspects of in-person programming are subject to change based on health crisis guidelines and procedures.
URL:https://ngrl.devtest.center/event/aarp-tax-prep-adults/2025-03-25/
LOCATION:Calhoun-Gordon County Public Library\, 100 N Park Avenue\, Calhoun\, GA\, 30701\, United States
ATTACH;FMTTYPE=image/png:https://ngrl.devtest.center/wp-content/uploads/2021/09/Adults-Featured.png
END:VEVENT
BEGIN:VEVENT
DTSTART;TZID=America/New_York:20250325T103000
DTEND;TZID=America/New_York:20250325T113000
DTSTAMP:20260420T072122
CREATED:20221227T185658Z
LAST-MODIFIED:20250428T140601Z
UID:41998-1742898600-1742902200@ngrl.devtest.center
SUMMARY:Noni's Nook Storytime -- Children
DESCRIPTION:Story time for ages 5 and under.  Come in for a fun storytime and craft with Miss Noni. This month we’ll be reading about octopi\, penguins\, quilts\, and robots in books written by Peter Bently\, Karin Akesson\, Philip Stead and more. \n\nTuesdays @ 10:30 a.m.\n\nDisclaimer: All aspects of in-person programming are subject to change based on health crisis guidelines and procedures.
URL:https://ngrl.devtest.center/event/nonis-nook-2023/2025-03-25/
LOCATION:Calhoun-Gordon County Public Library\, 100 N Park Avenue\, Calhoun\, GA\, 30701\, United States
ATTACH;FMTTYPE=image/png:https://ngrl.devtest.center/wp-content/uploads/2021/09/Kids-Featured.png
END:VEVENT
BEGIN:VEVENT
DTSTART;TZID=America/New_York:20250325T110000
DTEND;TZID=America/New_York:20250325T120000
DTSTAMP:20260420T072122
CREATED:20240719T141329Z
LAST-MODIFIED:20250522T160644Z
UID:42303-1742900400-1742904000@ngrl.devtest.center
SUMMARY:Homeschool Meetup - Tweens and Teens
DESCRIPTION:Open to ages. 10-18. Homeschoolers are invited to have some fun making crafts or playing games. \n\nMonday\, August 6 & 20 @ 10:30 a.m.\nTuesday\, September 3 & 17 @ 11 a.m.\nTuesday\, October 8 & 22 @ 11 a.m.\nTuesday\, November 5 & 19 @ 11 a.m.\nTuesday\, December 3 & 17 @ 11 a.m.\nTuesday\, January 14  @ 11 a.m.\nTuesday\, March 11 & 25 @ 11 a.m.\nTuesday\, April 22 @ 11 a.m.\nTuesday\, May 6 & 20 @ 11 a.m.\nTuesday\, June 10 & 24 @ 11 a.m.\nTuesday\, July 8 & 22 @ 11 a.m.\n\nDisclaimer: All aspects of in-person programming are subject to change based on health crisis guidelines and procedures.
URL:https://ngrl.devtest.center/event/homeschool-meetup-tweens-and-teens/2025-03-25/
LOCATION:Calhoun-Gordon County Public Library\, 100 N Park Avenue\, Calhoun\, GA\, 30701\, United States
ATTACH;FMTTYPE=image/png:https://ngrl.devtest.center/wp-content/uploads/2021/09/Teens-Featured.png
END:VEVENT
BEGIN:VEVENT
DTSTART;TZID=America/New_York:20250325T140000
DTEND;TZID=America/New_York:20250325T160000
DTSTAMP:20260420T072122
CREATED:20240124T214854Z
LAST-MODIFIED:20250320T160511Z
UID:41739-1742911200-1742918400@ngrl.devtest.center
SUMMARY:Homeschool Hangout -- Children
DESCRIPTION:Open to all ages. \nEnjoy a chance for homeschooling families to meet at the library. \n\nWednesday\, March 1 @ 3 – 5 p.m.\nMonday\, April 10 @ 3 – 5 p.m.\nFriday\, April 21 @ 3 – 5 p.m.\nWednesday\, May 3 @ 3 – 5 p.m.\nFriday\, May 19 @ 3 – 5 p.m.\nWednesday\, June 7 @ 3 – 5 p.m.\nFriday\, June 16 @ 3 – 5 p.m.\nWednesday\, July 5 @ 3 – 5 p.m.\nFriday\, July 21 @ 3 – 5 p.m.\nWednesday\, August 2 @ 3 – 5 p.m.\nFriday\, August 18 @ 3 – 5 p.m.\nWednesday\, September 6 @ 3-5 p.m.\nFriday\, September 15 @ 3-5 p.m.\nWednesday\, October 4 @ 3-5 p.m.\nFriday\, October 20 @ 2-4 p.m.\nWednesday\, November 1 @ 3-5 p.m.\nFriday\, November 17 @ 2-4 p.m.\nWednesday\, December 6 @ 3-5 p.m.\nFriday\, December 15 @ 2-4 p.m.\nWednesday\, January 3 @ 10 a.m. – noon\nFriday\, January 19 @ 2-4 p.m.\nWednesday\, February 7 @ 10 a.m. – noon\nFriday\, February 16 @ 2-4 p.m.\nTuesday\, March 5 @ 2-4 p.m.\nFriday\, March 15 @ 2-4 p.m.\nTuesday\, April 2 @ 2-4 p.m.\nFriday\, April 19 @ 2-4 p.m.\nTuesday\, May 7 @ 2-4 p.m.\nFriday\, May 17 @ 2-4 p.m.\nFriday\, June 21 @ 2-4 p.m.\nFriday\, July 19 @ 2-4 p.m.\nFriday\, August 16 @ 2-4 p.m.\nMonday\, September 9 @ 1-3 p.m.\nFriday\, September 20 @ 2-4 p.m.\nTuesday\, October 8 @ 1-3 p.m.\nFriday\, October 18 @ 2-4 p.m.\nTuesday\, November 5 @ 1-3 p.m.\nFriday\, November 15 @ 2-4 p.m.\nTuesday\, December 3 @ 1-3 p.m.\nFriday\, December 20 @ 2-4 p.m.\nTuesday\, January 7 @ 1-3 p.m.\nFriday\, January 17 @ 2-4 p.m.\nTuesday\, February 4 & 18 @ 2-4 p.m.\nTuesday\, March 25 @ 2-4 p.m.\nTuesday\, April 22 @ 2-4 p.m.\n\nDisclaimer: All aspects of in-person programming are subject to change based on health crisis guidelines and procedures.
URL:https://ngrl.devtest.center/event/homeschool-hangout-children/2025-03-25/
LOCATION:Chatsworth-Murray County Public Library\, 706 Old Dalton Ellijay Rd\, Chatsworth\, GA\, 30705\, United States
ATTACH;FMTTYPE=image/png:https://ngrl.devtest.center/wp-content/uploads/2021/09/Kids-Featured.png
ORGANIZER;CN="Chatsworth-Murray County Library":MAILTO:ngrl.librarian@gmail.com
END:VEVENT
BEGIN:VEVENT
DTSTART;TZID=America/New_York:20250325T163000
DTEND;TZID=America/New_York:20250325T173000
DTSTAMP:20260420T072122
CREATED:20241218T185032Z
LAST-MODIFIED:20251022T195434Z
UID:42921-1742920200-1742923800@ngrl.devtest.center
SUMMARY:TnT J-Pop - Tweens and Teens
DESCRIPTION:Open to tweens and teens. Learn a variety of crafts at the library. All supplies provided. \n\nTuesday\, January 28 @ 4:30 p.m. Learn how to use the Circuit machine to create soot sprite tumblers.\nTuesday\, February 25 @ 4:30 p.m. Maria Block Pinatas.\nTuesday\, March 25 @ 4:30 p.m. Custom Claw Clips.\nTuesday\, April 29 @ 4:30 p.m. Gengar Yogurt Bowls.\nTuesday\, May 27 @ 4:30 p.m. Studio Ghibli Paint Along. All supplies provided.\nTuesday\, June 24 @ 4:30 p.m. Pokemon Card Stands.\nTuesday\, July 29 @ 4:30 p.m. Faux Stained Glass Art.\nTuesday\, August 26 @ 4:30 p.m. Miniature Rice Ball Vases.\nTuesday\, November 25 @ 4:30 p.m. Clay Keycups. All supplies provided.\n\nDisclaimer: All aspects of in-person programming are subject to change based on health crisis guidelines and procedures.
URL:https://ngrl.devtest.center/event/tnt-j-pop-tweens-and-teens/2025-03-25/
LOCATION:Dalton-Whitfield County Public Library\, 310 Cappes St\, Dalton\, GA\, 30720\, United States
ATTACH;FMTTYPE=image/png:https://ngrl.devtest.center/wp-content/uploads/2021/09/Teens-Featured.png
ORGANIZER;CN="Dalton-Whitfield County Public Library":MAILTO:ngrl.librarian@gmail.com
END:VEVENT
END:VCALENDAR