BEGIN:VCALENDAR
VERSION:2.0
PRODID:-//Northwest Georgia Regional Library System - ECPv6.15.17.1//NONSGML v1.0//EN
CALSCALE:GREGORIAN
METHOD:PUBLISH
X-WR-CALNAME:Northwest Georgia Regional Library System
X-ORIGINAL-URL:https://ngrl.devtest.center
X-WR-CALDESC:Events for Northwest Georgia Regional Library System
REFRESH-INTERVAL;VALUE=DURATION:PT1H
X-Robots-Tag:noindex
X-PUBLISHED-TTL:PT1H
BEGIN:VTIMEZONE
TZID:America/New_York
BEGIN:DAYLIGHT
TZOFFSETFROM:-0500
TZOFFSETTO:-0400
TZNAME:EDT
DTSTART:20240310T070000
END:DAYLIGHT
BEGIN:STANDARD
TZOFFSETFROM:-0400
TZOFFSETTO:-0500
TZNAME:EST
DTSTART:20241103T060000
END:STANDARD
BEGIN:DAYLIGHT
TZOFFSETFROM:-0500
TZOFFSETTO:-0400
TZNAME:EDT
DTSTART:20250309T070000
END:DAYLIGHT
BEGIN:STANDARD
TZOFFSETFROM:-0400
TZOFFSETTO:-0500
TZNAME:EST
DTSTART:20251102T060000
END:STANDARD
BEGIN:DAYLIGHT
TZOFFSETFROM:-0500
TZOFFSETTO:-0400
TZNAME:EDT
DTSTART:20260308T070000
END:DAYLIGHT
BEGIN:STANDARD
TZOFFSETFROM:-0400
TZOFFSETTO:-0500
TZNAME:EST
DTSTART:20261101T060000
END:STANDARD
END:VTIMEZONE
BEGIN:VEVENT
DTSTART;TZID=America/New_York:20250319T100000
DTEND;TZID=America/New_York:20250319T110000
DTSTAMP:20260420T072210
CREATED:20231228T165145Z
LAST-MODIFIED:20250428T142204Z
UID:42297-1742378400-1742382000@ngrl.devtest.center
SUMMARY:Stretchband Workout With Nancy - Adults
DESCRIPTION:Open to adults 18 and older. Join Nancy Guzman for this morning workout with stretchbands. \n\nWednesdays @ 10:30 a.m.\nClosed New Year’s Day\nNo Class May 14\n\nDisclaimer: All aspects of in-person programming are subject to change based on health crisis guidelines and procedures
URL:https://ngrl.devtest.center/event/stretchband-workout-with-nancy-adults/2025-03-19/
LOCATION:Calhoun-Gordon County Public Library\, 100 N Park Avenue\, Calhoun\, GA\, 30701\, United States
ATTACH;FMTTYPE=image/png:https://ngrl.devtest.center/wp-content/uploads/2021/09/Adults-Featured.png
END:VEVENT
BEGIN:VEVENT
DTSTART;TZID=America/New_York:20250319T103000
DTEND;TZID=America/New_York:20250319T113000
DTSTAMP:20260420T072210
CREATED:20230220T191524Z
LAST-MODIFIED:20251218T212320Z
UID:42319-1742380200-1742383800@ngrl.devtest.center
SUMMARY:Board Games & Cards -- Adults
DESCRIPTION:Open to ages 18 and older. Come make new friends and play some classic games. Games will be provided. \n\nWednesdays @ 10:30 – 11:30 a.m.\nNo games on December 24 & 31\n\nDisclaimer: All aspects of in-person programming are subject to change based on health crisis guidelines and procedures.
URL:https://ngrl.devtest.center/event/board-games-cards-adults-2024-04-03-2024-04-10/2025-03-19/
LOCATION:Calhoun-Gordon County Public Library\, 100 N Park Avenue\, Calhoun\, GA\, 30701\, United States
ATTACH;FMTTYPE=image/png:https://ngrl.devtest.center/wp-content/uploads/2021/09/Adults-Featured.png
END:VEVENT
BEGIN:VEVENT
DTSTART;TZID=America/New_York:20250319T103000
DTEND;TZID=America/New_York:20250319T113000
DTSTAMP:20260420T072210
CREATED:20241217T200810Z
LAST-MODIFIED:20260318T200330Z
UID:43456-1742380200-1742383800@ngrl.devtest.center
SUMMARY:Chair Yoga -- Adults
DESCRIPTION:Open to adults 18 and older. Crystal Robbins from Open Heart Yoga & Wellness will lead one-hour chair yoga classes at the library. These sessions are free to the public is required. \n  \n\nSaturday\, March 21 @ 12-1:00 p.m.\nSaturday\, April 18 @ 12-1:00 p.m.\n\nDisclaimer: All aspects of in-person programming are subject to change based on health crisis guidelines and procedures.
URL:https://ngrl.devtest.center/event/chair-yoga-adults-4/2025-03-19/
LOCATION:Chatsworth-Murray County Public Library\, 706 Old Dalton Ellijay Rd\, Chatsworth\, GA\, 30705\, United States
ATTACH;FMTTYPE=image/png:https://ngrl.devtest.center/wp-content/uploads/2021/09/Adults-Featured.png
ORGANIZER;CN="Chatsworth-Murray County Library":MAILTO:ngrl.librarian@gmail.com
END:VEVENT
BEGIN:VEVENT
DTSTART;TZID=America/New_York:20250319T103000
DTEND;TZID=America/New_York:20250319T113000
DTSTAMP:20260420T072210
CREATED:20250224T163345Z
LAST-MODIFIED:20250428T143633Z
UID:42629-1742380200-1742383800@ngrl.devtest.center
SUMMARY:English Conversations -- Adults
DESCRIPTION:Open to adults. Need to practice conversing in English. \n\nWednesdays in March @ 10:30 a.m.\nWednesdays in April @ 10:30 a.m.\nWednesday in May @ 11 a.m.\n\nDisclaimer: All aspects of in-person programming are subject to change based on health crisis guidelines and procedures.
URL:https://ngrl.devtest.center/event/english-conversations-adults-2/2025-03-19/
LOCATION:Calhoun-Gordon County Public Library\, 100 N Park Avenue\, Calhoun\, GA\, 30701\, United States
ATTACH;FMTTYPE=image/png:https://ngrl.devtest.center/wp-content/uploads/2021/09/Adults-Featured.png
END:VEVENT
BEGIN:VEVENT
DTSTART;TZID=America/New_York:20250319T103000
DTEND;TZID=America/New_York:20250319T113000
DTSTAMP:20260420T072210
CREATED:20250225T151441Z
LAST-MODIFIED:20250324T153128Z
UID:43217-1742380200-1742383800@ngrl.devtest.center
SUMMARY:Start Bright: Craft Time -- Kids
DESCRIPTION:Open to 1st-5th grades. Join in for Earth Day fun and play in the garden with a take home activity. \n\nWednesday\, March 19 @ 10:30 a.m. A St. Patrick’s themed craft occasion.\nWednesday\, April 16 @ 10:30 a.m.\n\nDisclaimer: All aspects of in-person programming are subject to change based on health crisis guidelines and procedures.
URL:https://ngrl.devtest.center/event/start-bright-craft-time-kids/2025-03-19/
LOCATION:Dalton-Whitfield County Public Library\, 310 Cappes St\, Dalton\, GA\, 30720\, United States
ATTACH;FMTTYPE=image/png:https://ngrl.devtest.center/wp-content/uploads/2021/09/Kids-Featured.png
ORGANIZER;CN="Dalton-Whitfield County Public Library":MAILTO:ngrl.librarian@gmail.com
END:VEVENT
BEGIN:VEVENT
DTSTART;TZID=America/New_York:20250319T113000
DTEND;TZID=America/New_York:20250319T180000
DTSTAMP:20260420T072210
CREATED:20250310T172735Z
LAST-MODIFIED:20250310T172735Z
UID:43277-1742383800-1742407200@ngrl.devtest.center
SUMMARY:Closing Early
DESCRIPTION:The Chatsworth-Murray County Public Library will be closing at 11:30 AM on March 19 so that staff can be recognized at the Murray Co. Family Connections Community Champions luncheon.  We will be open on March 20 from 10:00 AM until 6:00 PM. \n\nClosing at 11:30 a.m. on March\n\nDisclaimer: All aspects of in-person programming are subject to change based on health crisis guidelines and procedures.
URL:https://ngrl.devtest.center/event/closing-early/
LOCATION:Chatsworth-Murray County Public Library\, 706 Old Dalton Ellijay Rd\, Chatsworth\, GA\, 30705\, United States
ATTACH;FMTTYPE=image/png:https://ngrl.devtest.center/wp-content/uploads/2021/09/All-Ages-Featured.png
ORGANIZER;CN="Chatsworth-Murray County Library":MAILTO:ngrl.librarian@gmail.com
END:VEVENT
BEGIN:VEVENT
DTSTART;TZID=America/New_York:20250319T130000
DTEND;TZID=America/New_York:20250319T140000
DTSTAMP:20260420T072210
CREATED:20250224T180119Z
LAST-MODIFIED:20250224T180119Z
UID:42667-1742389200-1742392800@ngrl.devtest.center
SUMMARY:Comfort Measures for Mothers -- Adults
DESCRIPTION:en to adults 18 and older. A preparation class for expecting and new mothers. \n\nWednesday\, March 19 @ 1 p.m.\n\nDisclaimer: All aspects of in-person programming are subject to change based on health crisis guidelines and procedures.
URL:https://ngrl.devtest.center/event/comfort-measures-for-mothers-adults/
LOCATION:Calhoun-Gordon County Public Library\, 100 N Park Avenue\, Calhoun\, GA\, 30701\, United States
ATTACH;FMTTYPE=image/png:https://ngrl.devtest.center/wp-content/uploads/2021/09/Adults-Featured.png
END:VEVENT
BEGIN:VEVENT
DTSTART;TZID=America/New_York:20250319T160000
DTEND;TZID=America/New_York:20250319T170000
DTSTAMP:20260420T072210
CREATED:20240429T152134Z
LAST-MODIFIED:20260323T181212Z
UID:54930-1742400000-1742403600@ngrl.devtest.center
SUMMARY:Beginner Spanish -- Adults (Spanish translator present)
DESCRIPTION:Open to adults 18 and older. Interested in becoming a student of the Spanish language? Come\, practice and learn with Dalton State Professor Dr. Brian Hibbs for a beginner-level Spanish course. \n  \n\nWednesdays in March @ 4 p.m.\nWednesdays in April @ 4 p.m.\n\nDisclaimer: All aspects of in-person programming are subject to change based on health crisis guidelines and procedures.
URL:https://ngrl.devtest.center/event/beginner-spanish-adults-spanish-translator-present/2025-03-19/
LOCATION:Dalton-Whitfield County Public Library\, 310 Cappes St\, Dalton\, GA\, 30720\, United States
ATTACH;FMTTYPE=image/png:https://ngrl.devtest.center/wp-content/uploads/2021/09/Adults-Featured.png
ORGANIZER;CN="Dalton-Whitfield County Public Library":MAILTO:ngrl.librarian@gmail.com
END:VEVENT
BEGIN:VEVENT
DTSTART;TZID=America/New_York:20250319T160000
DTEND;TZID=America/New_York:20250319T170000
DTSTAMP:20260420T072210
CREATED:20250224T175518Z
LAST-MODIFIED:20251023T181438Z
UID:42665-1742400000-1742403600@ngrl.devtest.center
SUMMARY:Teen Talk - No Cap - Tweens and Teens
DESCRIPTION:Open to tweens and teens 10-18. Family Resource Center is hosting a mini-session covering social & emotional learning and life skills. \n\nWednesday\, March 19 @ 4 p.m.\nWednesday\, April 16 @ 4 p.m.\nWednesday\, May 14 @ 4 p.m.\nWednesday\, June 18 @ 12 p.m.\nWednesday\, July 16 @ 12 p.m.\nWednesday\, August 20 @ 4:30 p.m.\nWednesday\, September 17 @ 4 p.m.\nWednesday\, October 22 @ 4 p.m.\nWednesday\, November 19 @ 4 p.m.\n\nDisclaimer: All aspects of in-person programming are subject to change based on health crisis guidelines and procedures.
URL:https://ngrl.devtest.center/event/teen-talk-no-cap-tweens-and-teens/2025-03-19/
LOCATION:Calhoun-Gordon County Public Library\, 100 N Park Avenue\, Calhoun\, GA\, 30701\, United States
ATTACH;FMTTYPE=image/png:https://ngrl.devtest.center/wp-content/uploads/2021/09/Teens-Featured.png
END:VEVENT
END:VCALENDAR