BEGIN:VCALENDAR
VERSION:2.0
PRODID:-//Northwest Georgia Regional Library System - ECPv6.15.17.1//NONSGML v1.0//EN
CALSCALE:GREGORIAN
METHOD:PUBLISH
X-ORIGINAL-URL:https://ngrl.devtest.center
X-WR-CALDESC:Events for Northwest Georgia Regional Library System
REFRESH-INTERVAL;VALUE=DURATION:PT1H
X-Robots-Tag:noindex
X-PUBLISHED-TTL:PT1H
BEGIN:VTIMEZONE
TZID:America/New_York
BEGIN:DAYLIGHT
TZOFFSETFROM:-0500
TZOFFSETTO:-0400
TZNAME:EDT
DTSTART:20240310T070000
END:DAYLIGHT
BEGIN:STANDARD
TZOFFSETFROM:-0400
TZOFFSETTO:-0500
TZNAME:EST
DTSTART:20241103T060000
END:STANDARD
BEGIN:DAYLIGHT
TZOFFSETFROM:-0500
TZOFFSETTO:-0400
TZNAME:EDT
DTSTART:20250309T070000
END:DAYLIGHT
BEGIN:STANDARD
TZOFFSETFROM:-0400
TZOFFSETTO:-0500
TZNAME:EST
DTSTART:20251102T060000
END:STANDARD
BEGIN:DAYLIGHT
TZOFFSETFROM:-0500
TZOFFSETTO:-0400
TZNAME:EDT
DTSTART:20260308T070000
END:DAYLIGHT
BEGIN:STANDARD
TZOFFSETFROM:-0400
TZOFFSETTO:-0500
TZNAME:EST
DTSTART:20261101T060000
END:STANDARD
END:VTIMEZONE
BEGIN:VEVENT
DTSTART;TZID=America/New_York:20250308T100000
DTEND;TZID=America/New_York:20250308T110000
DTSTAMP:20260421T070728
CREATED:20221227T185652Z
LAST-MODIFIED:20250428T140325Z
UID:42505-1741428000-1741431600@ngrl.devtest.center
SUMMARY:Knit & Crochet Club -- Adults
DESCRIPTION:Open to ages 12 and older. Do you enjoy knitting or crocheting? Or have you always wanted to learn? Come join this fun and informal group suitable for the complete beginner to the advanced crafts person! \n\nFirst & third Tuesdays @ 10:00am\n\nSaturday\, March 8 & 22 @ 10 a.m.\nSaturday\, April 12 @ 10 a.m.\nSaturday\, May 10 @ 10 a.m.\n\nDisclaimer: All aspects of in-person programming are subject to change based on health crisis guidelines and procedures.
URL:https://ngrl.devtest.center/event/knit-crochet-club-adults-2-2023-06-06-2024-01-16-2024-02-27/2025-03-08/
LOCATION:Calhoun-Gordon County Public Library\, 100 N Park Avenue\, Calhoun\, GA\, 30701\, United States
ATTACH;FMTTYPE=image/png:https://ngrl.devtest.center/wp-content/uploads/2021/09/Adults-Featured.png
END:VEVENT
BEGIN:VEVENT
DTSTART;TZID=America/New_York:20250308T100000
DTEND;TZID=America/New_York:20250308T110000
DTSTAMP:20260421T070728
CREATED:20250224T173659Z
LAST-MODIFIED:20250224T173659Z
UID:42651-1741428000-1741431600@ngrl.devtest.center
SUMMARY:FOL Bulb Sale -- Adults
DESCRIPTION:Open to adults 18 and older. The Friends of the Library will be selling bulbs with proceeds going to the library. \n\nFriday & Saturday\, March 7 & 8 @ 10 a.m.\n\nDisclaimer: All aspects of in-person programming are subject to change based on health crisis guidelines and procedures.
URL:https://ngrl.devtest.center/event/fol-bulb-sale-adults/2025-03-08/
LOCATION:Calhoun-Gordon County Public Library\, 100 N Park Avenue\, Calhoun\, GA\, 30701\, United States
ATTACH;FMTTYPE=image/png:https://ngrl.devtest.center/wp-content/uploads/2021/09/Adults-Featured.png
END:VEVENT
BEGIN:VEVENT
DTSTART;TZID=America/New_York:20250308T110000
DTEND;TZID=America/New_York:20250308T130000
DTSTAMP:20260421T070728
CREATED:20221227T185954Z
LAST-MODIFIED:20250320T162821Z
UID:41721-1741431600-1741438800@ngrl.devtest.center
SUMMARY:Anime Club -- Tweens & Teens
DESCRIPTION:Open to 6th-12th grades. Come hang out with your friends in grades 6-12 at the Chatsworth-Murray County Public Library. Enjoy discussing and watching some of your favorite shows with other fans! \n\nTuesday\, January 10 @ 3 – 5 p.m.\nTuesday\, February 14 @ 3 – 5 p.m. – Theme: Demon Slayer\nTuesday\, March 14 @ 3 – 5 p.m. – Theme: Fruits Basket\nTuesday\, April 11 @ 3 – 5 p.m. – Theme: Haikyu!\nTuesday\, May 9 @ 3 – 5 p.m. – Theme: Dr. Stone\nMonday\, June 5 @ 3 – 5 p.m. – Theme: Kaguya-Sama Love Is War\nWednesday\, July 19 @ 3 – 5 p.m. – Theme: Ace Attorney\nTuesday\, August 8 @ 3 – 5 p.m. – Theme: My Love Story!!\nTuesday\, September 12 @ 4-5:30 p.m. – Theme: Natsume’s Book of Friends \nTuesday\, October 10 @ 4-5:30 p.m. – Theme: Soul Eater\nTuesday\, November 7 @ 4-5:30 p.m. – Theme: The Girl I Like Forgot Her Glasses\nTuesday\, December 5 @ 4-5:30 p.m. – Theme: Polar Bear Cafe\nTuesday\, January 9 @ 4-5:30 p.m. – Theme: Frieren: Beyond Journey’s End\nTuesday\, February 6 @ 4-5 p.m. – Theme: Horimiya\nMonday\, March 25 @ 6-7:45 p.m.\nMonday\, April 29 @ 6-7:45 p.m.\nMonday\, May 20 @ 6-7:45 p.m.\nMonday\, June 24 @ 6-7:45 p.m.\nMonday\, July 22 @ 6-7:45 p.m.\nMonday\, August 26 @ 6-7:45 p.m.\nMonday\, September 23 @ 6-7:45 p.m.\nMonday\, October 21 @ 6-7:45 p.m.\nMonday\, December 16 @ 6-7:45 p.m.\nSaturday\, December 28 @ 11 a.m.-1:00 p.m.\nSaturday\, January 4 @ 11 a.m.-1 p.m.\nMonday\, January 27 @ 6-7:45 p.m.\nSaturday\, February 1 @ 11 a.m.-1 p.m.\nMonday\, February 24 @ 6-7:45 p.m.\nSaturday\, March 8 @ 11 a.m.- 1 p.m.\nMonday\, March 24 @ 6-7:45 p.m.\nSaturday\, April 5 @ 11 a.m.-1 p.m.\n\n\nDisclaimer: All aspects of in-person programming are subject to change based on health crisis guidelines and procedures.
URL:https://ngrl.devtest.center/event/anime-club-tweens-teens-4/2025-03-08/
LOCATION:Chatsworth-Murray County Public Library\, 706 Old Dalton Ellijay Rd\, Chatsworth\, GA\, 30705\, United States
ATTACH;FMTTYPE=image/png:https://ngrl.devtest.center/wp-content/uploads/2021/09/Teens-Featured.png
ORGANIZER;CN="Chatsworth-Murray County Library":MAILTO:ngrl.librarian@gmail.com
END:VEVENT
BEGIN:VEVENT
DTSTART;TZID=America/New_York:20250308T111500
DTEND;TZID=America/New_York:20250308T121500
DTSTAMP:20260421T070728
CREATED:20250224T170050Z
LAST-MODIFIED:20250224T170050Z
UID:42638-1741432500-1741436100@ngrl.devtest.center
SUMMARY:How to Write a Children's Book -- Adult
DESCRIPTION:Open to adults. Join Vickie McEntire to write your own children’s book. \n\nSaturday\, March 8 @ 11:15 a.m.\n\nDisclaimer: All aspects of in-person programming are subject to change based on health crisis guidelines and procedures.
URL:https://ngrl.devtest.center/event/how-to-write-a-childrens-book-adult-2/
LOCATION:Calhoun-Gordon County Public Library\, 100 N Park Avenue\, Calhoun\, GA\, 30701\, United States
ATTACH;FMTTYPE=image/png:https://ngrl.devtest.center/wp-content/uploads/2021/09/Adults-Featured.png
END:VEVENT
BEGIN:VEVENT
DTSTART;TZID=America/New_York:20250308T133000
DTEND;TZID=America/New_York:20250308T153000
DTSTAMP:20260421T070728
CREATED:20241218T183119Z
LAST-MODIFIED:20250519T153538Z
UID:43175-1741440600-1741447800@ngrl.devtest.center
SUMMARY:TnT Nerf War -- Tweens and Teens
DESCRIPTION:Image from: https://commons.wikimedia.org/wiki/File:Various_Nerf_ammo_types.jpg\nOpen to tweens and teens 4th to 12th grades. Grab your blasters and darts. Each month we play NERF games like Capture the Flag\, Battle Royale\, and Zombies. Blasters and darts provided. Signed waiver is required. \n\nSaturday\, January 11 @ 1:30 – 3:30 p.m.\nSaturday\, February 8 @ 1:30 – 3:30 p.m.\nSaturday\, March 8 @ 1:30 – 3:30 p.m.\nSaturday\, April 12 @ 1:30 – 3:30 p.m.\nSaturday\, May 10 @ 1:30 – 3:30 p.m.\nSaturday\, June 14 @ 1:30 – 3:30 p.m. Teens vs. Adults\nSaturday\, July 12 @ 1:30 – 3:30 p.m. Color Edition 4th – 12th Grades\n\nDisclaimer: All aspects of in-person programming are subject to change based on health crisis guidelines and procedures.
URL:https://ngrl.devtest.center/event/tnt-nerf-war-tweens-and-teens-2025-03-08/2025-03-08/
LOCATION:Dalton-Whitfield County Public Library\, 310 Cappes St\, Dalton\, GA\, 30720\, United States
ATTACH;FMTTYPE=image/png:https://ngrl.devtest.center/wp-content/uploads/2021/09/Teens-Featured.png
ORGANIZER;CN="Dalton-Whitfield County Public Library":MAILTO:ngrl.librarian@gmail.com
END:VEVENT
END:VCALENDAR