BEGIN:VCALENDAR
VERSION:2.0
PRODID:-//Northwest Georgia Regional Library System - ECPv6.15.17.1//NONSGML v1.0//EN
CALSCALE:GREGORIAN
METHOD:PUBLISH
X-ORIGINAL-URL:https://ngrl.devtest.center
X-WR-CALDESC:Events for Northwest Georgia Regional Library System
REFRESH-INTERVAL;VALUE=DURATION:PT1H
X-Robots-Tag:noindex
X-PUBLISHED-TTL:PT1H
BEGIN:VTIMEZONE
TZID:America/New_York
BEGIN:DAYLIGHT
TZOFFSETFROM:-0500
TZOFFSETTO:-0400
TZNAME:EDT
DTSTART:20240310T070000
END:DAYLIGHT
BEGIN:STANDARD
TZOFFSETFROM:-0400
TZOFFSETTO:-0500
TZNAME:EST
DTSTART:20241103T060000
END:STANDARD
BEGIN:DAYLIGHT
TZOFFSETFROM:-0500
TZOFFSETTO:-0400
TZNAME:EDT
DTSTART:20250309T070000
END:DAYLIGHT
BEGIN:STANDARD
TZOFFSETFROM:-0400
TZOFFSETTO:-0500
TZNAME:EST
DTSTART:20251102T060000
END:STANDARD
BEGIN:DAYLIGHT
TZOFFSETFROM:-0500
TZOFFSETTO:-0400
TZNAME:EDT
DTSTART:20260308T070000
END:DAYLIGHT
BEGIN:STANDARD
TZOFFSETFROM:-0400
TZOFFSETTO:-0500
TZNAME:EST
DTSTART:20261101T060000
END:STANDARD
END:VTIMEZONE
BEGIN:VEVENT
DTSTART;TZID=America/New_York:20250228T103000
DTEND;TZID=America/New_York:20250228T113000
DTSTAMP:20260421T070734
CREATED:20230220T191140Z
LAST-MODIFIED:20250428T143046Z
UID:41510-1740738600-1740742200@ngrl.devtest.center
SUMMARY:Zumba -- Adults
DESCRIPTION:Open to ages 18 and older. Get your heart pumping with this Latin music-based workout led by Nancy Guzman. \n\nWeekly on Fridays @ 10:30 a.m. \n\n  \n\nThursday\, December 14 @10:30 a.m.\nFriday\, December 1\, 8 and 29 @ 10:30 a.m.\nFriday\, September 13 & 27 @ 10:30 a.m.\nFriday\, October 11 & 25 @ 10:30 a.m.\nFriday\, November 8 & 22 @ 10:30 a.m.\nFriday\, December 6 & 20 @ 10:30 a.m.\nFriday\, January 10\, 24 & 31 @ 10:30 a.m.\nFridays in February @ 10:30 a.m.\nFriday May 2\, 16 & 30 at 10:30 a.m.\n\nDisclaimer: All aspects of in-person programming are subject to change based on health crisis guidelines and procedures.
URL:https://ngrl.devtest.center/event/zumba-adults/2025-02-28/
LOCATION:Calhoun-Gordon County Public Library\, 100 N Park Avenue\, Calhoun\, GA\, 30701\, United States
ATTACH;FMTTYPE=image/png:https://ngrl.devtest.center/wp-content/uploads/2021/09/Adults-Featured.png
END:VEVENT
BEGIN:VEVENT
DTSTART;TZID=America/New_York:20250228T103000
DTEND;TZID=America/New_York:20250228T113000
DTSTAMP:20260421T070734
CREATED:20241022T124551Z
LAST-MODIFIED:20250428T155734Z
UID:41080-1740738600-1740742200@ngrl.devtest.center
SUMMARY:Veterans Coffee -- Adults
DESCRIPTION:Open to adults 19 and older. Vets are invited to join this social coffee hour in our history room. \n\nFridays at 10:30 a.m.\n\nDisclaimer: All aspects of in-person programming are subject to change based on health crisis guidelines and procedures.
URL:https://ngrl.devtest.center/event/veterans-coffee-adults/2025-02-28/
LOCATION:Calhoun-Gordon County Public Library\, 100 N Park Avenue\, Calhoun\, GA\, 30701\, United States
ATTACH;FMTTYPE=image/png:https://ngrl.devtest.center/wp-content/uploads/2021/09/Adults-Featured.png
END:VEVENT
BEGIN:VEVENT
DTSTART;TZID=America/New_York:20250228T110000
DTEND;TZID=America/New_York:20250228T120000
DTSTAMP:20260421T070734
CREATED:20250123T202537Z
LAST-MODIFIED:20260320T173201Z
UID:41635-1740740400-1740744000@ngrl.devtest.center
SUMMARY:Shelf Indulgence Book Club -- Adults
DESCRIPTION:Open to adults 18 and older. Join us as we discuss our picks toward the topic of the month. Find a book that speaks to your heart. \n  \n\nFriday\, February 27 @ 11 a.m. — Read a book that has snow on the cover.\nFriday\, March 27 @ 11 a.m. — To celebrate women’s history month\, pick a biography/memoir about a woman you admire.\nFriday\, April 24 @ 11 a.m. — Join us to discuss the topic of the month – Spring is in the air. Pick a book that has an “S” in the title.\n\n  \nDisclaimer: All aspects of in-person programming are subject to change based on health crisis guidelines and procedures.
URL:https://ngrl.devtest.center/event/shelf-indulgence-book-club-adults-2/2025-02-28/
LOCATION:Calhoun-Gordon County Public Library\, 100 N Park Avenue\, Calhoun\, GA\, 30701\, United States
ATTACH;FMTTYPE=image/png:https://ngrl.devtest.center/wp-content/uploads/2021/09/Adults-Featured.png
END:VEVENT
BEGIN:VEVENT
DTSTART;TZID=America/New_York:20250228T150000
DTEND;TZID=America/New_York:20250228T170000
DTSTAMP:20260421T070734
CREATED:20240124T163413Z
LAST-MODIFIED:20250514T143303Z
UID:40690-1740754800-1740762000@ngrl.devtest.center
SUMMARY:LEGOs @ the Library
DESCRIPTION:Open to pre-K to 5th grade. Kids can play with our big collection of LEGO® and Duplo® bricks. Drop in and try a different LEGO® challenge each week or just enjoy some building time. \n\nFridays @ 3 – 5 p.m.\nNo Legos April 18\n\nDisclaimer: All aspects of in-person programming are subject to change based on health crisis guidelines and procedures.
URL:https://ngrl.devtest.center/event/legos-the-library-2024-02-09/2025-02-28/
LOCATION:Dalton-Whitfield County Public Library\, 310 Cappes St\, Dalton\, GA\, 30720\, United States
ORGANIZER;CN="Dalton-Whitfield County Public Library":MAILTO:ngrl.librarian@gmail.com
END:VEVENT
END:VCALENDAR