BEGIN:VCALENDAR
VERSION:2.0
PRODID:-//Northwest Georgia Regional Library System - ECPv6.15.17.1//NONSGML v1.0//EN
CALSCALE:GREGORIAN
METHOD:PUBLISH
X-ORIGINAL-URL:https://ngrl.devtest.center
X-WR-CALDESC:Events for Northwest Georgia Regional Library System
REFRESH-INTERVAL;VALUE=DURATION:PT1H
X-Robots-Tag:noindex
X-PUBLISHED-TTL:PT1H
BEGIN:VTIMEZONE
TZID:America/New_York
BEGIN:DAYLIGHT
TZOFFSETFROM:-0500
TZOFFSETTO:-0400
TZNAME:EDT
DTSTART:20240310T070000
END:DAYLIGHT
BEGIN:STANDARD
TZOFFSETFROM:-0400
TZOFFSETTO:-0500
TZNAME:EST
DTSTART:20241103T060000
END:STANDARD
BEGIN:DAYLIGHT
TZOFFSETFROM:-0500
TZOFFSETTO:-0400
TZNAME:EDT
DTSTART:20250309T070000
END:DAYLIGHT
BEGIN:STANDARD
TZOFFSETFROM:-0400
TZOFFSETTO:-0500
TZNAME:EST
DTSTART:20251102T060000
END:STANDARD
BEGIN:DAYLIGHT
TZOFFSETFROM:-0500
TZOFFSETTO:-0400
TZNAME:EDT
DTSTART:20260308T070000
END:DAYLIGHT
BEGIN:STANDARD
TZOFFSETFROM:-0400
TZOFFSETTO:-0500
TZNAME:EST
DTSTART:20261101T060000
END:STANDARD
END:VTIMEZONE
BEGIN:VEVENT
DTSTART;TZID=America/New_York:20250225T100000
DTEND;TZID=America/New_York:20250225T230000
DTSTAMP:20260421T070731
CREATED:20250123T194748Z
LAST-MODIFIED:20250321T115424Z
UID:41630-1740477600-1740524400@ngrl.devtest.center
SUMMARY:AARP Tax Prep -- Adults
DESCRIPTION:Open to adults 19 and older. AARP will be here to help those in need of aid with their taxes. \n\nTuesdays and Thursdays in February @ 10 a.m.\nTuesday\, April 1\, 8 & 15 @ 10 a.m.\nThursday\, April 3 & 10 @ 10 a.m.\n\nDisclaimer: All aspects of in-person programming are subject to change based on health crisis guidelines and procedures.
URL:https://ngrl.devtest.center/event/aarp-tax-prep-adults/2025-02-25/
LOCATION:Calhoun-Gordon County Public Library\, 100 N Park Avenue\, Calhoun\, GA\, 30701\, United States
ATTACH;FMTTYPE=image/png:https://ngrl.devtest.center/wp-content/uploads/2021/09/Adults-Featured.png
END:VEVENT
BEGIN:VEVENT
DTSTART;TZID=America/New_York:20250225T103000
DTEND;TZID=America/New_York:20250225T113000
DTSTAMP:20260421T070731
CREATED:20221227T185658Z
LAST-MODIFIED:20250428T140555Z
UID:41311-1740479400-1740483000@ngrl.devtest.center
SUMMARY:Noni's Nook Storytime -- Children
DESCRIPTION:Story time for ages 5 and under.  Come in for a fun storytime and craft with Miss Noni. This month we’ll be reading about octopi\, penguins\, quilts\, and robots in books written by Peter Bently\, Karin Akesson\, Philip Stead and more. \n\nTuesdays @ 10:30 a.m.\n\nDisclaimer: All aspects of in-person programming are subject to change based on health crisis guidelines and procedures.
URL:https://ngrl.devtest.center/event/nonis-nook-2023/2025-02-25/
LOCATION:Calhoun-Gordon County Public Library\, 100 N Park Avenue\, Calhoun\, GA\, 30701\, United States
ATTACH;FMTTYPE=image/png:https://ngrl.devtest.center/wp-content/uploads/2021/09/Kids-Featured.png
END:VEVENT
BEGIN:VEVENT
DTSTART;TZID=America/New_York:20250225T110000
DTEND;TZID=America/New_York:20250225T120000
DTSTAMP:20260421T070731
CREATED:20240719T141329Z
LAST-MODIFIED:20250522T160644Z
UID:41425-1740481200-1740484800@ngrl.devtest.center
SUMMARY:Homeschool Meetup - Tweens and Teens
DESCRIPTION:Open to ages. 10-18. Homeschoolers are invited to have some fun making crafts or playing games. \n\nMonday\, August 6 & 20 @ 10:30 a.m.\nTuesday\, September 3 & 17 @ 11 a.m.\nTuesday\, October 8 & 22 @ 11 a.m.\nTuesday\, November 5 & 19 @ 11 a.m.\nTuesday\, December 3 & 17 @ 11 a.m.\nTuesday\, January 14  @ 11 a.m.\nTuesday\, March 11 & 25 @ 11 a.m.\nTuesday\, April 22 @ 11 a.m.\nTuesday\, May 6 & 20 @ 11 a.m.\nTuesday\, June 10 & 24 @ 11 a.m.\nTuesday\, July 8 & 22 @ 11 a.m.\n\nDisclaimer: All aspects of in-person programming are subject to change based on health crisis guidelines and procedures.
URL:https://ngrl.devtest.center/event/homeschool-meetup-tweens-and-teens/2025-02-25/
LOCATION:Calhoun-Gordon County Public Library\, 100 N Park Avenue\, Calhoun\, GA\, 30701\, United States
ATTACH;FMTTYPE=image/png:https://ngrl.devtest.center/wp-content/uploads/2021/09/Teens-Featured.png
END:VEVENT
BEGIN:VEVENT
DTSTART;TZID=America/New_York:20250225T160000
DTEND;TZID=America/New_York:20250225T170000
DTSTAMP:20260421T070731
CREATED:20250122T165028Z
LAST-MODIFIED:20250220T182223Z
UID:41952-1740499200-1740502800@ngrl.devtest.center
SUMMARY:Career Day: Little Rome Restaurant -- All Ages
DESCRIPTION:Open to all ages. This month will be led by Tyler Hord from Little Rome. Drop by to find out how to run a restaurant and ask him any questions about cooking you might have. \n\nTuesday\, February 25 @ 4 p.m.\n\nDisclaimer: All aspects of in-person programming are subject to change based on health crisis guidelines and procedures.
URL:https://ngrl.devtest.center/event/career-day-little-rome-restaurant-all-ages-2025-02-25/
LOCATION:Chatsworth-Murray County Public Library\, 706 Old Dalton Ellijay Rd\, Chatsworth\, GA\, 30705\, United States
ATTACH;FMTTYPE=image/png:https://ngrl.devtest.center/wp-content/uploads/2021/09/All-Ages-Featured.png
ORGANIZER;CN="Chatsworth-Murray County Library":MAILTO:ngrl.librarian@gmail.com
END:VEVENT
BEGIN:VEVENT
DTSTART;TZID=America/New_York:20250225T160000
DTEND;TZID=America/New_York:20250225T173000
DTSTAMP:20260421T070731
CREATED:20240125T152323Z
LAST-MODIFIED:20240125T152323Z
UID:40473-1740499200-1740504600@ngrl.devtest.center
SUMMARY:Magic the Gathering & Pokemon Card Games -- Children
DESCRIPTION:Open to kids. This is an opportunity for people to come and play collectible card games such as Magic the Gathering and Pokémon the Card Game. \n\nWednesday\, February 21 @ 4-5 p.m.\nFriday\, March 8 @ 4-5:30 p.m.\nFriday\, April 12 @ 4-5:30 p.m.\nFriday\, May 10 @ 4-5:30 p.m.\nFriday\, June 14 @ 4-5:30 p.m.\nFriday\, July 12 @ 4-5:30 p.m.\nFriday\, August 9 @ 4-5:30 p.m.\nFriday\, September 13 @ 4-5:30 p.m.\nFriday\, October 11 @ 4-5:30 p.m.\nFriday\, November 8 @ 4-5:30 p.m.\nFriday\, December 6 @ 4-5:30 p.m.\nFriday\, January 10 @ 4-5:30 p.m.\nTuesday\, February 25 @ 4-5:30 p.m.\n\nDisclaimer: All aspects of in-person programming are subject to change based on health crisis guidelines and procedures.
URL:https://ngrl.devtest.center/event/magic-the-gathering-pokemon-card-games-children-2024-03-08-2025-01-10/2025-02-25/
LOCATION:Chatsworth-Murray County Public Library\, 706 Old Dalton Ellijay Rd\, Chatsworth\, GA\, 30705\, United States
ATTACH;FMTTYPE=image/png:https://ngrl.devtest.center/wp-content/uploads/2021/09/Kids-Featured.png
ORGANIZER;CN="Chatsworth-Murray County Library":MAILTO:ngrl.librarian@gmail.com
END:VEVENT
BEGIN:VEVENT
DTSTART;TZID=America/New_York:20250225T163000
DTEND;TZID=America/New_York:20250225T173000
DTSTAMP:20260421T070731
CREATED:20241218T185032Z
LAST-MODIFIED:20251022T195434Z
UID:40958-1740501000-1740504600@ngrl.devtest.center
SUMMARY:TnT J-Pop - Tweens and Teens
DESCRIPTION:Open to tweens and teens. Learn a variety of crafts at the library. All supplies provided. \n\nTuesday\, January 28 @ 4:30 p.m. Learn how to use the Circuit machine to create soot sprite tumblers.\nTuesday\, February 25 @ 4:30 p.m. Maria Block Pinatas.\nTuesday\, March 25 @ 4:30 p.m. Custom Claw Clips.\nTuesday\, April 29 @ 4:30 p.m. Gengar Yogurt Bowls.\nTuesday\, May 27 @ 4:30 p.m. Studio Ghibli Paint Along. All supplies provided.\nTuesday\, June 24 @ 4:30 p.m. Pokemon Card Stands.\nTuesday\, July 29 @ 4:30 p.m. Faux Stained Glass Art.\nTuesday\, August 26 @ 4:30 p.m. Miniature Rice Ball Vases.\nTuesday\, November 25 @ 4:30 p.m. Clay Keycups. All supplies provided.\n\nDisclaimer: All aspects of in-person programming are subject to change based on health crisis guidelines and procedures.
URL:https://ngrl.devtest.center/event/tnt-j-pop-tweens-and-teens/2025-02-25/
LOCATION:Dalton-Whitfield County Public Library\, 310 Cappes St\, Dalton\, GA\, 30720\, United States
ATTACH;FMTTYPE=image/png:https://ngrl.devtest.center/wp-content/uploads/2021/09/Teens-Featured.png
ORGANIZER;CN="Dalton-Whitfield County Public Library":MAILTO:ngrl.librarian@gmail.com
END:VEVENT
BEGIN:VEVENT
DTSTART;TZID=America/New_York:20250225T170000
DTEND;TZID=America/New_York:20250225T173000
DTSTAMP:20260421T070731
CREATED:20250225T133752Z
LAST-MODIFIED:20250225T133752Z
UID:43184-1740502800-1740504600@ngrl.devtest.center
SUMMARY:Called Meeting of the NGRL Executive Committee at Dalton-Whitfield County Public Library
DESCRIPTION:The Northwest Georgia Regional Library System Executive Committee will be attending a called meeting at the Dalton-Whitfield County Public Library for personnel matters. \n\nFebruary 25 at 5 p.m.\n\nPreliminary Agenda: \nCALLED MEETING \n\nCall to Order\nExecutive Session\n\nPersonnel\n\n\nCommittee Action\nAdjournment
URL:https://ngrl.devtest.center/event/called-meeting-of-the-ngrl-executive-committee-at-dalton-whitfield-county-public-library/
LOCATION:Dalton-Whitfield County Public Library\, 310 Cappes St\, Dalton\, GA\, 30720\, United States
ATTACH;FMTTYPE=image/png:https://ngrl.devtest.center/wp-content/uploads/2021/09/Adults-Featured.png
END:VEVENT
END:VCALENDAR