BEGIN:VCALENDAR
VERSION:2.0
PRODID:-//Northwest Georgia Regional Library System - ECPv6.15.17.1//NONSGML v1.0//EN
CALSCALE:GREGORIAN
METHOD:PUBLISH
X-ORIGINAL-URL:https://ngrl.devtest.center
X-WR-CALDESC:Events for Northwest Georgia Regional Library System
REFRESH-INTERVAL;VALUE=DURATION:PT1H
X-Robots-Tag:noindex
X-PUBLISHED-TTL:PT1H
BEGIN:VTIMEZONE
TZID:America/New_York
BEGIN:DAYLIGHT
TZOFFSETFROM:-0500
TZOFFSETTO:-0400
TZNAME:EDT
DTSTART:20240310T070000
END:DAYLIGHT
BEGIN:STANDARD
TZOFFSETFROM:-0400
TZOFFSETTO:-0500
TZNAME:EST
DTSTART:20241103T060000
END:STANDARD
BEGIN:DAYLIGHT
TZOFFSETFROM:-0500
TZOFFSETTO:-0400
TZNAME:EDT
DTSTART:20250309T070000
END:DAYLIGHT
BEGIN:STANDARD
TZOFFSETFROM:-0400
TZOFFSETTO:-0500
TZNAME:EST
DTSTART:20251102T060000
END:STANDARD
BEGIN:DAYLIGHT
TZOFFSETFROM:-0500
TZOFFSETTO:-0400
TZNAME:EDT
DTSTART:20260308T070000
END:DAYLIGHT
BEGIN:STANDARD
TZOFFSETFROM:-0400
TZOFFSETTO:-0500
TZNAME:EST
DTSTART:20261101T060000
END:STANDARD
END:VTIMEZONE
BEGIN:VEVENT
DTSTART;TZID=America/New_York:20250222T100000
DTEND;TZID=America/New_York:20250222T110000
DTSTAMP:20260422T150825
CREATED:20221227T185652Z
LAST-MODIFIED:20250428T140324Z
UID:41457-1740218400-1740222000@ngrl.devtest.center
SUMMARY:Knit & Crochet Club -- Adults
DESCRIPTION:Open to ages 12 and older. Do you enjoy knitting or crocheting? Or have you always wanted to learn? Come join this fun and informal group suitable for the complete beginner to the advanced crafts person! \n\nFirst & third Tuesdays @ 10:00am\n\nSaturday\, March 8 & 22 @ 10 a.m.\nSaturday\, April 12 @ 10 a.m.\nSaturday\, May 10 @ 10 a.m.\n\nDisclaimer: All aspects of in-person programming are subject to change based on health crisis guidelines and procedures.
URL:https://ngrl.devtest.center/event/knit-crochet-club-adults-2-2023-06-06-2024-01-16-2024-02-27/2025-02-22/
LOCATION:Calhoun-Gordon County Public Library\, 100 N Park Avenue\, Calhoun\, GA\, 30701\, United States
ATTACH;FMTTYPE=image/png:https://ngrl.devtest.center/wp-content/uploads/2021/09/Adults-Featured.png
END:VEVENT
BEGIN:VEVENT
DTSTART;TZID=America/New_York:20250222T100000
DTEND;TZID=America/New_York:20250222T133000
DTSTAMP:20260422T150825
CREATED:20240422T143511Z
LAST-MODIFIED:20250923T190441Z
UID:40494-1740218400-1740231000@ngrl.devtest.center
SUMMARY:Dungeons & Dragons -- Teens and Adults
DESCRIPTION:Open to high school and adults. This will be our first D&D campaign at the library. High schoolers and adults can join us for an exciting roleplaying adventure. \n  \n\nSaturday\, December 16 @ 10 a.m. – 1:30 p.m.\nSaturday\, January 25 @ 10 a.m. – 1:30 p.m.\nSaturday\, February 22 @ 10 a.m. – 1:30 p.m.\nSaturday\, March 15 @ 10 a.m.-1:30 p.m.\nSaturday\, April 26 @ 10 a.m.-1:30 p.m.\nSaturday\, May 31 @ 10 a.m.-1:30 p.m.\nSaturday\, June 21 @ 10 a.m.-1:30 p.m.\nSaturday\, July 19 @ 10 a.m.-1:30 p.m.\nSaturday\, August 23 @ 10 a.m.-1:30 p.m.\nSaturday\, September 20 @ 10 a.m.-1:30 p.m.\nSaturday\, October 25 @ 10 a.m.-1:30 p.m.\n\nDisclaimer: All aspects of in-person programming are subject to change based on health crisis guidelines and procedures.
URL:https://ngrl.devtest.center/event/dungeons-dragons-teens-and-adults/2025-02-22/
LOCATION:Chatsworth-Murray County Public Library\, 706 Old Dalton Ellijay Rd\, Chatsworth\, GA\, 30705\, United States
ATTACH;FMTTYPE=image/png:https://ngrl.devtest.center/wp-content/uploads/2021/09/Adults-Featured.png
ORGANIZER;CN="Chatsworth-Murray County Library":MAILTO:ngrl.librarian@gmail.com
END:VEVENT
BEGIN:VEVENT
DTSTART;TZID=America/New_York:20250222T134500
DTEND;TZID=America/New_York:20250222T170000
DTSTAMP:20260422T150825
CREATED:20250122T205507Z
LAST-MODIFIED:20250222T170132Z
UID:41026-1740231900-1740243600@ngrl.devtest.center
SUMMARY:After Hours Slumber Party -- Kids
DESCRIPTION:Open to 1st – 5th grade. Our first After Hours ‘Sleepover’ for kids. Come in your jammies\, watch a movie\, have some snacks and cocoa\, and play some sleepover games. \n\nSaturday\, February 22 @ 1:45 – 5 p.m.\n\nDisclaimer: All aspects of in-person programming are subject to change based on health crisis guidelines and procedures.
URL:https://ngrl.devtest.center/event/after-hours-slumber-party/
LOCATION:Dalton-Whitfield County Public Library\, 310 Cappes St\, Dalton\, GA\, 30720\, United States
ATTACH;FMTTYPE=image/png:https://ngrl.devtest.center/wp-content/uploads/2021/09/Teens-Featured.png
ORGANIZER;CN="Dalton-Whitfield County Public Library":MAILTO:ngrl.librarian@gmail.com
END:VEVENT
END:VCALENDAR