BEGIN:VCALENDAR
VERSION:2.0
PRODID:-//Northwest Georgia Regional Library System - ECPv6.15.17.1//NONSGML v1.0//EN
CALSCALE:GREGORIAN
METHOD:PUBLISH
X-ORIGINAL-URL:https://ngrl.devtest.center
X-WR-CALDESC:Events for Northwest Georgia Regional Library System
REFRESH-INTERVAL;VALUE=DURATION:PT1H
X-Robots-Tag:noindex
X-PUBLISHED-TTL:PT1H
BEGIN:VTIMEZONE
TZID:America/New_York
BEGIN:DAYLIGHT
TZOFFSETFROM:-0500
TZOFFSETTO:-0400
TZNAME:EDT
DTSTART:20240310T070000
END:DAYLIGHT
BEGIN:STANDARD
TZOFFSETFROM:-0400
TZOFFSETTO:-0500
TZNAME:EST
DTSTART:20241103T060000
END:STANDARD
BEGIN:DAYLIGHT
TZOFFSETFROM:-0500
TZOFFSETTO:-0400
TZNAME:EDT
DTSTART:20250309T070000
END:DAYLIGHT
BEGIN:STANDARD
TZOFFSETFROM:-0400
TZOFFSETTO:-0500
TZNAME:EST
DTSTART:20251102T060000
END:STANDARD
BEGIN:DAYLIGHT
TZOFFSETFROM:-0500
TZOFFSETTO:-0400
TZNAME:EDT
DTSTART:20260308T070000
END:DAYLIGHT
BEGIN:STANDARD
TZOFFSETFROM:-0400
TZOFFSETTO:-0500
TZNAME:EST
DTSTART:20261101T060000
END:STANDARD
END:VTIMEZONE
BEGIN:VEVENT
DTSTART;TZID=America/New_York:20250207T103000
DTEND;TZID=America/New_York:20250207T113000
DTSTAMP:20260422T150839
CREATED:20230220T191140Z
LAST-MODIFIED:20250428T143037Z
UID:41507-1738924200-1738927800@ngrl.devtest.center
SUMMARY:Zumba -- Adults
DESCRIPTION:Open to ages 18 and older. Get your heart pumping with this Latin music-based workout led by Nancy Guzman. \n\nWeekly on Fridays @ 10:30 a.m. \n\n  \n\nThursday\, December 14 @10:30 a.m.\nFriday\, December 1\, 8 and 29 @ 10:30 a.m.\nFriday\, September 13 & 27 @ 10:30 a.m.\nFriday\, October 11 & 25 @ 10:30 a.m.\nFriday\, November 8 & 22 @ 10:30 a.m.\nFriday\, December 6 & 20 @ 10:30 a.m.\nFriday\, January 10\, 24 & 31 @ 10:30 a.m.\nFridays in February @ 10:30 a.m.\nFriday May 2\, 16 & 30 at 10:30 a.m.\n\nDisclaimer: All aspects of in-person programming are subject to change based on health crisis guidelines and procedures.
URL:https://ngrl.devtest.center/event/zumba-adults/2025-02-07/
LOCATION:Calhoun-Gordon County Public Library\, 100 N Park Avenue\, Calhoun\, GA\, 30701\, United States
ATTACH;FMTTYPE=image/png:https://ngrl.devtest.center/wp-content/uploads/2021/09/Adults-Featured.png
END:VEVENT
BEGIN:VEVENT
DTSTART;TZID=America/New_York:20250207T103000
DTEND;TZID=America/New_York:20250207T113000
DTSTAMP:20260422T150839
CREATED:20241022T124551Z
LAST-MODIFIED:20250428T155732Z
UID:41077-1738924200-1738927800@ngrl.devtest.center
SUMMARY:Veterans Coffee -- Adults
DESCRIPTION:Open to adults 19 and older. Vets are invited to join this social coffee hour in our history room. \n\nFridays at 10:30 a.m.\n\nDisclaimer: All aspects of in-person programming are subject to change based on health crisis guidelines and procedures.
URL:https://ngrl.devtest.center/event/veterans-coffee-adults/2025-02-07/
LOCATION:Calhoun-Gordon County Public Library\, 100 N Park Avenue\, Calhoun\, GA\, 30701\, United States
ATTACH;FMTTYPE=image/png:https://ngrl.devtest.center/wp-content/uploads/2021/09/Adults-Featured.png
END:VEVENT
BEGIN:VEVENT
DTSTART;TZID=America/New_York:20250207T150000
DTEND;TZID=America/New_York:20250207T170000
DTSTAMP:20260422T150839
CREATED:20240124T163413Z
LAST-MODIFIED:20250514T143303Z
UID:40687-1738940400-1738947600@ngrl.devtest.center
SUMMARY:LEGOs @ the Library
DESCRIPTION:Open to pre-K to 5th grade. Kids can play with our big collection of LEGO® and Duplo® bricks. Drop in and try a different LEGO® challenge each week or just enjoy some building time. \n\nFridays @ 3 – 5 p.m.\nNo Legos April 18\n\nDisclaimer: All aspects of in-person programming are subject to change based on health crisis guidelines and procedures.
URL:https://ngrl.devtest.center/event/legos-the-library-2024-02-09/2025-02-07/
LOCATION:Dalton-Whitfield County Public Library\, 310 Cappes St\, Dalton\, GA\, 30720\, United States
ORGANIZER;CN="Dalton-Whitfield County Public Library":MAILTO:ngrl.librarian@gmail.com
END:VEVENT
BEGIN:VEVENT
DTSTART;TZID=America/New_York:20250207T160000
DTEND;TZID=America/New_York:20250207T170000
DTSTAMP:20260422T150839
CREATED:20221227T185650Z
LAST-MODIFIED:20250428T174452Z
UID:41085-1738944000-1738947600@ngrl.devtest.center
SUMMARY:Paw Pals (Read with Therapy Dogs) -- Children
DESCRIPTION:Open to children of all ages. Read with a Therapy Dog in a non-judgmental atmosphere. \n\nFriday\, January 6 @ 4 p.m.\nFriday\, February 3 @ 4 p.m.\nFriday\, March 3 @ 4 p.m.\nFriday\, April 14 @ 4 p.m.\nFriday\, May 5 @ 4 p.m.\nFriday\, June 2 @ 4 p.m.\nFriday\, July 7 @ 4 p.m.\nFriday\, August 4 @ 4 p.m.\nFriday\, September 1 @ 4 p.m.\nFriday\, October 6 @ 4 p.m.\nFriday\, November 3 @ 4 p.m.\nFriday\, December 1 @ 4:30 p.m.\nFriday\, January 5 @ 4 p.m.\nFriday\, February 2 @ 4 p.m.\nFriday\, March 1 @ 4 p.m.\nFriday\, April 5 @ 4 p.m.\nFriday\, May 3 @ 4 p.m.\nFriday\, August 2 @ 4 p.m.\nFriday\, September 6 @ 4 p.m.\nFriday\, October 4 @ 4 p.m.\nFriday\, November 1 @ 4 p.m.\nFriday\, December 6 @ 4 p.m.\nFriday\, January 3 @ 4 p.m.\nFriday\, February 7 @ 4 p.m.\nFriday\, March 7 @ 4 p.m.\nFriday\, April 4 @ 4 p.m.\nFriday\, May 2 @ 4 p.m.\n\nDisclaimer: All aspects of in-person programming are subject to change based on health crisis guidelines and procedures.
URL:https://ngrl.devtest.center/event/read-with-therapy-dogs-children/2025-02-07/
LOCATION:Calhoun-Gordon County Public Library\, 100 N Park Avenue\, Calhoun\, GA\, 30701\, United States
ATTACH;FMTTYPE=image/png:https://ngrl.devtest.center/wp-content/uploads/2021/09/Kids-Featured.png
END:VEVENT
BEGIN:VEVENT
DTSTART;TZID=America/New_York:20250207T160000
DTEND;TZID=America/New_York:20250207T170000
DTSTAMP:20260422T150839
CREATED:20250122T214616Z
LAST-MODIFIED:20250123T185145Z
UID:41070-1738944000-1738947600@ngrl.devtest.center
SUMMARY:Make a Valentine Bouquet with the Cricut -- Adults
DESCRIPTION:Open to adults 19 and older. Staff member Tori will lead an adult craft utilizing the library’s Cricut smart cutting machine. Participants will be able to design and customize Valentine bouquets that you can take home or give to a loved one. All materials provided free of charge. \n\nFriday\, February 3 @ 4 p.m.\n\nDisclaimer: All aspects of in-person programming are subject to change based on health crisis guidelines and procedures.
URL:https://ngrl.devtest.center/event/make-a-valentine-bouquet-with-the-circuit-adults/
LOCATION:Chatsworth-Murray County Public Library\, 706 Old Dalton Ellijay Rd\, Chatsworth\, GA\, 30705\, United States
ATTACH;FMTTYPE=image/png:https://ngrl.devtest.center/wp-content/uploads/2021/09/Adults-Featured.png
ORGANIZER;CN="Chatsworth-Murray County Library":MAILTO:ngrl.librarian@gmail.com
END:VEVENT
END:VCALENDAR