BEGIN:VCALENDAR
VERSION:2.0
PRODID:-//Northwest Georgia Regional Library System - ECPv6.15.17.1//NONSGML v1.0//EN
CALSCALE:GREGORIAN
METHOD:PUBLISH
X-WR-CALNAME:Northwest Georgia Regional Library System
X-ORIGINAL-URL:https://ngrl.devtest.center
X-WR-CALDESC:Events for Northwest Georgia Regional Library System
REFRESH-INTERVAL;VALUE=DURATION:PT1H
X-Robots-Tag:noindex
X-PUBLISHED-TTL:PT1H
BEGIN:VTIMEZONE
TZID:America/New_York
BEGIN:DAYLIGHT
TZOFFSETFROM:-0500
TZOFFSETTO:-0400
TZNAME:EDT
DTSTART:20240310T070000
END:DAYLIGHT
BEGIN:STANDARD
TZOFFSETFROM:-0400
TZOFFSETTO:-0500
TZNAME:EST
DTSTART:20241103T060000
END:STANDARD
BEGIN:DAYLIGHT
TZOFFSETFROM:-0500
TZOFFSETTO:-0400
TZNAME:EDT
DTSTART:20250309T070000
END:DAYLIGHT
BEGIN:STANDARD
TZOFFSETFROM:-0400
TZOFFSETTO:-0500
TZNAME:EST
DTSTART:20251102T060000
END:STANDARD
BEGIN:DAYLIGHT
TZOFFSETFROM:-0500
TZOFFSETTO:-0400
TZNAME:EDT
DTSTART:20260308T070000
END:DAYLIGHT
BEGIN:STANDARD
TZOFFSETFROM:-0400
TZOFFSETTO:-0500
TZNAME:EST
DTSTART:20261101T060000
END:STANDARD
END:VTIMEZONE
BEGIN:VEVENT
DTSTART;TZID=America/New_York:20250203T100000
DTEND;TZID=America/New_York:20250203T110000
DTSTAMP:20260422T084737
CREATED:20230524T172115Z
LAST-MODIFIED:20250428T140956Z
UID:41133-1738576800-1738580400@ngrl.devtest.center
SUMMARY:Workout with Nancy -- Adults
DESCRIPTION:Open to ages 18 and older. Get your heart pumping in this workout class led by Nancy Guzman. \n\nMondays @ 10:30 a.m. in August\nMondays @ 10:30 a.m. in September\nMondays @ 10:30 a.m. in October\nMondays @ 10:30 a.m. in November\nMondays @ 10:30 a.m. in December\nMondays @ 10:30 a.m. in January\nMondays @ 10:30 a.m. in February\nMondays @ 10:30 a.m. in March\nMondays @ 10:30 a.m. in April\nMondays @ 10:30 a.m. in May\nMondays @ 10:30 a.m. in June\nMondays @ 10:30 a.m. in July\nMondays @ 10:30 a.m. in August\nMondays @ 10:30 a.m. in September\nMondays @ 10 a.m. in October\nMondays @ 10 a.m. in November\nMondays @ 10 a.m. in December\nMondays @ 10 a.m. in January\nMondays @ 10 a.m. in February\nMondays @ 10 a.m. in March\nMondays @ 10 a.m. in April\nMonday May 5 & 19 @ 10 a.m.\n\nNo class January 1 & 15 \nNo class February 17 \nDisclaimer: All aspects of in-person programming are subject to change based on health crisis guidelines and procedures.
URL:https://ngrl.devtest.center/event/workout-with-nancy-adults/2025-02-03/
LOCATION:Calhoun-Gordon County Public Library\, 100 N Park Avenue\, Calhoun\, GA\, 30701\, United States
ATTACH;FMTTYPE=image/png:https://ngrl.devtest.center/wp-content/uploads/2021/09/Adults-Featured.png
END:VEVENT
BEGIN:VEVENT
DTSTART;TZID=America/New_York:20250203T110000
DTEND;TZID=America/New_York:20250203T120000
DTSTAMP:20260422T084737
CREATED:20221227T190026Z
LAST-MODIFIED:20260415T125837Z
UID:56496-1738580400-1738584000@ngrl.devtest.center
SUMMARY:Baby & Toddler Time -- Children
DESCRIPTION:Open to birth – preschool age. \nAn opportunity for young children to play\, dance\, listen to music\, hear stories\, and learn new things! \n\n\n\nMondays in July @ 11 a.m.\nMondays in August @ 11 a.m.\nMondays in September @ 11 a.m.\nMondays in October @ 11 a.m.\nMondays in November @ 11 a.m.\nMondays in December @ 11 a.m.\nMondays in January @ 11 a.m\n\n\n\n\nMondays in February @ 11 a.m.\nMondays in March @ 11 a.m.\nMondays in April @ 11 a.m.\n\n  \n\nClosed January 19\nClosed February 16 for Staff Service\n\nDisclaimer: All aspects of in-person programming are subject to change based on health crisis guidelines and procedures.
URL:https://ngrl.devtest.center/event/baby-toddler-time-children/2025-02-03/
LOCATION:Chatsworth-Murray County Public Library\, 706 Old Dalton Ellijay Rd\, Chatsworth\, GA\, 30705\, United States
ATTACH;FMTTYPE=image/png:https://ngrl.devtest.center/wp-content/uploads/2021/09/Kids-Featured.png
ORGANIZER;CN="Chatsworth-Murray County Library":MAILTO:ngrl.librarian@gmail.com
END:VEVENT
BEGIN:VEVENT
DTSTART;TZID=America/New_York:20250203T110000
DTEND;TZID=America/New_York:20250203T120000
DTSTAMP:20260422T084737
CREATED:20250122T213039Z
LAST-MODIFIED:20251022T203235Z
UID:41034-1738580400-1738584000@ngrl.devtest.center
SUMMARY:Computer Basics -- Adults (Bilingual)
DESCRIPTION:Patron Jerry Haley works studiously on one of the many computers in the library’s tech lab.\nOpen to adults 19 and older. This course is designed for beginners who would like to learn how to use a computer properly. The basic concepts of how to use a computer will be explored in a class by utilizing Windows 10. \n\nMonday\, February 3 @ 5:30 p.m.\nMonday\, April 21 @ 5:30 p.m.\nTuesday\, August 12 @ 5:30 p.m.\nTuesday\, September 16 @ 5:45 p.m.\nWednesday\, November 5 @ 11 a.m.\n\nDisclaimer: All aspects of in-person programming are subject to change based on health crisis guidelines and procedures.
URL:https://ngrl.devtest.center/event/computer-basics-adults-bilingual/2025-02-03/
LOCATION:Dalton-Whitfield County Public Library\, 310 Cappes St\, Dalton\, GA\, 30720\, United States
ATTACH;FMTTYPE=image/png:https://ngrl.devtest.center/wp-content/uploads/2021/09/Adults-Featured.png
ORGANIZER;CN="Dalton-Whitfield County Public Library":MAILTO:ngrl.librarian@gmail.com
END:VEVENT
BEGIN:VEVENT
DTSTART;TZID=America/New_York:20250203T133000
DTEND;TZID=America/New_York:20250203T143000
DTSTAMP:20260422T084737
CREATED:20250123T205618Z
LAST-MODIFIED:20250123T205811Z
UID:41638-1738589400-1738593000@ngrl.devtest.center
SUMMARY:Yoga with Judy -- Adults
DESCRIPTION:Open to adults 18 and older. Join Judy for a slow\, stress free yoga session. \n\nMonday\, February 3 and 24 @ 1:30 p.m.\n\nDisclaimer: All aspects of in-person programming are subject to change based on health crisis guidelines and procedures.
URL:https://ngrl.devtest.center/event/yoga-with-judy-adults/2025-02-03/
LOCATION:Calhoun-Gordon County Public Library\, 100 N Park Avenue\, Calhoun\, GA\, 30701\, United States
ATTACH;FMTTYPE=image/png:https://ngrl.devtest.center/wp-content/uploads/2021/09/Adults-Featured.png
END:VEVENT
BEGIN:VEVENT
DTSTART;TZID=America/New_York:20250203T160000
DTEND;TZID=America/New_York:20250203T170000
DTSTAMP:20260422T084737
CREATED:20241119T145705Z
LAST-MODIFIED:20250519T173945Z
UID:41283-1738598400-1738602000@ngrl.devtest.center
SUMMARY:Chess Club -- Kids
DESCRIPTION:Open to kids under 12. If you are interested in playing\, or learning to play the game\, come by and join the Chess Club. \n\nMonday\, December 2\, 16 & 30 @ 4 p.m.\nMonday\, January 13 @ 4 p.m.\nMondays in February @ 4 p.m.\nMondays in March @ 4 p.m.\nMondays in April @ 4 p.m.\nMondays in June @ 4 p.m.\nMondays in July @ 4 p.m.\n\nNo Chess Club on March 17 or 31 \nDisclaimer: All aspects of in-person programming are subject to change based on health crisis guidelines and procedures. \n  \n 
URL:https://ngrl.devtest.center/event/chess-club-kids-2/2025-02-03/
LOCATION:Calhoun-Gordon County Public Library\, 100 N Park Avenue\, Calhoun\, GA\, 30701\, United States
ATTACH;FMTTYPE=image/png:https://ngrl.devtest.center/wp-content/uploads/2021/09/Kids-Featured.png
END:VEVENT
BEGIN:VEVENT
DTSTART;TZID=America/New_York:20250203T163000
DTEND;TZID=America/New_York:20250203T173000
DTSTAMP:20260422T084737
CREATED:20241218T184620Z
LAST-MODIFIED:20241218T184620Z
UID:40956-1738600200-1738603800@ngrl.devtest.center
SUMMARY:Kids Library Lab: Perler Beads -- Kids
DESCRIPTION:Story Time – Celebrating Author Nancy Tafuri with crafts.\nOpen to children 1st to 5th grades. Create artwork that you can take with you. Supplies provided. \n\nMonday\, January 13 @ 4-5 p.m.\nMonday\, February 3 @ 4:30 p.m.\n\nDisclaimer: All aspects of in-person programming are subject to change based on health crisis guidelines and procedures.
URL:https://ngrl.devtest.center/event/kids-library-lab-perler-beads-kids/2025-02-03/
LOCATION:Dalton-Whitfield County Public Library\, 310 Cappes St\, Dalton\, GA\, 30720\, United States
ATTACH;FMTTYPE=image/png:https://ngrl.devtest.center/wp-content/uploads/2021/09/Kids-Featured.png
ORGANIZER;CN="Dalton-Whitfield County Public Library":MAILTO:ngrl.librarian@gmail.com
END:VEVENT
END:VCALENDAR