BEGIN:VCALENDAR
VERSION:2.0
PRODID:-//Northwest Georgia Regional Library System - ECPv6.15.17.1//NONSGML v1.0//EN
CALSCALE:GREGORIAN
METHOD:PUBLISH
X-ORIGINAL-URL:https://ngrl.devtest.center
X-WR-CALDESC:Events for Northwest Georgia Regional Library System
REFRESH-INTERVAL;VALUE=DURATION:PT1H
X-Robots-Tag:noindex
X-PUBLISHED-TTL:PT1H
BEGIN:VTIMEZONE
TZID:America/New_York
BEGIN:DAYLIGHT
TZOFFSETFROM:-0500
TZOFFSETTO:-0400
TZNAME:EDT
DTSTART:20240310T070000
END:DAYLIGHT
BEGIN:STANDARD
TZOFFSETFROM:-0400
TZOFFSETTO:-0500
TZNAME:EST
DTSTART:20241103T060000
END:STANDARD
BEGIN:DAYLIGHT
TZOFFSETFROM:-0500
TZOFFSETTO:-0400
TZNAME:EDT
DTSTART:20250309T070000
END:DAYLIGHT
BEGIN:STANDARD
TZOFFSETFROM:-0400
TZOFFSETTO:-0500
TZNAME:EST
DTSTART:20251102T060000
END:STANDARD
BEGIN:DAYLIGHT
TZOFFSETFROM:-0500
TZOFFSETTO:-0400
TZNAME:EDT
DTSTART:20260308T070000
END:DAYLIGHT
BEGIN:STANDARD
TZOFFSETFROM:-0400
TZOFFSETTO:-0500
TZNAME:EST
DTSTART:20261101T060000
END:STANDARD
END:VTIMEZONE
BEGIN:VEVENT
DTSTART;TZID=America/New_York:20250128T103000
DTEND;TZID=America/New_York:20250128T113000
DTSTAMP:20260422T150838
CREATED:20221227T185658Z
LAST-MODIFIED:20250428T140552Z
UID:40041-1738060200-1738063800@ngrl.devtest.center
SUMMARY:Noni's Nook Storytime -- Children
DESCRIPTION:Story time for ages 5 and under.  Come in for a fun storytime and craft with Miss Noni. This month we’ll be reading about octopi\, penguins\, quilts\, and robots in books written by Peter Bently\, Karin Akesson\, Philip Stead and more. \n\nTuesdays @ 10:30 a.m.\n\nDisclaimer: All aspects of in-person programming are subject to change based on health crisis guidelines and procedures.
URL:https://ngrl.devtest.center/event/nonis-nook-2023/2025-01-28/
LOCATION:Calhoun-Gordon County Public Library\, 100 N Park Avenue\, Calhoun\, GA\, 30701\, United States
ATTACH;FMTTYPE=image/png:https://ngrl.devtest.center/wp-content/uploads/2021/09/Kids-Featured.png
END:VEVENT
BEGIN:VEVENT
DTSTART;TZID=America/New_York:20250128T163000
DTEND;TZID=America/New_York:20250128T173000
DTSTAMP:20260422T150838
CREATED:20241218T185032Z
LAST-MODIFIED:20251022T195433Z
UID:39452-1738081800-1738085400@ngrl.devtest.center
SUMMARY:TnT J-Pop - Tweens and Teens
DESCRIPTION:Open to tweens and teens. Learn a variety of crafts at the library. All supplies provided. \n\nTuesday\, January 28 @ 4:30 p.m. Learn how to use the Circuit machine to create soot sprite tumblers.\nTuesday\, February 25 @ 4:30 p.m. Maria Block Pinatas.\nTuesday\, March 25 @ 4:30 p.m. Custom Claw Clips.\nTuesday\, April 29 @ 4:30 p.m. Gengar Yogurt Bowls.\nTuesday\, May 27 @ 4:30 p.m. Studio Ghibli Paint Along. All supplies provided.\nTuesday\, June 24 @ 4:30 p.m. Pokemon Card Stands.\nTuesday\, July 29 @ 4:30 p.m. Faux Stained Glass Art.\nTuesday\, August 26 @ 4:30 p.m. Miniature Rice Ball Vases.\nTuesday\, November 25 @ 4:30 p.m. Clay Keycups. All supplies provided.\n\nDisclaimer: All aspects of in-person programming are subject to change based on health crisis guidelines and procedures.
URL:https://ngrl.devtest.center/event/tnt-j-pop-tweens-and-teens/2025-01-28/
LOCATION:Dalton-Whitfield County Public Library\, 310 Cappes St\, Dalton\, GA\, 30720\, United States
ATTACH;FMTTYPE=image/png:https://ngrl.devtest.center/wp-content/uploads/2021/09/Teens-Featured.png
ORGANIZER;CN="Dalton-Whitfield County Public Library":MAILTO:ngrl.librarian@gmail.com
END:VEVENT
END:VCALENDAR