BEGIN:VCALENDAR
VERSION:2.0
PRODID:-//Northwest Georgia Regional Library System - ECPv6.15.17.1//NONSGML v1.0//EN
CALSCALE:GREGORIAN
METHOD:PUBLISH
X-ORIGINAL-URL:https://ngrl.devtest.center
X-WR-CALDESC:Events for Northwest Georgia Regional Library System
REFRESH-INTERVAL;VALUE=DURATION:PT1H
X-Robots-Tag:noindex
X-PUBLISHED-TTL:PT1H
BEGIN:VTIMEZONE
TZID:America/New_York
BEGIN:DAYLIGHT
TZOFFSETFROM:-0500
TZOFFSETTO:-0400
TZNAME:EDT
DTSTART:20240310T070000
END:DAYLIGHT
BEGIN:STANDARD
TZOFFSETFROM:-0400
TZOFFSETTO:-0500
TZNAME:EST
DTSTART:20241103T060000
END:STANDARD
BEGIN:DAYLIGHT
TZOFFSETFROM:-0500
TZOFFSETTO:-0400
TZNAME:EDT
DTSTART:20250309T070000
END:DAYLIGHT
BEGIN:STANDARD
TZOFFSETFROM:-0400
TZOFFSETTO:-0500
TZNAME:EST
DTSTART:20251102T060000
END:STANDARD
BEGIN:DAYLIGHT
TZOFFSETFROM:-0500
TZOFFSETTO:-0400
TZNAME:EDT
DTSTART:20260308T070000
END:DAYLIGHT
BEGIN:STANDARD
TZOFFSETFROM:-0400
TZOFFSETTO:-0500
TZNAME:EST
DTSTART:20261101T060000
END:STANDARD
END:VTIMEZONE
BEGIN:VEVENT
DTSTART;VALUE=DATE:20250120
DTEND;VALUE=DATE:20250121
DTSTAMP:20260422T053308
CREATED:20241223T152533Z
LAST-MODIFIED:20241223T152533Z
UID:40093-1737331200-1737417599@ngrl.devtest.center
SUMMARY:CLOSED for MLK Day -- All NGRL Branches
DESCRIPTION:We will be closed for the Martin Luther King Jr. holiday.  We hope you have a safe\, happy holiday! \n\nCLOSED Saturday\, January 18\nCLOSED Monday\, January 20\n\nThe bookdrop will be open for returns. No materials will be due while we are closed. Downloadable items will still be available via Libby.
URL:https://ngrl.devtest.center/event/closed-for-mlk-day-2025/2025-01-20/
LOCATION:GA
ATTACH;FMTTYPE=image/png:https://ngrl.devtest.center/wp-content/uploads/2021/09/Closed-Featured.png
END:VEVENT
BEGIN:VEVENT
DTSTART;TZID=America/New_York:20250120T160000
DTEND;TZID=America/New_York:20250120T170000
DTSTAMP:20260422T053308
CREATED:20241119T145705Z
LAST-MODIFIED:20250519T173944Z
UID:41281-1737388800-1737392400@ngrl.devtest.center
SUMMARY:Chess Club -- Kids
DESCRIPTION:Open to kids under 12. If you are interested in playing\, or learning to play the game\, come by and join the Chess Club. \n\nMonday\, December 2\, 16 & 30 @ 4 p.m.\nMonday\, January 13 @ 4 p.m.\nMondays in February @ 4 p.m.\nMondays in March @ 4 p.m.\nMondays in April @ 4 p.m.\nMondays in June @ 4 p.m.\nMondays in July @ 4 p.m.\n\nNo Chess Club on March 17 or 31 \nDisclaimer: All aspects of in-person programming are subject to change based on health crisis guidelines and procedures. \n  \n 
URL:https://ngrl.devtest.center/event/chess-club-kids-2/2025-01-20/
LOCATION:Calhoun-Gordon County Public Library\, 100 N Park Avenue\, Calhoun\, GA\, 30701\, United States
ATTACH;FMTTYPE=image/png:https://ngrl.devtest.center/wp-content/uploads/2021/09/Kids-Featured.png
END:VEVENT
END:VCALENDAR