BEGIN:VCALENDAR
VERSION:2.0
PRODID:-//Northwest Georgia Regional Library System - ECPv6.15.17.1//NONSGML v1.0//EN
CALSCALE:GREGORIAN
METHOD:PUBLISH
X-ORIGINAL-URL:https://ngrl.devtest.center
X-WR-CALDESC:Events for Northwest Georgia Regional Library System
REFRESH-INTERVAL;VALUE=DURATION:PT1H
X-Robots-Tag:noindex
X-PUBLISHED-TTL:PT1H
BEGIN:VTIMEZONE
TZID:America/New_York
BEGIN:DAYLIGHT
TZOFFSETFROM:-0500
TZOFFSETTO:-0400
TZNAME:EDT
DTSTART:20240310T070000
END:DAYLIGHT
BEGIN:STANDARD
TZOFFSETFROM:-0400
TZOFFSETTO:-0500
TZNAME:EST
DTSTART:20241103T060000
END:STANDARD
BEGIN:DAYLIGHT
TZOFFSETFROM:-0500
TZOFFSETTO:-0400
TZNAME:EDT
DTSTART:20250309T070000
END:DAYLIGHT
BEGIN:STANDARD
TZOFFSETFROM:-0400
TZOFFSETTO:-0500
TZNAME:EST
DTSTART:20251102T060000
END:STANDARD
BEGIN:DAYLIGHT
TZOFFSETFROM:-0500
TZOFFSETTO:-0400
TZNAME:EDT
DTSTART:20260308T070000
END:DAYLIGHT
BEGIN:STANDARD
TZOFFSETFROM:-0400
TZOFFSETTO:-0500
TZNAME:EST
DTSTART:20261101T060000
END:STANDARD
END:VTIMEZONE
BEGIN:VEVENT
DTSTART;TZID=America/New_York:20250114T103000
DTEND;TZID=America/New_York:20250114T113000
DTSTAMP:20260422T150837
CREATED:20221227T185658Z
LAST-MODIFIED:20250428T140551Z
UID:40039-1736850600-1736854200@ngrl.devtest.center
SUMMARY:Noni's Nook Storytime -- Children
DESCRIPTION:Story time for ages 5 and under.  Come in for a fun storytime and craft with Miss Noni. This month we’ll be reading about octopi\, penguins\, quilts\, and robots in books written by Peter Bently\, Karin Akesson\, Philip Stead and more. \n\nTuesdays @ 10:30 a.m.\n\nDisclaimer: All aspects of in-person programming are subject to change based on health crisis guidelines and procedures.
URL:https://ngrl.devtest.center/event/nonis-nook-2023/2025-01-14/
LOCATION:Calhoun-Gordon County Public Library\, 100 N Park Avenue\, Calhoun\, GA\, 30701\, United States
ATTACH;FMTTYPE=image/png:https://ngrl.devtest.center/wp-content/uploads/2021/09/Kids-Featured.png
END:VEVENT
BEGIN:VEVENT
DTSTART;TZID=America/New_York:20250114T103000
DTEND;TZID=America/New_York:20250114T113000
DTSTAMP:20260422T150837
CREATED:20240719T141329Z
LAST-MODIFIED:20250522T160643Z
UID:38829-1736850600-1736854200@ngrl.devtest.center
SUMMARY:Homeschool Meetup - Tweens and Teens
DESCRIPTION:Open to ages. 10-18. Homeschoolers are invited to have some fun making crafts or playing games. \n\nMonday\, August 6 & 20 @ 10:30 a.m.\nTuesday\, September 3 & 17 @ 11 a.m.\nTuesday\, October 8 & 22 @ 11 a.m.\nTuesday\, November 5 & 19 @ 11 a.m.\nTuesday\, December 3 & 17 @ 11 a.m.\nTuesday\, January 14  @ 11 a.m.\nTuesday\, March 11 & 25 @ 11 a.m.\nTuesday\, April 22 @ 11 a.m.\nTuesday\, May 6 & 20 @ 11 a.m.\nTuesday\, June 10 & 24 @ 11 a.m.\nTuesday\, July 8 & 22 @ 11 a.m.\n\nDisclaimer: All aspects of in-person programming are subject to change based on health crisis guidelines and procedures.
URL:https://ngrl.devtest.center/event/homeschool-meetup-tweens-and-teens/2025-01-14/
LOCATION:Calhoun-Gordon County Public Library\, 100 N Park Avenue\, Calhoun\, GA\, 30701\, United States
ATTACH;FMTTYPE=image/png:https://ngrl.devtest.center/wp-content/uploads/2021/09/Teens-Featured.png
END:VEVENT
BEGIN:VEVENT
DTSTART;TZID=America/New_York:20250114T160000
DTEND;TZID=America/New_York:20250114T170000
DTSTAMP:20260422T150837
CREATED:20230316T215153Z
LAST-MODIFIED:20250224T154202Z
UID:38867-1736870400-1736874000@ngrl.devtest.center
SUMMARY:Book Club -- Tweens
DESCRIPTION:Open to 3rd – 6th grade. \nGather to enjoy some book club fun. Participants can share what they have learned and read in a fun and casual setting. \n\nFriday\, April 14 @ 4:30 p.m.\nTuesday\, May 14 @ 4 p.m.\nTuesday\, May 28 @ 4 p.m.\nTuesday\, June 11 @ 4 p.m.\nTuesday\, June 25 @ 4 p.m.\nTuesday\, July 9 @ 4 p.m.\nTuesday\, July 23 @ 4 p.m.\nTuesday\, August 6 @ 4 p.m.\nTuesday\, August 20 @ 4 p.m.\nTuesday\, September 3 & 17 @ 4 p.m.\nTuesday\, October 1 & 15 @ 4 p.m.\nTuesday\, November 5 & 19 @ 4 p.m.\nTuesday\, December 3 & 17 @ 4 p.m.\nTuesday\, January 14 @ 4 p.m.\nTuesday\, February 18 @ 4 p.m.\nTuesday\, March 18 @ 4 p.m.\n\nDisclaimer: All aspects of in-person programming are subject to change based on health crisis guidelines and procedures.
URL:https://ngrl.devtest.center/event/book-club-tweens-teens-2-2024-05-14-2024-05-28/2025-01-14/
LOCATION:Calhoun-Gordon County Public Library\, 100 N Park Avenue\, Calhoun\, GA\, 30701\, United States
ATTACH;FMTTYPE=image/png:https://ngrl.devtest.center/wp-content/uploads/2021/09/Teens-Featured.png
END:VEVENT
BEGIN:VEVENT
DTSTART;TZID=America/New_York:20250114T160000
DTEND;TZID=America/New_York:20250114T170000
DTSTAMP:20260422T150837
CREATED:20240129T135928Z
LAST-MODIFIED:20250924T165351Z
UID:38856-1736870400-1736874000@ngrl.devtest.center
SUMMARY:Grief Support -- Adults
DESCRIPTION:Open to adults 18 and older. If you or someone you know is in need\, come this session sponsored by Pruitt Health. \n\nTuesday\, February 27 @ 4 p.m.\nTuesday\, March 26 @ 4 p.m.\nTuesday\, April 30 @ 4 p.m.\nTuesday\, May 28 @ 4 p.m.\nTuesday\, June 25 @ 4:30 p.m.\nTuesday\, July 30 @ 4:30 p.m.\nTuesday\, September 24 @ 4 p.m.\nTuesday\, October 29 @ 4 p.m.\nTuesday\, November 26 @ 4 p.m.\nTuesday\, December 17 @ 4 p.m.\nTuesday\, January 14 @ 4 p.m.\nTuesday\, February 18 @ 4 p.m.\nTuesday\, March 18 @ 4 p.m.\nTuesday\, April 15 @ 4 p.m.\nTuesday\, May 13 @ 4 p.m.\nTuesday\, June 24 @ 4:30 p.m.\nTuesday\, July 29 @ 4:30 p.m.\nTuesday\, August 26 @ 4:30 p.m.\nTuesday\, September 30 @ 4:30 p.m.\nTuesday\, October 28 @ 4:30 p.m.\n\nDisclaimer: All aspects of in-person programming are subject to change based on health crisis guidelines and procedures.
URL:https://ngrl.devtest.center/event/grief-support-adults/2025-01-14/
LOCATION:Calhoun-Gordon County Public Library\, 100 N Park Avenue\, Calhoun\, GA\, 30701\, United States
ATTACH;FMTTYPE=image/png:https://ngrl.devtest.center/wp-content/uploads/2021/09/Adults-Featured.png
END:VEVENT
BEGIN:VEVENT
DTSTART;TZID=America/New_York:20250114T160000
DTEND;TZID=America/New_York:20250114T170000
DTSTAMP:20260422T150837
CREATED:20241217T201501Z
LAST-MODIFIED:20241217T203231Z
UID:38727-1736870400-1736874000@ngrl.devtest.center
SUMMARY:Career Day: Chatsworth Mayor -- All Ages
DESCRIPTION:Open to all ages. This month we will be joined by the mayor of Chatsworth\, K. W. Gong. Drop by to fin out what the mayor does and ask him any questions you might have. \n\nTuesday\, January 14 @ 4 p.m.\n\nDisclaimer: All aspects of in-person programming are subject to change based on health crisis guidelines and procedures.
URL:https://ngrl.devtest.center/event/career-day-chatsworth-mayor-all-ages/
LOCATION:Chatsworth-Murray County Public Library\, 706 Old Dalton Ellijay Rd\, Chatsworth\, GA\, 30705\, United States
ATTACH;FMTTYPE=image/png:https://ngrl.devtest.center/wp-content/uploads/2021/09/All-Ages-Featured.png
ORGANIZER;CN="Chatsworth-Murray County Library":MAILTO:ngrl.librarian@gmail.com
END:VEVENT
BEGIN:VEVENT
DTSTART;TZID=America/New_York:20250114T163000
DTEND;TZID=America/New_York:20250114T173000
DTSTAMP:20260422T150837
CREATED:20241218T195442Z
LAST-MODIFIED:20241218T202240Z
UID:39461-1736872200-1736875800@ngrl.devtest.center
SUMMARY:TnT DIY: Disc-Bound Planners -- Tweens and Teens
DESCRIPTION:Open to tweens and teens. Learn how to design and assemble disc-bound planners. All supplies provided. \n\nTuesday\, January 14 @ 4:30 p.m.\n\nDisclaimer: All aspects of in-person programming are subject to change based on health crisis guidelines and procedures.
URL:https://ngrl.devtest.center/event/tnt-diy-disc-bound-planners-tweens-and-teens/
LOCATION:Dalton-Whitfield County Public Library\, 310 Cappes St\, Dalton\, GA\, 30720\, United States
ATTACH;FMTTYPE=image/png:https://ngrl.devtest.center/wp-content/uploads/2021/09/Teens-Featured.png
ORGANIZER;CN="Dalton-Whitfield County Public Library":MAILTO:ngrl.librarian@gmail.com
END:VEVENT
END:VCALENDAR