BEGIN:VCALENDAR
VERSION:2.0
PRODID:-//Northwest Georgia Regional Library System - ECPv6.15.17.1//NONSGML v1.0//EN
CALSCALE:GREGORIAN
METHOD:PUBLISH
X-WR-CALNAME:Northwest Georgia Regional Library System
X-ORIGINAL-URL:https://ngrl.devtest.center
X-WR-CALDESC:Events for Northwest Georgia Regional Library System
REFRESH-INTERVAL;VALUE=DURATION:PT1H
X-Robots-Tag:noindex
X-PUBLISHED-TTL:PT1H
BEGIN:VTIMEZONE
TZID:America/New_York
BEGIN:DAYLIGHT
TZOFFSETFROM:-0500
TZOFFSETTO:-0400
TZNAME:EDT
DTSTART:20240310T070000
END:DAYLIGHT
BEGIN:STANDARD
TZOFFSETFROM:-0400
TZOFFSETTO:-0500
TZNAME:EST
DTSTART:20241103T060000
END:STANDARD
BEGIN:DAYLIGHT
TZOFFSETFROM:-0500
TZOFFSETTO:-0400
TZNAME:EDT
DTSTART:20250309T070000
END:DAYLIGHT
BEGIN:STANDARD
TZOFFSETFROM:-0400
TZOFFSETTO:-0500
TZNAME:EST
DTSTART:20251102T060000
END:STANDARD
BEGIN:DAYLIGHT
TZOFFSETFROM:-0500
TZOFFSETTO:-0400
TZNAME:EDT
DTSTART:20260308T070000
END:DAYLIGHT
BEGIN:STANDARD
TZOFFSETFROM:-0400
TZOFFSETTO:-0500
TZNAME:EST
DTSTART:20261101T060000
END:STANDARD
END:VTIMEZONE
BEGIN:VEVENT
DTSTART;TZID=America/New_York:20250110T103000
DTEND;TZID=America/New_York:20250110T113000
DTSTAMP:20260422T084639
CREATED:20230220T191140Z
LAST-MODIFIED:20250109T152546Z
UID:39053-1736505000-1736508600@ngrl.devtest.center
SUMMARY:Zumba -- Adults
DESCRIPTION:Open to ages 18 and older. Get your heart pumping with this Latin music-based workout led by Nancy Guzman. \n\nWeekly on Fridays @ 10:30 a.m. \n\n  \n\nThursday\, December 14 @10:30 a.m.\nFriday\, December 1\, 8 and 29 @ 10:30 a.m.\nFriday\, September 13 & 27 @ 10:30 a.m.\nFriday\, October 11 & 25 @ 10:30 a.m.\nFriday\, November 8 & 22 @ 10:30 a.m.\nFriday\, December 6 & 20 @ 10:30 a.m.\nFriday\, January 10\, 24 & 31 @ 10:30 a.m.\n\nDisclaimer: All aspects of in-person programming are subject to change based on health crisis guidelines and procedures.
URL:https://ngrl.devtest.center/event/zumba-adults-2025-01-10/
LOCATION:Calhoun-Gordon County Public Library\, 100 N Park Avenue\, Calhoun\, GA\, 30701\, United States
ATTACH;FMTTYPE=image/png:https://ngrl.devtest.center/wp-content/uploads/2021/09/Adults-Featured.png
END:VEVENT
BEGIN:VEVENT
DTSTART;TZID=America/New_York:20250110T103000
DTEND;TZID=America/New_York:20250110T113000
DTSTAMP:20260422T084639
CREATED:20241022T124551Z
LAST-MODIFIED:20250109T152506Z
UID:38998-1736505000-1736508600@ngrl.devtest.center
SUMMARY:Veterans Coffee -- Adults
DESCRIPTION:Open to adults 19 and older. Vets are invited to join this social coffee hour in our history room. \n\nFridays at 10:30 a.m.\n\nDisclaimer: All aspects of in-person programming are subject to change based on health crisis guidelines and procedures.
URL:https://ngrl.devtest.center/event/veterans-coffee-adults-2025-01-10/
LOCATION:Calhoun-Gordon County Public Library\, 100 N Park Avenue\, Calhoun\, GA\, 30701\, United States
ATTACH;FMTTYPE=image/png:https://ngrl.devtest.center/wp-content/uploads/2021/09/Adults-Featured.png
END:VEVENT
BEGIN:VEVENT
DTSTART;TZID=America/New_York:20250110T150000
DTEND;TZID=America/New_York:20250110T170000
DTSTAMP:20260422T084639
CREATED:20240124T163413Z
LAST-MODIFIED:20250109T152822Z
UID:39403-1736521200-1736528400@ngrl.devtest.center
SUMMARY:LEGOs @ the Library
DESCRIPTION:Open to pre-K to 5th grade. Kids can play with our big collection of LEGO® and Duplo® bricks. Drop in and try a different LEGO® challenge each week or just enjoy some building time. \n\nFridays @ 3 – 5 p.m.\n\nDisclaimer: All aspects of in-person programming are subject to change based on health crisis guidelines and procedures.
URL:https://ngrl.devtest.center/event/legos-the-library-2025-01-10/
LOCATION:Dalton-Whitfield County Public Library\, 310 Cappes St\, Dalton\, GA\, 30720\, United States
ORGANIZER;CN="Dalton-Whitfield County Public Library":MAILTO:ngrl.librarian@gmail.com
END:VEVENT
BEGIN:VEVENT
DTSTART;TZID=America/New_York:20250110T160000
DTEND;TZID=America/New_York:20250110T170000
DTSTAMP:20260422T084639
CREATED:20230818T181645Z
LAST-MODIFIED:20250109T154113Z
UID:39412-1736524800-1736528400@ngrl.devtest.center
SUMMARY:TnT Game on @ the Library - Tweens and Teens
DESCRIPTION:Open to 6th – 12th grade. Explore and enjoy our collection of board games and video game consoles. \n\nFridays from 4-5 p.m.\nNo Game on November 29.\n\nDisclaimer: All aspects of in-person programming are subject to change based on health crisis guidelines and procedures.
URL:https://ngrl.devtest.center/event/tnt-game-on-the-library-tweens-and-teens-2024-02-02-2024-02-09-2025-01-10/
LOCATION:Dalton-Whitfield County Public Library\, 310 Cappes St\, Dalton\, GA\, 30720\, United States
ATTACH;FMTTYPE=image/png:https://ngrl.devtest.center/wp-content/uploads/2021/09/Teens-Featured.png
ORGANIZER;CN="Dalton-Whitfield County Public Library":MAILTO:ngrl.librarian@gmail.com
END:VEVENT
BEGIN:VEVENT
DTSTART;TZID=America/New_York:20250110T160000
DTEND;TZID=America/New_York:20250110T170000
DTSTAMP:20260422T084639
CREATED:20240719T111826Z
LAST-MODIFIED:20250428T173504Z
UID:39116-1736524800-1736528400@ngrl.devtest.center
SUMMARY:S.T.E.A.M. Storytime - Children
DESCRIPTION:Open to children 5-12. Join Miss Katya for a story and an experiment. \n\nThursday\, October 24 @ 4 p.m.\nThursday\, November 21 @ 4 p.m.\nThursday\, December 13 @ 4 p.m.\nThursday\, January 10 @ 4 p.m. This month — Paddle Boats\nThursday\, February 21 @ 4 p.m.\nThursday\, March 27 @ 4 p.m.\nThursday\, April 17 @ 4 p.m.\nThursday\, May 23 @ 4 p.m.\n\nDisclaimer: All aspects of in-person programming are subject to change based on health crisis guidelines and procedures.
URL:https://ngrl.devtest.center/event/s-t-e-a-m-storytime-children-2-2025-01-10/2025-01-10/
LOCATION:Calhoun-Gordon County Public Library\, 100 N Park Avenue\, Calhoun\, GA\, 30701\, United States
ATTACH;FMTTYPE=image/png:https://ngrl.devtest.center/wp-content/uploads/2021/09/Kids-Featured.png
END:VEVENT
BEGIN:VEVENT
DTSTART;TZID=America/New_York:20250110T160000
DTEND;TZID=America/New_York:20250110T173000
DTSTAMP:20260422T084639
CREATED:20240125T152323Z
LAST-MODIFIED:20250122T160909Z
UID:38672-1736524800-1736530200@ngrl.devtest.center
SUMMARY:Magic the Gathering & Pokemon Card Games -- Children
DESCRIPTION:Open to kids. This is an opportunity for people to come and play collectible card games such as Magic the Gathering and Pokémon the Card Game. \n\nWednesday\, February 21 @ 4-5 p.m.\nFriday\, March 8 @ 4-5:30 p.m.\nFriday\, April 12 @ 4-5:30 p.m.\nFriday\, May 10 @ 4-5:30 p.m.\nFriday\, June 14 @ 4-5:30 p.m.\nFriday\, July 12 @ 4-5:30 p.m.\nFriday\, August 9 @ 4-5:30 p.m.\nFriday\, September 13 @ 4-5:30 p.m.\nFriday\, October 11 @ 4-5:30 p.m.\nFriday\, November 8 @ 4-5:30 p.m.\nFriday\, December 6 @ 4-5:30 p.m.\nFriday\, January 10 @ 4-5:30 p.m.\nTuesday\, February 25 @ 4-5:30 p.m.\n\nDisclaimer: All aspects of in-person programming are subject to change based on health crisis guidelines and procedures.
URL:https://ngrl.devtest.center/event/magic-the-gathering-pokemon-card-games-children-2024-03-08-2025-01-10/2025-01-10/
LOCATION:Chatsworth-Murray County Public Library\, 706 Old Dalton Ellijay Rd\, Chatsworth\, GA\, 30705\, United States
ATTACH;FMTTYPE=image/png:https://ngrl.devtest.center/wp-content/uploads/2021/09/Kids-Featured.png
ORGANIZER;CN="Chatsworth-Murray County Library":MAILTO:ngrl.librarian@gmail.com
END:VEVENT
END:VCALENDAR