BEGIN:VCALENDAR
VERSION:2.0
PRODID:-//Northwest Georgia Regional Library System - ECPv6.15.17.1//NONSGML v1.0//EN
CALSCALE:GREGORIAN
METHOD:PUBLISH
X-ORIGINAL-URL:https://ngrl.devtest.center
X-WR-CALDESC:Events for Northwest Georgia Regional Library System
REFRESH-INTERVAL;VALUE=DURATION:PT1H
X-Robots-Tag:noindex
X-PUBLISHED-TTL:PT1H
BEGIN:VTIMEZONE
TZID:America/New_York
BEGIN:DAYLIGHT
TZOFFSETFROM:-0500
TZOFFSETTO:-0400
TZNAME:EDT
DTSTART:20240310T070000
END:DAYLIGHT
BEGIN:STANDARD
TZOFFSETFROM:-0400
TZOFFSETTO:-0500
TZNAME:EST
DTSTART:20241103T060000
END:STANDARD
BEGIN:DAYLIGHT
TZOFFSETFROM:-0500
TZOFFSETTO:-0400
TZNAME:EDT
DTSTART:20250309T070000
END:DAYLIGHT
BEGIN:STANDARD
TZOFFSETFROM:-0400
TZOFFSETTO:-0500
TZNAME:EST
DTSTART:20251102T060000
END:STANDARD
BEGIN:DAYLIGHT
TZOFFSETFROM:-0500
TZOFFSETTO:-0400
TZNAME:EDT
DTSTART:20260308T070000
END:DAYLIGHT
BEGIN:STANDARD
TZOFFSETFROM:-0400
TZOFFSETTO:-0500
TZNAME:EST
DTSTART:20261101T060000
END:STANDARD
END:VTIMEZONE
BEGIN:VEVENT
DTSTART;TZID=America/New_York:20250107T100000
DTEND;TZID=America/New_York:20250107T110000
DTSTAMP:20260422T150839
CREATED:20221227T185652Z
LAST-MODIFIED:20250428T140322Z
UID:39891-1736244000-1736247600@ngrl.devtest.center
SUMMARY:Knit & Crochet Club -- Adults
DESCRIPTION:Open to ages 12 and older. Do you enjoy knitting or crocheting? Or have you always wanted to learn? Come join this fun and informal group suitable for the complete beginner to the advanced crafts person! \n\nFirst & third Tuesdays @ 10:00am\n\nSaturday\, March 8 & 22 @ 10 a.m.\nSaturday\, April 12 @ 10 a.m.\nSaturday\, May 10 @ 10 a.m.\n\nDisclaimer: All aspects of in-person programming are subject to change based on health crisis guidelines and procedures.
URL:https://ngrl.devtest.center/event/knit-crochet-club-adults-2-2023-06-06-2024-01-16-2024-02-27/2025-01-07/
LOCATION:Calhoun-Gordon County Public Library\, 100 N Park Avenue\, Calhoun\, GA\, 30701\, United States
ATTACH;FMTTYPE=image/png:https://ngrl.devtest.center/wp-content/uploads/2021/09/Adults-Featured.png
END:VEVENT
BEGIN:VEVENT
DTSTART;TZID=America/New_York:20250107T103000
DTEND;TZID=America/New_York:20250107T113000
DTSTAMP:20260422T150839
CREATED:20221227T185658Z
LAST-MODIFIED:20250428T140551Z
UID:40038-1736245800-1736249400@ngrl.devtest.center
SUMMARY:Noni's Nook Storytime -- Children
DESCRIPTION:Story time for ages 5 and under.  Come in for a fun storytime and craft with Miss Noni. This month we’ll be reading about octopi\, penguins\, quilts\, and robots in books written by Peter Bently\, Karin Akesson\, Philip Stead and more. \n\nTuesdays @ 10:30 a.m.\n\nDisclaimer: All aspects of in-person programming are subject to change based on health crisis guidelines and procedures.
URL:https://ngrl.devtest.center/event/nonis-nook-2023/2025-01-07/
LOCATION:Calhoun-Gordon County Public Library\, 100 N Park Avenue\, Calhoun\, GA\, 30701\, United States
ATTACH;FMTTYPE=image/png:https://ngrl.devtest.center/wp-content/uploads/2021/09/Kids-Featured.png
END:VEVENT
BEGIN:VEVENT
DTSTART;TZID=America/New_York:20250107T130000
DTEND;TZID=America/New_York:20250107T150000
DTSTAMP:20260422T150839
CREATED:20240124T214854Z
LAST-MODIFIED:20250320T160509Z
UID:38551-1736254800-1736262000@ngrl.devtest.center
SUMMARY:Homeschool Hangout -- Children
DESCRIPTION:Open to all ages. \nEnjoy a chance for homeschooling families to meet at the library. \n\nWednesday\, March 1 @ 3 – 5 p.m.\nMonday\, April 10 @ 3 – 5 p.m.\nFriday\, April 21 @ 3 – 5 p.m.\nWednesday\, May 3 @ 3 – 5 p.m.\nFriday\, May 19 @ 3 – 5 p.m.\nWednesday\, June 7 @ 3 – 5 p.m.\nFriday\, June 16 @ 3 – 5 p.m.\nWednesday\, July 5 @ 3 – 5 p.m.\nFriday\, July 21 @ 3 – 5 p.m.\nWednesday\, August 2 @ 3 – 5 p.m.\nFriday\, August 18 @ 3 – 5 p.m.\nWednesday\, September 6 @ 3-5 p.m.\nFriday\, September 15 @ 3-5 p.m.\nWednesday\, October 4 @ 3-5 p.m.\nFriday\, October 20 @ 2-4 p.m.\nWednesday\, November 1 @ 3-5 p.m.\nFriday\, November 17 @ 2-4 p.m.\nWednesday\, December 6 @ 3-5 p.m.\nFriday\, December 15 @ 2-4 p.m.\nWednesday\, January 3 @ 10 a.m. – noon\nFriday\, January 19 @ 2-4 p.m.\nWednesday\, February 7 @ 10 a.m. – noon\nFriday\, February 16 @ 2-4 p.m.\nTuesday\, March 5 @ 2-4 p.m.\nFriday\, March 15 @ 2-4 p.m.\nTuesday\, April 2 @ 2-4 p.m.\nFriday\, April 19 @ 2-4 p.m.\nTuesday\, May 7 @ 2-4 p.m.\nFriday\, May 17 @ 2-4 p.m.\nFriday\, June 21 @ 2-4 p.m.\nFriday\, July 19 @ 2-4 p.m.\nFriday\, August 16 @ 2-4 p.m.\nMonday\, September 9 @ 1-3 p.m.\nFriday\, September 20 @ 2-4 p.m.\nTuesday\, October 8 @ 1-3 p.m.\nFriday\, October 18 @ 2-4 p.m.\nTuesday\, November 5 @ 1-3 p.m.\nFriday\, November 15 @ 2-4 p.m.\nTuesday\, December 3 @ 1-3 p.m.\nFriday\, December 20 @ 2-4 p.m.\nTuesday\, January 7 @ 1-3 p.m.\nFriday\, January 17 @ 2-4 p.m.\nTuesday\, February 4 & 18 @ 2-4 p.m.\nTuesday\, March 25 @ 2-4 p.m.\nTuesday\, April 22 @ 2-4 p.m.\n\nDisclaimer: All aspects of in-person programming are subject to change based on health crisis guidelines and procedures.
URL:https://ngrl.devtest.center/event/homeschool-hangout-children/2025-01-07/
LOCATION:Chatsworth-Murray County Public Library\, 706 Old Dalton Ellijay Rd\, Chatsworth\, GA\, 30705\, United States
ATTACH;FMTTYPE=image/png:https://ngrl.devtest.center/wp-content/uploads/2021/09/Kids-Featured.png
ORGANIZER;CN="Chatsworth-Murray County Library":MAILTO:ngrl.librarian@gmail.com
END:VEVENT
BEGIN:VEVENT
DTSTART;TZID=America/New_York:20250107T160000
DTEND;TZID=America/New_York:20250107T170000
DTSTAMP:20260422T150839
CREATED:20241120T142824Z
LAST-MODIFIED:20250218T153345Z
UID:38656-1736265600-1736269200@ngrl.devtest.center
SUMMARY:Play Chess -- Kids
DESCRIPTION:Open to kids under 12. Come play chess with us. Hone your skills and face off against different opponents. \n\nDecember 3 @ 4 p.m.\nJanuary 7 @ 4 p.m.\nFebruary 4 @ 4 p.m.\nMarch 10 @ 4 p.m.\n\nDisclaimer: All aspects of in-person programming are subject to change based on health crisis guidelines and procedures.
URL:https://ngrl.devtest.center/event/play-chess-kids/2025-01-07/
LOCATION:Chatsworth-Murray County Public Library\, 706 Old Dalton Ellijay Rd\, Chatsworth\, GA\, 30705\, United States
ATTACH;FMTTYPE=image/png:https://ngrl.devtest.center/wp-content/uploads/2021/09/Kids-Featured.png
ORGANIZER;CN="Chatsworth-Murray County Library":MAILTO:ngrl.librarian@gmail.com
END:VEVENT
END:VCALENDAR