BEGIN:VCALENDAR
VERSION:2.0
PRODID:-//Northwest Georgia Regional Library System - ECPv6.15.17.1//NONSGML v1.0//EN
CALSCALE:GREGORIAN
METHOD:PUBLISH
X-WR-CALNAME:Northwest Georgia Regional Library System
X-ORIGINAL-URL:https://ngrl.devtest.center
X-WR-CALDESC:Events for Northwest Georgia Regional Library System
REFRESH-INTERVAL;VALUE=DURATION:PT1H
X-Robots-Tag:noindex
X-PUBLISHED-TTL:PT1H
BEGIN:VTIMEZONE
TZID:America/New_York
BEGIN:DAYLIGHT
TZOFFSETFROM:-0500
TZOFFSETTO:-0400
TZNAME:EDT
DTSTART:20230312T070000
END:DAYLIGHT
BEGIN:STANDARD
TZOFFSETFROM:-0400
TZOFFSETTO:-0500
TZNAME:EST
DTSTART:20231105T060000
END:STANDARD
BEGIN:DAYLIGHT
TZOFFSETFROM:-0500
TZOFFSETTO:-0400
TZNAME:EDT
DTSTART:20240310T070000
END:DAYLIGHT
BEGIN:STANDARD
TZOFFSETFROM:-0400
TZOFFSETTO:-0500
TZNAME:EST
DTSTART:20241103T060000
END:STANDARD
BEGIN:DAYLIGHT
TZOFFSETFROM:-0500
TZOFFSETTO:-0400
TZNAME:EDT
DTSTART:20250309T070000
END:DAYLIGHT
BEGIN:STANDARD
TZOFFSETFROM:-0400
TZOFFSETTO:-0500
TZNAME:EST
DTSTART:20251102T060000
END:STANDARD
END:VTIMEZONE
BEGIN:VEVENT
DTSTART;TZID=America/New_York:20241217T100000
DTEND;TZID=America/New_York:20241217T110000
DTSTAMP:20260423T172447
CREATED:20221227T185652Z
LAST-MODIFIED:20250428T140322Z
UID:39890-1734429600-1734433200@ngrl.devtest.center
SUMMARY:Knit & Crochet Club -- Adults
DESCRIPTION:Open to ages 12 and older. Do you enjoy knitting or crocheting? Or have you always wanted to learn? Come join this fun and informal group suitable for the complete beginner to the advanced crafts person! \n\nFirst & third Tuesdays @ 10:00am\n\nSaturday\, March 8 & 22 @ 10 a.m.\nSaturday\, April 12 @ 10 a.m.\nSaturday\, May 10 @ 10 a.m.\n\nDisclaimer: All aspects of in-person programming are subject to change based on health crisis guidelines and procedures.
URL:https://ngrl.devtest.center/event/knit-crochet-club-adults-2-2023-06-06-2024-01-16-2024-02-27/2024-12-17/
LOCATION:Calhoun-Gordon County Public Library\, 100 N Park Avenue\, Calhoun\, GA\, 30701\, United States
ATTACH;FMTTYPE=image/png:https://ngrl.devtest.center/wp-content/uploads/2021/09/Adults-Featured.png
END:VEVENT
BEGIN:VEVENT
DTSTART;TZID=America/New_York:20241217T103000
DTEND;TZID=America/New_York:20241217T113000
DTSTAMP:20260423T172447
CREATED:20221227T185658Z
LAST-MODIFIED:20250428T140551Z
UID:40036-1734431400-1734435000@ngrl.devtest.center
SUMMARY:Noni's Nook Storytime -- Children
DESCRIPTION:Story time for ages 5 and under.  Come in for a fun storytime and craft with Miss Noni. This month we’ll be reading about octopi\, penguins\, quilts\, and robots in books written by Peter Bently\, Karin Akesson\, Philip Stead and more. \n\nTuesdays @ 10:30 a.m.\n\nDisclaimer: All aspects of in-person programming are subject to change based on health crisis guidelines and procedures.
URL:https://ngrl.devtest.center/event/nonis-nook-2023/2024-12-17/
LOCATION:Calhoun-Gordon County Public Library\, 100 N Park Avenue\, Calhoun\, GA\, 30701\, United States
ATTACH;FMTTYPE=image/png:https://ngrl.devtest.center/wp-content/uploads/2021/09/Kids-Featured.png
END:VEVENT
BEGIN:VEVENT
DTSTART;TZID=America/New_York:20241217T110000
DTEND;TZID=America/New_York:20241217T120000
DTSTAMP:20260423T172447
CREATED:20240719T141329Z
LAST-MODIFIED:20250522T160643Z
UID:37844-1734433200-1734436800@ngrl.devtest.center
SUMMARY:Homeschool Meetup - Tweens and Teens
DESCRIPTION:Open to ages. 10-18. Homeschoolers are invited to have some fun making crafts or playing games. \n\nMonday\, August 6 & 20 @ 10:30 a.m.\nTuesday\, September 3 & 17 @ 11 a.m.\nTuesday\, October 8 & 22 @ 11 a.m.\nTuesday\, November 5 & 19 @ 11 a.m.\nTuesday\, December 3 & 17 @ 11 a.m.\nTuesday\, January 14  @ 11 a.m.\nTuesday\, March 11 & 25 @ 11 a.m.\nTuesday\, April 22 @ 11 a.m.\nTuesday\, May 6 & 20 @ 11 a.m.\nTuesday\, June 10 & 24 @ 11 a.m.\nTuesday\, July 8 & 22 @ 11 a.m.\n\nDisclaimer: All aspects of in-person programming are subject to change based on health crisis guidelines and procedures.
URL:https://ngrl.devtest.center/event/homeschool-meetup-tweens-and-teens/2024-12-17/
LOCATION:Calhoun-Gordon County Public Library\, 100 N Park Avenue\, Calhoun\, GA\, 30701\, United States
ATTACH;FMTTYPE=image/png:https://ngrl.devtest.center/wp-content/uploads/2021/09/Teens-Featured.png
END:VEVENT
BEGIN:VEVENT
DTSTART;TZID=America/New_York:20241217T160000
DTEND;TZID=America/New_York:20241217T170000
DTSTAMP:20260423T172447
CREATED:20230316T215153Z
LAST-MODIFIED:20250224T154202Z
UID:37871-1734451200-1734454800@ngrl.devtest.center
SUMMARY:Book Club -- Tweens
DESCRIPTION:Open to 3rd – 6th grade. \nGather to enjoy some book club fun. Participants can share what they have learned and read in a fun and casual setting. \n\nFriday\, April 14 @ 4:30 p.m.\nTuesday\, May 14 @ 4 p.m.\nTuesday\, May 28 @ 4 p.m.\nTuesday\, June 11 @ 4 p.m.\nTuesday\, June 25 @ 4 p.m.\nTuesday\, July 9 @ 4 p.m.\nTuesday\, July 23 @ 4 p.m.\nTuesday\, August 6 @ 4 p.m.\nTuesday\, August 20 @ 4 p.m.\nTuesday\, September 3 & 17 @ 4 p.m.\nTuesday\, October 1 & 15 @ 4 p.m.\nTuesday\, November 5 & 19 @ 4 p.m.\nTuesday\, December 3 & 17 @ 4 p.m.\nTuesday\, January 14 @ 4 p.m.\nTuesday\, February 18 @ 4 p.m.\nTuesday\, March 18 @ 4 p.m.\n\nDisclaimer: All aspects of in-person programming are subject to change based on health crisis guidelines and procedures.
URL:https://ngrl.devtest.center/event/book-club-tweens-teens-2-2024-05-14-2024-05-28/2024-12-17/
LOCATION:Calhoun-Gordon County Public Library\, 100 N Park Avenue\, Calhoun\, GA\, 30701\, United States
ATTACH;FMTTYPE=image/png:https://ngrl.devtest.center/wp-content/uploads/2021/09/Teens-Featured.png
END:VEVENT
BEGIN:VEVENT
DTSTART;TZID=America/New_York:20241217T160000
DTEND;TZID=America/New_York:20241217T170000
DTSTAMP:20260423T172447
CREATED:20240129T135928Z
LAST-MODIFIED:20250924T165347Z
UID:37885-1734451200-1734454800@ngrl.devtest.center
SUMMARY:Grief Support -- Adults
DESCRIPTION:Open to adults 18 and older. If you or someone you know is in need\, come this session sponsored by Pruitt Health. \n\nTuesday\, February 27 @ 4 p.m.\nTuesday\, March 26 @ 4 p.m.\nTuesday\, April 30 @ 4 p.m.\nTuesday\, May 28 @ 4 p.m.\nTuesday\, June 25 @ 4:30 p.m.\nTuesday\, July 30 @ 4:30 p.m.\nTuesday\, September 24 @ 4 p.m.\nTuesday\, October 29 @ 4 p.m.\nTuesday\, November 26 @ 4 p.m.\nTuesday\, December 17 @ 4 p.m.\nTuesday\, January 14 @ 4 p.m.\nTuesday\, February 18 @ 4 p.m.\nTuesday\, March 18 @ 4 p.m.\nTuesday\, April 15 @ 4 p.m.\nTuesday\, May 13 @ 4 p.m.\nTuesday\, June 24 @ 4:30 p.m.\nTuesday\, July 29 @ 4:30 p.m.\nTuesday\, August 26 @ 4:30 p.m.\nTuesday\, September 30 @ 4:30 p.m.\nTuesday\, October 28 @ 4:30 p.m.\n\nDisclaimer: All aspects of in-person programming are subject to change based on health crisis guidelines and procedures.
URL:https://ngrl.devtest.center/event/grief-support-adults/2024-12-17/
LOCATION:Calhoun-Gordon County Public Library\, 100 N Park Avenue\, Calhoun\, GA\, 30701\, United States
ATTACH;FMTTYPE=image/png:https://ngrl.devtest.center/wp-content/uploads/2021/09/Adults-Featured.png
END:VEVENT
BEGIN:VEVENT
DTSTART;TZID=America/New_York:20241217T160000
DTEND;TZID=America/New_York:20241217T170000
DTSTAMP:20260423T172447
CREATED:20241120T142300Z
LAST-MODIFIED:20241120T142300Z
UID:38202-1734451200-1734454800@ngrl.devtest.center
SUMMARY:S.T.E.A.M Time: Crystal Candy Cane Ornaments -- Kids
DESCRIPTION:Open to children under 12. Kids can learn new things in the Science\, Technology\, Engineering\, Arts and Math fields. This month we’ll be creating beautiful Crystal Candy Cane Ornaments using borax powder. All materials provided. \n\nTuesday\, December 17 @ 4 p.m.\n\nDisclaimer: All aspects of in-person programming are subject to change based on health crisis guidelines and procedures.
URL:https://ngrl.devtest.center/event/s-t-e-a-m-time-crystal-candy-cane-ornaments-kids/
LOCATION:Chatsworth-Murray County Public Library\, 706 Old Dalton Ellijay Rd\, Chatsworth\, GA\, 30705\, United States
ORGANIZER;CN="Chatsworth-Murray County Library":MAILTO:ngrl.librarian@gmail.com
END:VEVENT
END:VCALENDAR