BEGIN:VCALENDAR
VERSION:2.0
PRODID:-//Northwest Georgia Regional Library System - ECPv6.15.17.1//NONSGML v1.0//EN
CALSCALE:GREGORIAN
METHOD:PUBLISH
X-ORIGINAL-URL:https://ngrl.devtest.center
X-WR-CALDESC:Events for Northwest Georgia Regional Library System
REFRESH-INTERVAL;VALUE=DURATION:PT1H
X-Robots-Tag:noindex
X-PUBLISHED-TTL:PT1H
BEGIN:VTIMEZONE
TZID:America/New_York
BEGIN:DAYLIGHT
TZOFFSETFROM:-0500
TZOFFSETTO:-0400
TZNAME:EDT
DTSTART:20230312T070000
END:DAYLIGHT
BEGIN:STANDARD
TZOFFSETFROM:-0400
TZOFFSETTO:-0500
TZNAME:EST
DTSTART:20231105T060000
END:STANDARD
BEGIN:DAYLIGHT
TZOFFSETFROM:-0500
TZOFFSETTO:-0400
TZNAME:EDT
DTSTART:20240310T070000
END:DAYLIGHT
BEGIN:STANDARD
TZOFFSETFROM:-0400
TZOFFSETTO:-0500
TZNAME:EST
DTSTART:20241103T060000
END:STANDARD
BEGIN:DAYLIGHT
TZOFFSETFROM:-0500
TZOFFSETTO:-0400
TZNAME:EDT
DTSTART:20250309T070000
END:DAYLIGHT
BEGIN:STANDARD
TZOFFSETFROM:-0400
TZOFFSETTO:-0500
TZNAME:EST
DTSTART:20251102T060000
END:STANDARD
END:VTIMEZONE
BEGIN:VEVENT
DTSTART;TZID=America/New_York:20241213T103000
DTEND;TZID=America/New_York:20241213T113000
DTSTAMP:20260425T131029
CREATED:20230220T191140Z
LAST-MODIFIED:20250428T143032Z
UID:37639-1734085800-1734089400@ngrl.devtest.center
SUMMARY:Zumba -- Adults
DESCRIPTION:Open to ages 18 and older. Get your heart pumping with this Latin music-based workout led by Nancy Guzman. \n\nWeekly on Fridays @ 10:30 a.m. \n\n  \n\nThursday\, December 14 @10:30 a.m.\nFriday\, December 1\, 8 and 29 @ 10:30 a.m.\nFriday\, September 13 & 27 @ 10:30 a.m.\nFriday\, October 11 & 25 @ 10:30 a.m.\nFriday\, November 8 & 22 @ 10:30 a.m.\nFriday\, December 6 & 20 @ 10:30 a.m.\nFriday\, January 10\, 24 & 31 @ 10:30 a.m.\nFridays in February @ 10:30 a.m.\nFriday May 2\, 16 & 30 at 10:30 a.m.\n\nDisclaimer: All aspects of in-person programming are subject to change based on health crisis guidelines and procedures.
URL:https://ngrl.devtest.center/event/zumba-adults/2024-12-13/
LOCATION:Calhoun-Gordon County Public Library\, 100 N Park Avenue\, Calhoun\, GA\, 30701\, United States
ATTACH;FMTTYPE=image/png:https://ngrl.devtest.center/wp-content/uploads/2021/09/Adults-Featured.png
END:VEVENT
BEGIN:VEVENT
DTSTART;TZID=America/New_York:20241213T103000
DTEND;TZID=America/New_York:20241213T113000
DTSTAMP:20260425T131029
CREATED:20241022T124551Z
LAST-MODIFIED:20250428T155723Z
UID:37598-1734085800-1734089400@ngrl.devtest.center
SUMMARY:Veterans Coffee -- Adults
DESCRIPTION:Open to adults 19 and older. Vets are invited to join this social coffee hour in our history room. \n\nFridays at 10:30 a.m.\n\nDisclaimer: All aspects of in-person programming are subject to change based on health crisis guidelines and procedures.
URL:https://ngrl.devtest.center/event/veterans-coffee-adults/2024-12-13/
LOCATION:Calhoun-Gordon County Public Library\, 100 N Park Avenue\, Calhoun\, GA\, 30701\, United States
ATTACH;FMTTYPE=image/png:https://ngrl.devtest.center/wp-content/uploads/2021/09/Adults-Featured.png
END:VEVENT
BEGIN:VEVENT
DTSTART;TZID=America/New_York:20241213T150000
DTEND;TZID=America/New_York:20241213T170000
DTSTAMP:20260425T131029
CREATED:20240124T163413Z
LAST-MODIFIED:20250514T143302Z
UID:38217-1734102000-1734109200@ngrl.devtest.center
SUMMARY:LEGOs @ the Library
DESCRIPTION:Open to pre-K to 5th grade. Kids can play with our big collection of LEGO® and Duplo® bricks. Drop in and try a different LEGO® challenge each week or just enjoy some building time. \n\nFridays @ 3 – 5 p.m.\nNo Legos April 18\n\nDisclaimer: All aspects of in-person programming are subject to change based on health crisis guidelines and procedures.
URL:https://ngrl.devtest.center/event/legos-the-library-2024-02-09/2024-12-13/
LOCATION:Dalton-Whitfield County Public Library\, 310 Cappes St\, Dalton\, GA\, 30720\, United States
ORGANIZER;CN="Dalton-Whitfield County Public Library":MAILTO:ngrl.librarian@gmail.com
END:VEVENT
BEGIN:VEVENT
DTSTART;TZID=America/New_York:20241213T160000
DTEND;TZID=America/New_York:20241213T170000
DTSTAMP:20260425T131029
CREATED:20240719T111826Z
LAST-MODIFIED:20241218T152804Z
UID:37866-1734105600-1734109200@ngrl.devtest.center
SUMMARY:S.T.E.A.M. Storytime - Children
DESCRIPTION:Open to children 5-12. Join Miss Katya for a story and an experiment. \n\nThursday\, October 24 @ 4 p.m.\nThursday\, November 21 @ 4 p.m.\nThursday\, December 13 @ 4 p.m.\nThursday\, January 10 @ 4 p.m. This month — Paddle Boats\n\nDisclaimer: All aspects of in-person programming are subject to change based on health crisis guidelines and procedures.
URL:https://ngrl.devtest.center/event/s-t-e-a-m-storytime-children-2/2024-12-13/
LOCATION:Calhoun-Gordon County Public Library\, 100 N Park Avenue\, Calhoun\, GA\, 30701\, United States
ATTACH;FMTTYPE=image/png:https://ngrl.devtest.center/wp-content/uploads/2021/09/Kids-Featured.png
END:VEVENT
BEGIN:VEVENT
DTSTART;TZID=America/New_York:20241213T160000
DTEND;TZID=America/New_York:20241213T170000
DTSTAMP:20260425T131029
CREATED:20241119T154534Z
LAST-MODIFIED:20241119T154534Z
UID:37904-1734105600-1734109200@ngrl.devtest.center
SUMMARY:Georgia Legal Services -- Adults
DESCRIPTION:Open to adults 19 and older. Nee assistance signing up in the Georgia Healthcare marketplace? Experts will be here to help. \n\nFriday\, December 13 @ 4 p.m.\n\nDisclaimer: All aspects of in-person programming are subject to change based on health crisis guidelines and procedures. \n 
URL:https://ngrl.devtest.center/event/georgia-legal-services-adults/
LOCATION:Calhoun-Gordon County Public Library\, 100 N Park Avenue\, Calhoun\, GA\, 30701\, United States
ATTACH;FMTTYPE=image/png:https://ngrl.devtest.center/wp-content/uploads/2021/09/Adults-Featured.png
END:VEVENT
BEGIN:VEVENT
DTSTART;TZID=America/New_York:20241213T160000
DTEND;TZID=America/New_York:20241213T170000
DTSTAMP:20260425T131029
CREATED:20241119T194439Z
LAST-MODIFIED:20241119T194439Z
UID:38186-1734105600-1734109200@ngrl.devtest.center
SUMMARY:Make Holiday Ornaments with the Circuit -- Adults
DESCRIPTION:Open to adults. Staff member Tori will lead an adult craft utilizing the library’s Circuit smart-cutting machine. Participants will be able to design and customize holiday ornaments that you can take home or give to a friend. All materials provided free of charge. \n\nFriday\, December 6 @ 4 p.m.\n\nDisclaimer: All aspects of in-person programming are subject to change based on health crisis guidelines and procedures.
URL:https://ngrl.devtest.center/event/make-holiday-ornaments-with-the-circuit-adults/
LOCATION:Chatsworth-Murray County Public Library\, 706 Old Dalton Ellijay Rd\, Chatsworth\, GA\, 30705\, United States
ATTACH;FMTTYPE=image/png:https://ngrl.devtest.center/wp-content/uploads/2021/09/Adults-Featured.png
ORGANIZER;CN="Chatsworth-Murray County Library":MAILTO:ngrl.librarian@gmail.com
END:VEVENT
END:VCALENDAR