BEGIN:VCALENDAR
VERSION:2.0
PRODID:-//Northwest Georgia Regional Library System - ECPv6.15.17.1//NONSGML v1.0//EN
CALSCALE:GREGORIAN
METHOD:PUBLISH
X-WR-CALNAME:Northwest Georgia Regional Library System
X-ORIGINAL-URL:https://ngrl.devtest.center
X-WR-CALDESC:Events for Northwest Georgia Regional Library System
REFRESH-INTERVAL;VALUE=DURATION:PT1H
X-Robots-Tag:noindex
X-PUBLISHED-TTL:PT1H
BEGIN:VTIMEZONE
TZID:America/New_York
BEGIN:DAYLIGHT
TZOFFSETFROM:-0500
TZOFFSETTO:-0400
TZNAME:EDT
DTSTART:20230312T070000
END:DAYLIGHT
BEGIN:STANDARD
TZOFFSETFROM:-0400
TZOFFSETTO:-0500
TZNAME:EST
DTSTART:20231105T060000
END:STANDARD
BEGIN:DAYLIGHT
TZOFFSETFROM:-0500
TZOFFSETTO:-0400
TZNAME:EDT
DTSTART:20240310T070000
END:DAYLIGHT
BEGIN:STANDARD
TZOFFSETFROM:-0400
TZOFFSETTO:-0500
TZNAME:EST
DTSTART:20241103T060000
END:STANDARD
BEGIN:DAYLIGHT
TZOFFSETFROM:-0500
TZOFFSETTO:-0400
TZNAME:EDT
DTSTART:20250309T070000
END:DAYLIGHT
BEGIN:STANDARD
TZOFFSETFROM:-0400
TZOFFSETTO:-0500
TZNAME:EST
DTSTART:20251102T060000
END:STANDARD
END:VTIMEZONE
BEGIN:VEVENT
DTSTART;TZID=America/New_York:20241210T103000
DTEND;TZID=America/New_York:20241210T113000
DTSTAMP:20260423T214541
CREATED:20221227T185658Z
LAST-MODIFIED:20250428T140550Z
UID:40035-1733826600-1733830200@ngrl.devtest.center
SUMMARY:Noni's Nook Storytime -- Children
DESCRIPTION:Story time for ages 5 and under.  Come in for a fun storytime and craft with Miss Noni. This month we’ll be reading about octopi\, penguins\, quilts\, and robots in books written by Peter Bently\, Karin Akesson\, Philip Stead and more. \n\nTuesdays @ 10:30 a.m.\n\nDisclaimer: All aspects of in-person programming are subject to change based on health crisis guidelines and procedures.
URL:https://ngrl.devtest.center/event/nonis-nook-2023/2024-12-10/
LOCATION:Calhoun-Gordon County Public Library\, 100 N Park Avenue\, Calhoun\, GA\, 30701\, United States
ATTACH;FMTTYPE=image/png:https://ngrl.devtest.center/wp-content/uploads/2021/09/Kids-Featured.png
END:VEVENT
BEGIN:VEVENT
DTSTART;TZID=America/New_York:20241210T160000
DTEND;TZID=America/New_York:20241210T170000
DTSTAMP:20260423T214541
CREATED:20241119T152349Z
LAST-MODIFIED:20241119T152349Z
UID:37902-1733846400-1733850000@ngrl.devtest.center
SUMMARY:Visit from Santa -- All Ages
DESCRIPTION:Open to all ages. The Jolly ‘Ol Elf will be available for pictures with Santa. Open to all. Expect long lines. \n\nTuesday\, December 10 @ 4 p.m.\n\nDisclaimer: All aspects of in-person programming are subject to change based on health crisis guidelines and procedures.
URL:https://ngrl.devtest.center/event/visit-from-santa-all-ages/
LOCATION:Calhoun-Gordon County Public Library\, 100 N Park Avenue\, Calhoun\, GA\, 30701\, United States
ATTACH;FMTTYPE=image/png:https://ngrl.devtest.center/wp-content/uploads/2021/09/All-Ages-Featured.png
END:VEVENT
BEGIN:VEVENT
DTSTART;TZID=America/New_York:20241210T160000
DTEND;TZID=America/New_York:20241210T170000
DTSTAMP:20260423T214541
CREATED:20241119T193947Z
LAST-MODIFIED:20241119T193947Z
UID:38183-1733846400-1733850000@ngrl.devtest.center
SUMMARY:Tree Trimming Party -- Kids
DESCRIPTION:Open to all ages. This is our annual tree-trimming party. Come help us decorate the library and enjoy some tasty seasonal treats. There might even be a special visit from a certain jolly guest. \n\nTuesday\, December 10 @ 4 p.m.\n\nDisclaimer: All aspects of in-person programming are subject to change based on health crisis guidelines and procedures.
URL:https://ngrl.devtest.center/event/tree-trimming-party-kids/
LOCATION:Chatsworth-Murray County Public Library\, 706 Old Dalton Ellijay Rd\, Chatsworth\, GA\, 30705\, United States
ATTACH;FMTTYPE=image/png:https://ngrl.devtest.center/wp-content/uploads/2021/09/Kids-Featured.png
ORGANIZER;CN="Chatsworth-Murray County Library":MAILTO:ngrl.librarian@gmail.com
END:VEVENT
BEGIN:VEVENT
DTSTART;TZID=America/New_York:20241210T163000
DTEND;TZID=America/New_York:20241210T173000
DTSTAMP:20260423T214541
CREATED:20241120T153156Z
LAST-MODIFIED:20241120T153156Z
UID:38409-1733848200-1733851800@ngrl.devtest.center
SUMMARY:TnT Art: Little Art Gallery -- Tweens and Teens
DESCRIPTION:Open to 6th -12th grades. Create mini art pieces to fill a miniature art gallery. All supplies provided. \n\nTuesday\, December 10 @ 4:30 p.m.\n\nDisclaimer: All aspects of in-person programming are subject to change based on health crisis guidelines and procedures.
URL:https://ngrl.devtest.center/event/tnt-art-little-art-gallery-tweens-and-teens/
LOCATION:Dalton-Whitfield County Public Library\, 310 Cappes St\, Dalton\, GA\, 30720\, United States
ATTACH;FMTTYPE=image/png:https://ngrl.devtest.center/wp-content/uploads/2021/09/Teens-Featured.png
ORGANIZER;CN="Dalton-Whitfield County Public Library":MAILTO:ngrl.librarian@gmail.com
END:VEVENT
END:VCALENDAR