BEGIN:VCALENDAR
VERSION:2.0
PRODID:-//Northwest Georgia Regional Library System - ECPv6.15.17.1//NONSGML v1.0//EN
CALSCALE:GREGORIAN
METHOD:PUBLISH
X-WR-CALNAME:Northwest Georgia Regional Library System
X-ORIGINAL-URL:https://ngrl.devtest.center
X-WR-CALDESC:Events for Northwest Georgia Regional Library System
REFRESH-INTERVAL;VALUE=DURATION:PT1H
X-Robots-Tag:noindex
X-PUBLISHED-TTL:PT1H
BEGIN:VTIMEZONE
TZID:America/New_York
BEGIN:DAYLIGHT
TZOFFSETFROM:-0500
TZOFFSETTO:-0400
TZNAME:EDT
DTSTART:20230312T070000
END:DAYLIGHT
BEGIN:STANDARD
TZOFFSETFROM:-0400
TZOFFSETTO:-0500
TZNAME:EST
DTSTART:20231105T060000
END:STANDARD
BEGIN:DAYLIGHT
TZOFFSETFROM:-0500
TZOFFSETTO:-0400
TZNAME:EDT
DTSTART:20240310T070000
END:DAYLIGHT
BEGIN:STANDARD
TZOFFSETFROM:-0400
TZOFFSETTO:-0500
TZNAME:EST
DTSTART:20241103T060000
END:STANDARD
BEGIN:DAYLIGHT
TZOFFSETFROM:-0500
TZOFFSETTO:-0400
TZNAME:EDT
DTSTART:20250309T070000
END:DAYLIGHT
BEGIN:STANDARD
TZOFFSETFROM:-0400
TZOFFSETTO:-0500
TZNAME:EST
DTSTART:20251102T060000
END:STANDARD
END:VTIMEZONE
BEGIN:VEVENT
DTSTART;TZID=America/New_York:20241207T100000
DTEND;TZID=America/New_York:20241207T130000
DTSTAMP:20260423T214545
CREATED:20221227T185107Z
LAST-MODIFIED:20250417T155446Z
UID:38270-1733565600-1733576400@ngrl.devtest.center
SUMMARY:Friends of the Library Book Sale -- All Ages
DESCRIPTION:Open to all ages. \nPlease come join us and see what the Friends of the Library Book Sale has to offer. We have thousands of used books as well as audiobooks and equipment available for sale for reduced prices. Proceeds of the sale go to benefit the Dalton-Whitfield County Public Library’s staff\, programs\, and collections. \n\nFirst Saturday of each month\, excluding holidays\, @ 10 a.m. – 1 p.m.\n\nWe look forward to seeing you there!
URL:https://ngrl.devtest.center/event/friends-of-the-library-book-sale-all-ages-4/2024-12-07/
LOCATION:Dalton-Whitfield County Public Library\, 310 Cappes St\, Dalton\, GA\, 30720\, United States
ATTACH;FMTTYPE=image/png:https://ngrl.devtest.center/wp-content/uploads/2021/09/All-Ages-Featured.png
ORGANIZER;CN="Dalton-Whitfield County Public Library":MAILTO:ngrl.librarian@gmail.com
END:VEVENT
BEGIN:VEVENT
DTSTART;TZID=America/New_York:20241207T100000
DTEND;TZID=America/New_York:20241207T133000
DTSTAMP:20260423T214545
CREATED:20241022T182654Z
LAST-MODIFIED:20241022T182654Z
UID:38273-1733565600-1733578200@ngrl.devtest.center
SUMMARY:Authors @ the Library -- All Ages
DESCRIPTION:Open to all ages. Stop and chat with an author and learn about a great new book. \n\nSaturday\, November 2 @ 10 a.m.-1:30 p.m. — Local authors Tenesha L. Curtis\, Kenyon T. Henry and Logan Petty will be at the library.\nSaturday\, December 7 @ 10 a.m. – 1:30 p.m. Local authors Susan Kirkland\, Barbara Tucker and Becky Wooley will be at the library.\n\nDisclaimer: All aspects of in-person programming are subject to change based on health crisis guidelines and procedures.
URL:https://ngrl.devtest.center/event/authors-the-library-all-ages/2024-12-07/
LOCATION:Dalton-Whitfield County Public Library\, 310 Cappes St\, Dalton\, GA\, 30720\, United States
ATTACH;FMTTYPE=image/png:https://ngrl.devtest.center/wp-content/uploads/2021/09/All-Ages-Featured.png
ORGANIZER;CN="Dalton-Whitfield County Public Library":MAILTO:ngrl.librarian@gmail.com
END:VEVENT
BEGIN:VEVENT
DTSTART;TZID=America/New_York:20241207T103000
DTEND;TZID=America/New_York:20241207T113000
DTSTAMP:20260423T214545
CREATED:20241120T162949Z
LAST-MODIFIED:20241120T162949Z
UID:38432-1733567400-1733571000@ngrl.devtest.center
SUMMARY:Citizenship Course Part 1 -- Adults (Bilingual)
DESCRIPTION:Open to adults 19 and older. This course helps individuals prepare for the citizenship exam and interview. Presented by Maria Guijon. \n\nSaturday\, December 7 @ 10:30 a.m.\n\nDisclaimer: All aspects of in-person programming are subject to change based on health crisis guidelines and procedures.
URL:https://ngrl.devtest.center/event/citizenship-course-part-1-adults-bilingual/
LOCATION:Dalton-Whitfield County Public Library\, 310 Cappes St\, Dalton\, GA\, 30720\, United States
ATTACH;FMTTYPE=image/png:https://ngrl.devtest.center/wp-content/uploads/2021/09/Adults-Featured.png
ORGANIZER;CN="Dalton-Whitfield County Public Library":MAILTO:ngrl.librarian@gmail.com
END:VEVENT
END:VCALENDAR