BEGIN:VCALENDAR
VERSION:2.0
PRODID:-//Northwest Georgia Regional Library System - ECPv6.15.17.1//NONSGML v1.0//EN
CALSCALE:GREGORIAN
METHOD:PUBLISH
X-WR-CALNAME:Northwest Georgia Regional Library System
X-ORIGINAL-URL:https://ngrl.devtest.center
X-WR-CALDESC:Events for Northwest Georgia Regional Library System
REFRESH-INTERVAL;VALUE=DURATION:PT1H
X-Robots-Tag:noindex
X-PUBLISHED-TTL:PT1H
BEGIN:VTIMEZONE
TZID:America/New_York
BEGIN:DAYLIGHT
TZOFFSETFROM:-0500
TZOFFSETTO:-0400
TZNAME:EDT
DTSTART:20230312T070000
END:DAYLIGHT
BEGIN:STANDARD
TZOFFSETFROM:-0400
TZOFFSETTO:-0500
TZNAME:EST
DTSTART:20231105T060000
END:STANDARD
BEGIN:DAYLIGHT
TZOFFSETFROM:-0500
TZOFFSETTO:-0400
TZNAME:EDT
DTSTART:20240310T070000
END:DAYLIGHT
BEGIN:STANDARD
TZOFFSETFROM:-0400
TZOFFSETTO:-0500
TZNAME:EST
DTSTART:20241103T060000
END:STANDARD
BEGIN:DAYLIGHT
TZOFFSETFROM:-0500
TZOFFSETTO:-0400
TZNAME:EDT
DTSTART:20250309T070000
END:DAYLIGHT
BEGIN:STANDARD
TZOFFSETFROM:-0400
TZOFFSETTO:-0500
TZNAME:EST
DTSTART:20251102T060000
END:STANDARD
END:VTIMEZONE
BEGIN:VEVENT
DTSTART;TZID=America/New_York:20241126T100000
DTEND;TZID=America/New_York:20241126T110000
DTSTAMP:20260423T172413
CREATED:20241022T141519Z
LAST-MODIFIED:20241022T141519Z
UID:37148-1732615200-1732618800@ngrl.devtest.center
SUMMARY:Chair Yoga -- Adults
DESCRIPTION:Open to adults 18 and older. Join Judy for a session of Chair Yoga. \n\nTuesday\, November 26 @ 10 a\,m.\n\nDisclaimer: All aspects of in-person programming are subject to change based on health crisis guidelines and procedures.
URL:https://ngrl.devtest.center/event/chair-yoga-adults/
LOCATION:Calhoun-Gordon County Public Library\, 100 N Park Avenue\, Calhoun\, GA\, 30701\, United States
ATTACH;FMTTYPE=image/png:https://ngrl.devtest.center/wp-content/uploads/2021/09/Adults-Featured.png
END:VEVENT
BEGIN:VEVENT
DTSTART;TZID=America/New_York:20241126T103000
DTEND;TZID=America/New_York:20241126T113000
DTSTAMP:20260423T172413
CREATED:20221227T185658Z
LAST-MODIFIED:20250428T140547Z
UID:40033-1732617000-1732620600@ngrl.devtest.center
SUMMARY:Noni's Nook Storytime -- Children
DESCRIPTION:Story time for ages 5 and under.  Come in for a fun storytime and craft with Miss Noni. This month we’ll be reading about octopi\, penguins\, quilts\, and robots in books written by Peter Bently\, Karin Akesson\, Philip Stead and more. \n\nTuesdays @ 10:30 a.m.\n\nDisclaimer: All aspects of in-person programming are subject to change based on health crisis guidelines and procedures.
URL:https://ngrl.devtest.center/event/nonis-nook-2023/2024-11-26/
LOCATION:Calhoun-Gordon County Public Library\, 100 N Park Avenue\, Calhoun\, GA\, 30701\, United States
ATTACH;FMTTYPE=image/png:https://ngrl.devtest.center/wp-content/uploads/2021/09/Kids-Featured.png
END:VEVENT
BEGIN:VEVENT
DTSTART;TZID=America/New_York:20241126T160000
DTEND;TZID=America/New_York:20241126T170000
DTSTAMP:20260423T172413
CREATED:20240129T135928Z
LAST-MODIFIED:20250924T165347Z
UID:37100-1732636800-1732640400@ngrl.devtest.center
SUMMARY:Grief Support -- Adults
DESCRIPTION:Open to adults 18 and older. If you or someone you know is in need\, come this session sponsored by Pruitt Health. \n\nTuesday\, February 27 @ 4 p.m.\nTuesday\, March 26 @ 4 p.m.\nTuesday\, April 30 @ 4 p.m.\nTuesday\, May 28 @ 4 p.m.\nTuesday\, June 25 @ 4:30 p.m.\nTuesday\, July 30 @ 4:30 p.m.\nTuesday\, September 24 @ 4 p.m.\nTuesday\, October 29 @ 4 p.m.\nTuesday\, November 26 @ 4 p.m.\nTuesday\, December 17 @ 4 p.m.\nTuesday\, January 14 @ 4 p.m.\nTuesday\, February 18 @ 4 p.m.\nTuesday\, March 18 @ 4 p.m.\nTuesday\, April 15 @ 4 p.m.\nTuesday\, May 13 @ 4 p.m.\nTuesday\, June 24 @ 4:30 p.m.\nTuesday\, July 29 @ 4:30 p.m.\nTuesday\, August 26 @ 4:30 p.m.\nTuesday\, September 30 @ 4:30 p.m.\nTuesday\, October 28 @ 4:30 p.m.\n\nDisclaimer: All aspects of in-person programming are subject to change based on health crisis guidelines and procedures.
URL:https://ngrl.devtest.center/event/grief-support-adults/2024-11-26/
LOCATION:Calhoun-Gordon County Public Library\, 100 N Park Avenue\, Calhoun\, GA\, 30701\, United States
ATTACH;FMTTYPE=image/png:https://ngrl.devtest.center/wp-content/uploads/2021/09/Adults-Featured.png
END:VEVENT
BEGIN:VEVENT
DTSTART;TZID=America/New_York:20241126T160000
DTEND;TZID=America/New_York:20241126T170000
DTSTAMP:20260423T172413
CREATED:20241021T180427Z
LAST-MODIFIED:20241021T180437Z
UID:36679-1732636800-1732640400@ngrl.devtest.center
SUMMARY:Tweens and Teens Watercolor Painting
DESCRIPTION:Open to tweens and teens. We will have a Teen Watercolor Painting class led by staff member\, Norma. Come and create a beautiful fall decoration.
URL:https://ngrl.devtest.center/event/tweens-and-teens-watercolor-painting/
LOCATION:Chatsworth-Murray County Public Library\, 706 Old Dalton Ellijay Rd\, Chatsworth\, GA\, 30705\, United States
ATTACH;FMTTYPE=image/png:https://ngrl.devtest.center/wp-content/uploads/2021/09/Teens-Featured.png
ORGANIZER;CN="Chatsworth-Murray County Library":MAILTO:ngrl.librarian@gmail.com
END:VEVENT
BEGIN:VEVENT
DTSTART;TZID=America/New_York:20241126T163000
DTEND;TZID=America/New_York:20241126T173000
DTSTAMP:20260423T172413
CREATED:20231218T192401Z
LAST-MODIFIED:20231218T192401Z
UID:37435-1732638600-1732642200@ngrl.devtest.center
SUMMARY:TnT J-Pop Club -- Tweens and Teens
DESCRIPTION:Open to tweens and teens 6th – 12th grades.  All Supplies provided. \n\nTuesday\, January 30 @ 4:30 p.m. – Join the Japanese Pop Culture Club for an afternoon of designing our very own manga comics.\nTuesday\, February 27 @ 4:30 p.m. – We’ll learn about and create art pieces through the art of Decoden.\nTuesday\, March 26 @ 4:30 p.m. – Our J-Pop Culture Club will learn about the artistry of Japanese calligraphy. Supplies provided.\nTuesday\, April 30 @ 4:30 p.m. – Tweens and teens are invited to to our Japanese Pop Culture Club for an afternoon of Japanese snack sampling. All supplies provided.\nTuesday\, May 28 @ 4:30 p.m. – Tweens and teens are invited to join the Japanese Pop Culture Club where we will bring Mario’s iconic piranha plants to life using Perler beads. All supplies provided.\nTuesday\, June 25 @ 4:30 p.m. – Tweens and teens are invited to design and assemble their very own Sanrio-themed bag charms. All supplies provided.\nTuesday\, July 30 @ 4:30 p.m. – Tweens and teens are invited to design and assemble their very own Pokeball Terrariums. All supplies provided.\nTuesday\, September 24 @ 4:30 p.m. – Sanrio Bag Charms. Design and assembler your very own Sanrio-themed bag charms. All supplies provided.\nTuesday\, October 22 @ 4:30 p.m. – Shrinky Dinks  – Teens & Tweens are invited to learn how to craft popular Japanese character Shrinky Dinks. All supplies provided.\nTuesday\, November 26 @ 4:30 p.m. – Enjoy an anime showing filled with fun\, snacks and crafts. All supplies provided.\n\nDisclaimer: All aspects of in-person programming are subject to change based on health crisis guidelines and procedures.
URL:https://ngrl.devtest.center/event/tnt-j-pop-club-tweens-and-teens/2024-11-26/
LOCATION:Dalton-Whitfield County Public Library\, 310 Cappes St\, Dalton\, GA\, 30720\, United States
ATTACH;FMTTYPE=image/png:https://ngrl.devtest.center/wp-content/uploads/2021/09/Teens-Featured.png
ORGANIZER;CN="Dalton-Whitfield County Public Library":MAILTO:ngrl.librarian@gmail.com
END:VEVENT
END:VCALENDAR