BEGIN:VCALENDAR
VERSION:2.0
PRODID:-//Northwest Georgia Regional Library System - ECPv6.15.17.1//NONSGML v1.0//EN
CALSCALE:GREGORIAN
METHOD:PUBLISH
X-WR-CALNAME:Northwest Georgia Regional Library System
X-ORIGINAL-URL:https://ngrl.devtest.center
X-WR-CALDESC:Events for Northwest Georgia Regional Library System
REFRESH-INTERVAL;VALUE=DURATION:PT1H
X-Robots-Tag:noindex
X-PUBLISHED-TTL:PT1H
BEGIN:VTIMEZONE
TZID:America/New_York
BEGIN:DAYLIGHT
TZOFFSETFROM:-0500
TZOFFSETTO:-0400
TZNAME:EDT
DTSTART:20230312T070000
END:DAYLIGHT
BEGIN:STANDARD
TZOFFSETFROM:-0400
TZOFFSETTO:-0500
TZNAME:EST
DTSTART:20231105T060000
END:STANDARD
BEGIN:DAYLIGHT
TZOFFSETFROM:-0500
TZOFFSETTO:-0400
TZNAME:EDT
DTSTART:20240310T070000
END:DAYLIGHT
BEGIN:STANDARD
TZOFFSETFROM:-0400
TZOFFSETTO:-0500
TZNAME:EST
DTSTART:20241103T060000
END:STANDARD
BEGIN:DAYLIGHT
TZOFFSETFROM:-0500
TZOFFSETTO:-0400
TZNAME:EDT
DTSTART:20250309T070000
END:DAYLIGHT
BEGIN:STANDARD
TZOFFSETFROM:-0400
TZOFFSETTO:-0500
TZNAME:EST
DTSTART:20251102T060000
END:STANDARD
END:VTIMEZONE
BEGIN:VEVENT
DTSTART;TZID=America/New_York:20241123T110000
DTEND;TZID=America/New_York:20241123T130000
DTSTAMP:20260423T172418
CREATED:20221227T185954Z
LAST-MODIFIED:20250320T162805Z
UID:36633-1732359600-1732366800@ngrl.devtest.center
SUMMARY:Anime Club -- Tweens & Teens
DESCRIPTION:Open to 6th-12th grades. Come hang out with your friends in grades 6-12 at the Chatsworth-Murray County Public Library. Enjoy discussing and watching some of your favorite shows with other fans! \n\nTuesday\, January 10 @ 3 – 5 p.m.\nTuesday\, February 14 @ 3 – 5 p.m. – Theme: Demon Slayer\nTuesday\, March 14 @ 3 – 5 p.m. – Theme: Fruits Basket\nTuesday\, April 11 @ 3 – 5 p.m. – Theme: Haikyu!\nTuesday\, May 9 @ 3 – 5 p.m. – Theme: Dr. Stone\nMonday\, June 5 @ 3 – 5 p.m. – Theme: Kaguya-Sama Love Is War\nWednesday\, July 19 @ 3 – 5 p.m. – Theme: Ace Attorney\nTuesday\, August 8 @ 3 – 5 p.m. – Theme: My Love Story!!\nTuesday\, September 12 @ 4-5:30 p.m. – Theme: Natsume’s Book of Friends \nTuesday\, October 10 @ 4-5:30 p.m. – Theme: Soul Eater\nTuesday\, November 7 @ 4-5:30 p.m. – Theme: The Girl I Like Forgot Her Glasses\nTuesday\, December 5 @ 4-5:30 p.m. – Theme: Polar Bear Cafe\nTuesday\, January 9 @ 4-5:30 p.m. – Theme: Frieren: Beyond Journey’s End\nTuesday\, February 6 @ 4-5 p.m. – Theme: Horimiya\nMonday\, March 25 @ 6-7:45 p.m.\nMonday\, April 29 @ 6-7:45 p.m.\nMonday\, May 20 @ 6-7:45 p.m.\nMonday\, June 24 @ 6-7:45 p.m.\nMonday\, July 22 @ 6-7:45 p.m.\nMonday\, August 26 @ 6-7:45 p.m.\nMonday\, September 23 @ 6-7:45 p.m.\nMonday\, October 21 @ 6-7:45 p.m.\nMonday\, December 16 @ 6-7:45 p.m.\nSaturday\, December 28 @ 11 a.m.-1:00 p.m.\nSaturday\, January 4 @ 11 a.m.-1 p.m.\nMonday\, January 27 @ 6-7:45 p.m.\nSaturday\, February 1 @ 11 a.m.-1 p.m.\nMonday\, February 24 @ 6-7:45 p.m.\nSaturday\, March 8 @ 11 a.m.- 1 p.m.\nMonday\, March 24 @ 6-7:45 p.m.\nSaturday\, April 5 @ 11 a.m.-1 p.m.\n\n\nDisclaimer: All aspects of in-person programming are subject to change based on health crisis guidelines and procedures.
URL:https://ngrl.devtest.center/event/anime-club-tweens-teens-4/2024-11-23/
LOCATION:Chatsworth-Murray County Public Library\, 706 Old Dalton Ellijay Rd\, Chatsworth\, GA\, 30705\, United States
ATTACH;FMTTYPE=image/png:https://ngrl.devtest.center/wp-content/uploads/2021/09/Teens-Featured.png
ORGANIZER;CN="Chatsworth-Murray County Library":MAILTO:ngrl.librarian@gmail.com
END:VEVENT
END:VCALENDAR