BEGIN:VCALENDAR
VERSION:2.0
PRODID:-//Northwest Georgia Regional Library System - ECPv6.15.17.1//NONSGML v1.0//EN
CALSCALE:GREGORIAN
METHOD:PUBLISH
X-WR-CALNAME:Northwest Georgia Regional Library System
X-ORIGINAL-URL:https://ngrl.devtest.center
X-WR-CALDESC:Events for Northwest Georgia Regional Library System
REFRESH-INTERVAL;VALUE=DURATION:PT1H
X-Robots-Tag:noindex
X-PUBLISHED-TTL:PT1H
BEGIN:VTIMEZONE
TZID:America/New_York
BEGIN:DAYLIGHT
TZOFFSETFROM:-0500
TZOFFSETTO:-0400
TZNAME:EDT
DTSTART:20230312T070000
END:DAYLIGHT
BEGIN:STANDARD
TZOFFSETFROM:-0400
TZOFFSETTO:-0500
TZNAME:EST
DTSTART:20231105T060000
END:STANDARD
BEGIN:DAYLIGHT
TZOFFSETFROM:-0500
TZOFFSETTO:-0400
TZNAME:EDT
DTSTART:20240310T070000
END:DAYLIGHT
BEGIN:STANDARD
TZOFFSETFROM:-0400
TZOFFSETTO:-0500
TZNAME:EST
DTSTART:20241103T060000
END:STANDARD
BEGIN:DAYLIGHT
TZOFFSETFROM:-0500
TZOFFSETTO:-0400
TZNAME:EDT
DTSTART:20250309T070000
END:DAYLIGHT
BEGIN:STANDARD
TZOFFSETFROM:-0400
TZOFFSETTO:-0500
TZNAME:EST
DTSTART:20251102T060000
END:STANDARD
END:VTIMEZONE
BEGIN:VEVENT
DTSTART;TZID=America/New_York:20241120T100000
DTEND;TZID=America/New_York:20241120T110000
DTSTAMP:20260423T172428
CREATED:20231228T165145Z
LAST-MODIFIED:20250428T142144Z
UID:39936-1732096800-1732100400@ngrl.devtest.center
SUMMARY:Stretchband Workout With Nancy - Adults
DESCRIPTION:Open to adults 18 and older. Join Nancy Guzman for this morning workout with stretchbands. \n\nWednesdays @ 10:30 a.m.\nClosed New Year’s Day\nNo Class May 14\n\nDisclaimer: All aspects of in-person programming are subject to change based on health crisis guidelines and procedures
URL:https://ngrl.devtest.center/event/stretchband-workout-with-nancy-adults/2024-11-20/
LOCATION:Calhoun-Gordon County Public Library\, 100 N Park Avenue\, Calhoun\, GA\, 30701\, United States
ATTACH;FMTTYPE=image/png:https://ngrl.devtest.center/wp-content/uploads/2021/09/Adults-Featured.png
END:VEVENT
BEGIN:VEVENT
DTSTART;TZID=America/New_York:20241120T103000
DTEND;TZID=America/New_York:20241120T113000
DTSTAMP:20260423T172428
CREATED:20230220T191524Z
LAST-MODIFIED:20251218T212314Z
UID:36762-1732098600-1732102200@ngrl.devtest.center
SUMMARY:Board Games & Cards -- Adults
DESCRIPTION:Open to ages 18 and older. Come make new friends and play some classic games. Games will be provided. \n\nWednesdays @ 10:30 – 11:30 a.m.\nNo games on December 24 & 31\n\nDisclaimer: All aspects of in-person programming are subject to change based on health crisis guidelines and procedures.
URL:https://ngrl.devtest.center/event/board-games-cards-adults-2024-04-03-2024-04-10/2024-11-20/
LOCATION:Calhoun-Gordon County Public Library\, 100 N Park Avenue\, Calhoun\, GA\, 30701\, United States
ATTACH;FMTTYPE=image/png:https://ngrl.devtest.center/wp-content/uploads/2021/09/Adults-Featured.png
END:VEVENT
BEGIN:VEVENT
DTSTART;TZID=America/New_York:20241120T103000
DTEND;TZID=America/New_York:20241120T113000
DTSTAMP:20260423T172428
CREATED:20240503T124730Z
LAST-MODIFIED:20241119T134344Z
UID:36780-1732098600-1732102200@ngrl.devtest.center
SUMMARY:English Conversations -- Adults
DESCRIPTION:Open to ages 18 and older. ESOL Instructor Zach will be available to practice your English speech! \n\nWednesdays @ 10:30 a.m.\n\nDisclaimer: All aspects of in-person programming are subject to change based on health crisis guidelines and procedures.
URL:https://ngrl.devtest.center/event/english-conversations-adults/2024-11-20/
LOCATION:Calhoun-Gordon County Public Library\, 100 N Park Avenue\, Calhoun\, GA\, 30701\, United States
ATTACH;FMTTYPE=image/png:https://ngrl.devtest.center/wp-content/uploads/2021/09/Adults-Featured.png
END:VEVENT
BEGIN:VEVENT
DTSTART;TZID=America/New_York:20241120T103000
DTEND;TZID=America/New_York:20241120T113000
DTSTAMP:20260423T172428
CREATED:20241021T174539Z
LAST-MODIFIED:20241021T174539Z
UID:36678-1732098600-1732102200@ngrl.devtest.center
SUMMARY:Chair Yoga for Adults
DESCRIPTION:Crystal Robbins from Open Heart Yoga & Wellness will lead one-hour yoga classes at the library. These sessions are free to the public and no mat is required. \n\nWednesday\, November 6\, 13 and 20 @ 10:30 p.m.\n\nDisclaimer: All aspects of in-person programming are subject to change based on health crisis guidelines and procedures.
URL:https://ngrl.devtest.center/event/chair-yoga-for-adults/2024-11-20/
LOCATION:Chatsworth-Murray County Public Library\, 706 Old Dalton Ellijay Rd\, Chatsworth\, GA\, 30705\, United States
ATTACH;FMTTYPE=image/png:https://ngrl.devtest.center/wp-content/uploads/2021/09/Adults-Featured.png
ORGANIZER;CN="Chatsworth-Murray County Library":MAILTO:ngrl.librarian@gmail.com
END:VEVENT
BEGIN:VEVENT
DTSTART;TZID=America/New_York:20241120T110000
DTEND;TZID=America/New_York:20241120T120000
DTSTAMP:20260423T172428
CREATED:20231219T164608Z
LAST-MODIFIED:20250820T144149Z
UID:37309-1732100400-1732104000@ngrl.devtest.center
SUMMARY:Beginner ESOL (Spanish Translator) - Adults
DESCRIPTION:Open to ages 18 and older. Practice and learn the English language with Dalton State Professor Dr. Brian Hibbs  Spanish translator will be present. \n\nTuesday\, January 9 & 23 @ 4 p.m.\nTuesday\, March 5 & 19 @ 4 p.m.\nTuesday\, March 2\, 16 and 30 @ 4 p.m.\nTuesday\, May 7 @ 4 p.m.\nTuesday\, May 14 @ 4 p.m.\nTuesday\, May 21 @ 4:30 p.m.\nTuesday\, May 28 @ 4:30 p.m.\nTuesday\, June 4 @ 4:30 p.m.\nWednesdays in September @ 11 a.m.\nWednesdays in October @ 11 a.m.\nWednesdays in January @ 11 a.m.\nThursdays in February @ 11 a.m.\nThursdays in March @ 11 a.m.\nThursdays in April @ 11 a.m.\nThursdays in May @ 11 a.m.\nMonday in August @ 11 a.m.\n\n  \n\nNo Beginner ESOL January 2 & 9 \nNo ESOL May 29\n\nDisclaimer: All aspects of in-person programming are subject to change based on health crisis guidelines and procedures.
URL:https://ngrl.devtest.center/event/beginner-esol-spanish-translator-adults/2024-11-20/
LOCATION:Dalton-Whitfield County Public Library\, 310 Cappes St\, Dalton\, GA\, 30720\, United States
ATTACH;FMTTYPE=image/png:https://ngrl.devtest.center/wp-content/uploads/2021/09/Adults-Featured.png
ORGANIZER;CN="Dalton-Whitfield County Public Library":MAILTO:ngrl.librarian@gmail.com
END:VEVENT
BEGIN:VEVENT
DTSTART;TZID=America/New_York:20241120T160000
DTEND;TZID=America/New_York:20241120T170000
DTSTAMP:20260423T172428
CREATED:20240429T152134Z
LAST-MODIFIED:20260323T181204Z
UID:54913-1732118400-1732122000@ngrl.devtest.center
SUMMARY:Beginner Spanish -- Adults (Spanish translator present)
DESCRIPTION:Open to adults 18 and older. Interested in becoming a student of the Spanish language? Come\, practice and learn with Dalton State Professor Dr. Brian Hibbs for a beginner-level Spanish course. \n  \n\nWednesdays in March @ 4 p.m.\nWednesdays in April @ 4 p.m.\n\nDisclaimer: All aspects of in-person programming are subject to change based on health crisis guidelines and procedures.
URL:https://ngrl.devtest.center/event/beginner-spanish-adults-spanish-translator-present/2024-11-20/
LOCATION:Dalton-Whitfield County Public Library\, 310 Cappes St\, Dalton\, GA\, 30720\, United States
ATTACH;FMTTYPE=image/png:https://ngrl.devtest.center/wp-content/uploads/2021/09/Adults-Featured.png
ORGANIZER;CN="Dalton-Whitfield County Public Library":MAILTO:ngrl.librarian@gmail.com
END:VEVENT
BEGIN:VEVENT
DTSTART;TZID=America/New_York:20241120T160000
DTEND;TZID=America/New_York:20241120T180000
DTSTAMP:20260423T172428
CREATED:20240502T171529Z
LAST-MODIFIED:20240502T171529Z
UID:37501-1732118400-1732125600@ngrl.devtest.center
SUMMARY:Family Nerf War -- All Ages
DESCRIPTION:Image from: https://commons.wikimedia.org/wiki/File:Various_Nerf_ammo_types.jpg\nOpen to all ages. Join us for a special Family Nerf War! Adults\, teens\, and children can come and battle against each other and see who comes out on top. Blasters and darts are provided or you can bring your own. \n\nWednesday\, June 26 @ 3 – 5 p.m.\nWednesday\, August 28 @ 3-5 p.m.\nWednesday\, September 25 @ 4-6 p.m.\nWednesday\, October 23 @ 4-6 p.m.\nWednesday\, November 20 @ 4-6 p.m.\n\nDisclaimer: All aspects of in-person programming are subject to change based on health crisis guidelines and procedures.
URL:https://ngrl.devtest.center/event/family-nerf-war-all-ages/2024-11-20/
LOCATION:Chatsworth-Murray County Public Library\, 706 Old Dalton Ellijay Rd\, Chatsworth\, GA\, 30705\, United States
ATTACH;FMTTYPE=image/png:https://ngrl.devtest.center/wp-content/uploads/2021/09/All-Ages-Featured.png
ORGANIZER;CN="Chatsworth-Murray County Library":MAILTO:ngrl.librarian@gmail.com
END:VEVENT
END:VCALENDAR