BEGIN:VCALENDAR
VERSION:2.0
PRODID:-//Northwest Georgia Regional Library System - ECPv6.15.17.1//NONSGML v1.0//EN
CALSCALE:GREGORIAN
METHOD:PUBLISH
X-WR-CALNAME:Northwest Georgia Regional Library System
X-ORIGINAL-URL:https://ngrl.devtest.center
X-WR-CALDESC:Events for Northwest Georgia Regional Library System
REFRESH-INTERVAL;VALUE=DURATION:PT1H
X-Robots-Tag:noindex
X-PUBLISHED-TTL:PT1H
BEGIN:VTIMEZONE
TZID:America/New_York
BEGIN:DAYLIGHT
TZOFFSETFROM:-0500
TZOFFSETTO:-0400
TZNAME:EDT
DTSTART:20230312T070000
END:DAYLIGHT
BEGIN:STANDARD
TZOFFSETFROM:-0400
TZOFFSETTO:-0500
TZNAME:EST
DTSTART:20231105T060000
END:STANDARD
BEGIN:DAYLIGHT
TZOFFSETFROM:-0500
TZOFFSETTO:-0400
TZNAME:EDT
DTSTART:20240310T070000
END:DAYLIGHT
BEGIN:STANDARD
TZOFFSETFROM:-0400
TZOFFSETTO:-0500
TZNAME:EST
DTSTART:20241103T060000
END:STANDARD
BEGIN:DAYLIGHT
TZOFFSETFROM:-0500
TZOFFSETTO:-0400
TZNAME:EDT
DTSTART:20250309T070000
END:DAYLIGHT
BEGIN:STANDARD
TZOFFSETFROM:-0400
TZOFFSETTO:-0500
TZNAME:EST
DTSTART:20251102T060000
END:STANDARD
END:VTIMEZONE
BEGIN:VEVENT
DTSTART;TZID=America/New_York:20241118T100000
DTEND;TZID=America/New_York:20241118T110000
DTSTAMP:20260423T172415
CREATED:20230524T172115Z
LAST-MODIFIED:20250428T140949Z
UID:39862-1731924000-1731927600@ngrl.devtest.center
SUMMARY:Workout with Nancy -- Adults
DESCRIPTION:Open to ages 18 and older. Get your heart pumping in this workout class led by Nancy Guzman. \n\nMondays @ 10:30 a.m. in August\nMondays @ 10:30 a.m. in September\nMondays @ 10:30 a.m. in October\nMondays @ 10:30 a.m. in November\nMondays @ 10:30 a.m. in December\nMondays @ 10:30 a.m. in January\nMondays @ 10:30 a.m. in February\nMondays @ 10:30 a.m. in March\nMondays @ 10:30 a.m. in April\nMondays @ 10:30 a.m. in May\nMondays @ 10:30 a.m. in June\nMondays @ 10:30 a.m. in July\nMondays @ 10:30 a.m. in August\nMondays @ 10:30 a.m. in September\nMondays @ 10 a.m. in October\nMondays @ 10 a.m. in November\nMondays @ 10 a.m. in December\nMondays @ 10 a.m. in January\nMondays @ 10 a.m. in February\nMondays @ 10 a.m. in March\nMondays @ 10 a.m. in April\nMonday May 5 & 19 @ 10 a.m.\n\nNo class January 1 & 15 \nNo class February 17 \nDisclaimer: All aspects of in-person programming are subject to change based on health crisis guidelines and procedures.
URL:https://ngrl.devtest.center/event/workout-with-nancy-adults/2024-11-18/
LOCATION:Calhoun-Gordon County Public Library\, 100 N Park Avenue\, Calhoun\, GA\, 30701\, United States
ATTACH;FMTTYPE=image/png:https://ngrl.devtest.center/wp-content/uploads/2021/09/Adults-Featured.png
END:VEVENT
BEGIN:VEVENT
DTSTART;TZID=America/New_York:20241118T103000
DTEND;TZID=America/New_York:20241118T113000
DTSTAMP:20260423T172415
CREATED:20230524T172115Z
LAST-MODIFIED:20250428T140949Z
UID:43704-1731925800-1731929400@ngrl.devtest.center
SUMMARY:Workout with Nancy -- Adults
DESCRIPTION:Open to ages 18 and older. Get your heart pumping in this workout class led by Nancy Guzman. \n\nMondays @ 10:30 a.m. in August\nMondays @ 10:30 a.m. in September\nMondays @ 10:30 a.m. in October\nMondays @ 10:30 a.m. in November\nMondays @ 10:30 a.m. in December\nMondays @ 10:30 a.m. in January\nMondays @ 10:30 a.m. in February\nMondays @ 10:30 a.m. in March\nMondays @ 10:30 a.m. in April\nMondays @ 10:30 a.m. in May\nMondays @ 10:30 a.m. in June\nMondays @ 10:30 a.m. in July\nMondays @ 10:30 a.m. in August\nMondays @ 10:30 a.m. in September\nMondays @ 10 a.m. in October\nMondays @ 10 a.m. in November\nMondays @ 10 a.m. in December\nMondays @ 10 a.m. in January\nMondays @ 10 a.m. in February\nMondays @ 10 a.m. in March\nMondays @ 10 a.m. in April\nMonday May 5 & 19 @ 10 a.m.\n\nNo class January 1 & 15 \nNo class February 17 \nDisclaimer: All aspects of in-person programming are subject to change based on health crisis guidelines and procedures.
URL:https://ngrl.devtest.center/event/workout-with-nancy-adults/2024-11-18/
LOCATION:Calhoun-Gordon County Public Library\, 100 N Park Avenue\, Calhoun\, GA\, 30701\, United States
ATTACH;FMTTYPE=image/png:https://ngrl.devtest.center/wp-content/uploads/2021/09/Adults-Featured.png
END:VEVENT
BEGIN:VEVENT
DTSTART;TZID=America/New_York:20241118T110000
DTEND;TZID=America/New_York:20241118T120000
DTSTAMP:20260423T172415
CREATED:20221227T190026Z
LAST-MODIFIED:20260415T125833Z
UID:56486-1731927600-1731931200@ngrl.devtest.center
SUMMARY:Baby & Toddler Time -- Children
DESCRIPTION:Open to birth – preschool age. \nAn opportunity for young children to play\, dance\, listen to music\, hear stories\, and learn new things! \n\n\n\nMondays in July @ 11 a.m.\nMondays in August @ 11 a.m.\nMondays in September @ 11 a.m.\nMondays in October @ 11 a.m.\nMondays in November @ 11 a.m.\nMondays in December @ 11 a.m.\nMondays in January @ 11 a.m\n\n\n\n\nMondays in February @ 11 a.m.\nMondays in March @ 11 a.m.\nMondays in April @ 11 a.m.\n\n  \n\nClosed January 19\nClosed February 16 for Staff Service\n\nDisclaimer: All aspects of in-person programming are subject to change based on health crisis guidelines and procedures.
URL:https://ngrl.devtest.center/event/baby-toddler-time-children/2024-11-18/
LOCATION:Chatsworth-Murray County Public Library\, 706 Old Dalton Ellijay Rd\, Chatsworth\, GA\, 30705\, United States
ATTACH;FMTTYPE=image/png:https://ngrl.devtest.center/wp-content/uploads/2021/09/Kids-Featured.png
ORGANIZER;CN="Chatsworth-Murray County Library":MAILTO:ngrl.librarian@gmail.com
END:VEVENT
BEGIN:VEVENT
DTSTART;TZID=America/New_York:20241118T160000
DTEND;TZID=America/New_York:20241118T170000
DTSTAMP:20260423T172415
CREATED:20240220T171018Z
LAST-MODIFIED:20240220T171018Z
UID:37121-1731945600-1731949200@ngrl.devtest.center
SUMMARY:Pokémon Club -- Kids
DESCRIPTION:Open to kids K-5th grade. Try to catch them all. Share and trade cards with other Pokémon enthusiasts in this fun hangout time for kids. \n\nTuesday\, March 19 @ 4 p.m.\nMonday\, May 20 @ 4 p.m.\nMonday\, June 24 @ 4 p.m.\nMonday\, July 29 @ 4 p.m.\nMonday\, August 19 @ 4 p.m.\nMonday\, September 23 @ 4 p.m.\nMonday\, October 21 @ 4 p.m.\nMonday\, November 18 @ 4 p.m.\n\nDisclaimer: All aspects of in-person programming are subject to change based on health crisis guidelines and procedures. \n 
URL:https://ngrl.devtest.center/event/pokemon-club-kids/2024-11-18/
LOCATION:Calhoun-Gordon County Public Library\, 100 N Park Avenue\, Calhoun\, GA\, 30701\, United States
ATTACH;FMTTYPE=image/png:https://ngrl.devtest.center/wp-content/uploads/2021/09/Kids-Featured.png
END:VEVENT
BEGIN:VEVENT
DTSTART;TZID=America/New_York:20241118T160000
DTEND;TZID=America/New_York:20241118T170000
DTSTAMP:20260423T172415
CREATED:20241022T140340Z
LAST-MODIFIED:20241022T141104Z
UID:37143-1731945600-1731949200@ngrl.devtest.center
SUMMARY:Crafting with Roberta -- Adults
DESCRIPTION:Open to adults 18 and older. Join our friend Roberta Charbonneau for a crafting session making collage picture frames. Registration not required. \n\nMonday\, November 18 @ 4 p.m.\n\nDisclaimer: All aspects of in-person programming are subject to change based on health crisis guidelines and procedures.
URL:https://ngrl.devtest.center/event/crafting-with-roberta-adults/
LOCATION:Calhoun-Gordon County Public Library\, 100 N Park Avenue\, Calhoun\, GA\, 30701\, United States
ATTACH;FMTTYPE=image/png:https://ngrl.devtest.center/wp-content/uploads/2021/09/Adults-Featured.png
END:VEVENT
BEGIN:VEVENT
DTSTART;TZID=America/New_York:20241118T160000
DTEND;TZID=America/New_York:20241118T170000
DTSTAMP:20260423T172415
CREATED:20241023T110408Z
LAST-MODIFIED:20241023T110611Z
UID:37458-1731945600-1731949200@ngrl.devtest.center
SUMMARY:Kids Library Lab: Pendulum Painting -- Children
DESCRIPTION:Open to kids 1st – 5th grade. Create a painting with gravity. \n\nMonday\, November 18 @ 4 p.m.\n\nDisclaimer: All aspects of in-person programming are subject to change based on health crisis guidelines and procedures.
URL:https://ngrl.devtest.center/event/kids-library-lab-children/
LOCATION:Dalton-Whitfield County Public Library\, 310 Cappes St\, Dalton\, GA\, 30720\, United States
ATTACH;FMTTYPE=image/png:https://ngrl.devtest.center/wp-content/uploads/2021/09/Kids-Featured.png
ORGANIZER;CN="Dalton-Whitfield County Public Library":MAILTO:ngrl.librarian@gmail.com
END:VEVENT
BEGIN:VEVENT
DTSTART;TZID=America/New_York:20241118T173000
DTEND;TZID=America/New_York:20241118T183000
DTSTAMP:20260423T172415
CREATED:20241023T114748Z
LAST-MODIFIED:20241023T152910Z
UID:37466-1731951000-1731954600@ngrl.devtest.center
SUMMARY:Financial Wellness 101 -- Adults (Translator present)
DESCRIPTION:Open to adults 18 and older. Discussion of the following topics: Debt (managing debt/tracking spending)\, Credit (Credit score/value of credit)\, and budgeting. Presented by Harrison Stafford of Georgia United Credit Union. \n\nMonday\, November 18 @ 5:30 p.m.\n\nDisclaimer: All aspects of in-person programming are subject to change based on health crisis guidelines and procedures.
URL:https://ngrl.devtest.center/event/financial-wellness-101-adults-translator-present/
LOCATION:Dalton-Whitfield County Public Library\, 310 Cappes St\, Dalton\, GA\, 30720\, United States
ATTACH;FMTTYPE=image/png:https://ngrl.devtest.center/wp-content/uploads/2021/09/Adults-Featured.png
ORGANIZER;CN="Dalton-Whitfield County Public Library":MAILTO:ngrl.librarian@gmail.com
END:VEVENT
BEGIN:VEVENT
DTSTART;TZID=America/New_York:20241118T180000
DTEND;TZID=America/New_York:20241118T194500
DTSTAMP:20260423T172415
CREATED:20221227T185954Z
LAST-MODIFIED:20250320T162804Z
UID:36632-1731952800-1731959100@ngrl.devtest.center
SUMMARY:Anime Club -- Tweens & Teens
DESCRIPTION:Open to 6th-12th grades. Come hang out with your friends in grades 6-12 at the Chatsworth-Murray County Public Library. Enjoy discussing and watching some of your favorite shows with other fans! \n\nTuesday\, January 10 @ 3 – 5 p.m.\nTuesday\, February 14 @ 3 – 5 p.m. – Theme: Demon Slayer\nTuesday\, March 14 @ 3 – 5 p.m. – Theme: Fruits Basket\nTuesday\, April 11 @ 3 – 5 p.m. – Theme: Haikyu!\nTuesday\, May 9 @ 3 – 5 p.m. – Theme: Dr. Stone\nMonday\, June 5 @ 3 – 5 p.m. – Theme: Kaguya-Sama Love Is War\nWednesday\, July 19 @ 3 – 5 p.m. – Theme: Ace Attorney\nTuesday\, August 8 @ 3 – 5 p.m. – Theme: My Love Story!!\nTuesday\, September 12 @ 4-5:30 p.m. – Theme: Natsume’s Book of Friends \nTuesday\, October 10 @ 4-5:30 p.m. – Theme: Soul Eater\nTuesday\, November 7 @ 4-5:30 p.m. – Theme: The Girl I Like Forgot Her Glasses\nTuesday\, December 5 @ 4-5:30 p.m. – Theme: Polar Bear Cafe\nTuesday\, January 9 @ 4-5:30 p.m. – Theme: Frieren: Beyond Journey’s End\nTuesday\, February 6 @ 4-5 p.m. – Theme: Horimiya\nMonday\, March 25 @ 6-7:45 p.m.\nMonday\, April 29 @ 6-7:45 p.m.\nMonday\, May 20 @ 6-7:45 p.m.\nMonday\, June 24 @ 6-7:45 p.m.\nMonday\, July 22 @ 6-7:45 p.m.\nMonday\, August 26 @ 6-7:45 p.m.\nMonday\, September 23 @ 6-7:45 p.m.\nMonday\, October 21 @ 6-7:45 p.m.\nMonday\, December 16 @ 6-7:45 p.m.\nSaturday\, December 28 @ 11 a.m.-1:00 p.m.\nSaturday\, January 4 @ 11 a.m.-1 p.m.\nMonday\, January 27 @ 6-7:45 p.m.\nSaturday\, February 1 @ 11 a.m.-1 p.m.\nMonday\, February 24 @ 6-7:45 p.m.\nSaturday\, March 8 @ 11 a.m.- 1 p.m.\nMonday\, March 24 @ 6-7:45 p.m.\nSaturday\, April 5 @ 11 a.m.-1 p.m.\n\n\nDisclaimer: All aspects of in-person programming are subject to change based on health crisis guidelines and procedures.
URL:https://ngrl.devtest.center/event/anime-club-tweens-teens-4/2024-11-18/
LOCATION:Chatsworth-Murray County Public Library\, 706 Old Dalton Ellijay Rd\, Chatsworth\, GA\, 30705\, United States
ATTACH;FMTTYPE=image/png:https://ngrl.devtest.center/wp-content/uploads/2021/09/Teens-Featured.png
ORGANIZER;CN="Chatsworth-Murray County Library":MAILTO:ngrl.librarian@gmail.com
END:VEVENT
BEGIN:VEVENT
DTSTART;TZID=America/New_York:20241118T180000
DTEND;TZID=America/New_York:20241118T194500
DTSTAMP:20260423T172415
CREATED:20230721T140431Z
LAST-MODIFIED:20250218T152025Z
UID:36635-1731952800-1731959100@ngrl.devtest.center
SUMMARY:Nerf War -- Tweens & Teens
DESCRIPTION:Image from: https://commons.wikimedia.org/wiki/File:Various_Nerf_ammo_types.jpg\nOpen to 6th – 12th grade. Join us after hours for an evening of games\, snacks\, and fun! Signed waiver is required. \n\nMonday\, June 26 @ 5–7 p.m.\nMonday\, July 24 @ 5–7 p.m.\nMonday\, September 25 @ 5-7 p.m.\nMonday\, October 23 @ 5-7 p.m.\nMonday\, November 20 @ 5-7 p.m.\nMonday\, December 18 @ 5-7 p.m.\nMonday\, January 22 @ 5-7 p.m.\nMonday\, February 26 @ 5-7 p.m.\nMonday\, March 25 @ 6-7:45 p.m.\nMonday\, April 29 @ 6-7:45 p.m.\nMonday\, May 20 @ 6-7:45 p.m.\nMonday\, June 24 @ 6-7:45 p.m.\nMonday\, July 22 @ 6-7:45 p.m.\nMonday\, August 26 @ 6-7:45 p.m.\nMonday\, September 23 @ 6-7:45 p.m.\nMonday\, October 21 @ 6-7:45 p.m.\nMonday\, November 18 @ 6-7:45 p.m.\nMonday\, December 16 @ 6-7:45 p.m.\nMonday\, January 27 @ 6-7:45 p.m.\nMonday\, February 24 @ 6-7:45 p.m.\nMonday\, March 24 @ 6-7:45 p.m.\n\nDisclaimer: All aspects of in-person programming are subject to change based on health crisis guidelines and procedures.
URL:https://ngrl.devtest.center/event/lock-in-nerf-war-tweens-teens-2-2024-07-22/2024-11-18/
LOCATION:Chatsworth-Murray County Public Library\, 706 Old Dalton Ellijay Rd\, Chatsworth\, GA\, 30705\, United States
ATTACH;FMTTYPE=image/png:https://ngrl.devtest.center/wp-content/uploads/2021/09/Teens-Featured.png
ORGANIZER;CN="Chatsworth-Murray County Library":MAILTO:ngrl.librarian@gmail.com
END:VEVENT
END:VCALENDAR