BEGIN:VCALENDAR
VERSION:2.0
PRODID:-//Northwest Georgia Regional Library System - ECPv6.15.17.1//NONSGML v1.0//EN
CALSCALE:GREGORIAN
METHOD:PUBLISH
X-WR-CALNAME:Northwest Georgia Regional Library System
X-ORIGINAL-URL:https://ngrl.devtest.center
X-WR-CALDESC:Events for Northwest Georgia Regional Library System
REFRESH-INTERVAL;VALUE=DURATION:PT1H
X-Robots-Tag:noindex
X-PUBLISHED-TTL:PT1H
BEGIN:VTIMEZONE
TZID:America/New_York
BEGIN:DAYLIGHT
TZOFFSETFROM:-0500
TZOFFSETTO:-0400
TZNAME:EDT
DTSTART:20230312T070000
END:DAYLIGHT
BEGIN:STANDARD
TZOFFSETFROM:-0400
TZOFFSETTO:-0500
TZNAME:EST
DTSTART:20231105T060000
END:STANDARD
BEGIN:DAYLIGHT
TZOFFSETFROM:-0500
TZOFFSETTO:-0400
TZNAME:EDT
DTSTART:20240310T070000
END:DAYLIGHT
BEGIN:STANDARD
TZOFFSETFROM:-0400
TZOFFSETTO:-0500
TZNAME:EST
DTSTART:20241103T060000
END:STANDARD
BEGIN:DAYLIGHT
TZOFFSETFROM:-0500
TZOFFSETTO:-0400
TZNAME:EDT
DTSTART:20250309T070000
END:DAYLIGHT
BEGIN:STANDARD
TZOFFSETFROM:-0400
TZOFFSETTO:-0500
TZNAME:EST
DTSTART:20251102T060000
END:STANDARD
END:VTIMEZONE
BEGIN:VEVENT
DTSTART;TZID=America/New_York:20241107T103000
DTEND;TZID=America/New_York:20241107T113000
DTSTAMP:20260423T172425
CREATED:20240719T111111Z
LAST-MODIFIED:20250428T142405Z
UID:36717-1730975400-1730979000@ngrl.devtest.center
SUMMARY:Baby Lapsit - Children
DESCRIPTION:New parents are welcome to come learn to communicate and read with your baby. \n\nThursdays @ 10:30 a.m.\nThursday\, December 12 & 19 @ 10:30 a.m.\nThursdays in January @ 10:30 a.m.\nThursdays in February @ 10:30 a.m.\nThursdays in March @ 10:30 a.m.\nThursdays in April @ 10:30 a.m.\nThursday in May @ 10:30 a.m.\n\nDisclaimer: All aspects of in-person programming are subject to change based on health crisis guidelines and procedures.
URL:https://ngrl.devtest.center/event/baby-lapis-children/2024-11-07/
LOCATION:Calhoun-Gordon County Public Library\, 100 N Park Avenue\, Calhoun\, GA\, 30701\, United States
ATTACH;FMTTYPE=image/png:https://ngrl.devtest.center/wp-content/uploads/2021/09/Kids-Featured.png
END:VEVENT
BEGIN:VEVENT
DTSTART;TZID=America/New_York:20241107T110000
DTEND;TZID=America/New_York:20241107T120000
DTSTAMP:20260423T172425
CREATED:20231219T164608Z
LAST-MODIFIED:20250820T144149Z
UID:40861-1730977200-1730980800@ngrl.devtest.center
SUMMARY:Beginner ESOL (Spanish Translator) - Adults
DESCRIPTION:Open to ages 18 and older. Practice and learn the English language with Dalton State Professor Dr. Brian Hibbs  Spanish translator will be present. \n\nTuesday\, January 9 & 23 @ 4 p.m.\nTuesday\, March 5 & 19 @ 4 p.m.\nTuesday\, March 2\, 16 and 30 @ 4 p.m.\nTuesday\, May 7 @ 4 p.m.\nTuesday\, May 14 @ 4 p.m.\nTuesday\, May 21 @ 4:30 p.m.\nTuesday\, May 28 @ 4:30 p.m.\nTuesday\, June 4 @ 4:30 p.m.\nWednesdays in September @ 11 a.m.\nWednesdays in October @ 11 a.m.\nWednesdays in January @ 11 a.m.\nThursdays in February @ 11 a.m.\nThursdays in March @ 11 a.m.\nThursdays in April @ 11 a.m.\nThursdays in May @ 11 a.m.\nMonday in August @ 11 a.m.\n\n  \n\nNo Beginner ESOL January 2 & 9 \nNo ESOL May 29\n\nDisclaimer: All aspects of in-person programming are subject to change based on health crisis guidelines and procedures.
URL:https://ngrl.devtest.center/event/beginner-esol-spanish-translator-adults/2024-11-07/
LOCATION:Dalton-Whitfield County Public Library\, 310 Cappes St\, Dalton\, GA\, 30720\, United States
ATTACH;FMTTYPE=image/png:https://ngrl.devtest.center/wp-content/uploads/2021/09/Adults-Featured.png
ORGANIZER;CN="Dalton-Whitfield County Public Library":MAILTO:ngrl.librarian@gmail.com
END:VEVENT
BEGIN:VEVENT
DTSTART;TZID=America/New_York:20241107T160000
DTEND;TZID=America/New_York:20241107T170000
DTSTAMP:20260423T172425
CREATED:20240503T130458Z
LAST-MODIFIED:20240503T130458Z
UID:36725-1730995200-1730998800@ngrl.devtest.center
SUMMARY:Spanish Class -- Adults
DESCRIPTION:Open to ages 18 and older. It’s never too late to learn a new language. Join us as we learn Spanish together! \n\nWednesdays @ 4 p.m.\n\nNo Class Oct. 10 & 31 \nNo Class Nov. 28 \nDisclaimer: All aspects of in-person programming are subject to change based on health crisis guidelines and procedures.
URL:https://ngrl.devtest.center/event/spanish-adults/2024-11-07/
LOCATION:Calhoun-Gordon County Public Library\, 100 N Park Avenue\, Calhoun\, GA\, 30701\, United States
ATTACH;FMTTYPE=image/png:https://ngrl.devtest.center/wp-content/uploads/2021/09/Adults-Featured.png
END:VEVENT
BEGIN:VEVENT
DTSTART;TZID=America/New_York:20241107T160000
DTEND;TZID=America/New_York:20241107T170000
DTSTAMP:20260423T172425
CREATED:20240822T192313Z
LAST-MODIFIED:20241119T130449Z
UID:36744-1730995200-1730998800@ngrl.devtest.center
SUMMARY:Teen Tabletop -- Tweens and Teens
DESCRIPTION:Open to ages 12-18. Gamers and wannabe gamers are invited to a tabletop gaming session. We’re ready to explore the wider world of tabletop gaming beyond just D&D with you. If there’s a specific game you want to see\, let us know so we can get the word out. \n\nThursdays in September @ 4 p.m.\nThursdays in October @ 4 p.m.\nThursdays in November @ 4 p.m.\nThursday\, December 5 @ 4 p.m.\n\nNo Teen Tabletop October 10 & 31 \nNo Teen Tabletop November 28 \nDisclaimer: All aspects of in-person programming are subject to change based on health crisis guidelines and procedures.
URL:https://ngrl.devtest.center/event/teen-tabletop-tweens-and-teens/2024-11-07/
LOCATION:Calhoun-Gordon County Public Library\, 100 N Park Avenue\, Calhoun\, GA\, 30701\, United States
ATTACH;FMTTYPE=image/png:https://ngrl.devtest.center/wp-content/uploads/2021/09/Teens-Featured.png
END:VEVENT
BEGIN:VEVENT
DTSTART;TZID=America/New_York:20241107T160000
DTEND;TZID=America/New_York:20241107T180000
DTSTAMP:20260423T172425
CREATED:20221227T185620Z
LAST-MODIFIED:20250428T160042Z
UID:40063-1730995200-1731002400@ngrl.devtest.center
SUMMARY:Dungeons & Dragons -- Tweens & Teens
DESCRIPTION:Open to 6th to 12th grade. Come to this interactive workshop to learn the basics of D&D play and character development led by Steven Bennett. Note: This is an after hours program and the rest of the library may not be open. \n\nWednesday\, January 11 @ 6 – 8 p.m.\nWednesday\, January 25 @ 6 – 8 p.m.\nWednesday\, February 8 @ 6 – 8 p.m.\nWednesday\, February 22 @ 6 – 8 p.m.\nWednesday\, March 8 @ 6 – 8 p.m.\nWednesday\, March 22 @ 6 – 8 p.m.\nThursday\, April 13 @ 6 – 8 p.m.\nThursday\, April 27 @ 6 – 8 p.m.\nThursday\, May 4 @ 6 – 8 p.m.\nThursday\, May 18 @ 6 – 8 p.m.\nThursday\, June 15 @ 6 – 8 p.m.\nThursday\, June 29 @ 6 – 8 p.m.\nThursday\, July 13 @ 6 – 8 p.m.\nThursday\, July 27 @ 6 – 8 p.m.\nThursday\, August 10 @ 6-8 p.m.\nThursday\, August 24 @ 6 -8 p.m.\nThursday\, September 7 @ 6-8 p.m.\nThursday\, September 21 @ 6-8 p.m.\nThursday\, October 5 @ 6 p.m.\nThursday\, October 19 @ 6 p.m.\nThursday\, November 2 @ 6 p.m.\nThursday\, November 16 @ 6 p.m.\nThursday\, November 30 @ 6 p.m.\nThursday\, January 11 @ 6 p.m.\nThursday\, January 25 @ 6 p.m.\nThursday\, February 8 @ 6 p.m.\nThursday\, February 22 @ 6 p.m.\nThursday\, March 7 @ 6 p.m.\nThursday\, March 21 @ 6 p.m.\nWednesdays at 4 p.m. in April\nThursdays in May @ 4 p.m.\nThursdays in June @ 4 p.m.\nThursdays in July @ 4 p.m.\nThursdays in August @ 4 p.m.\nThursdays in February @ 4 p.m.\nThursdays in March @ 4 p.m.\nThursdays in April @ 4 p.m.\nThursdays in May @ 4 p.m.\n\n  \n\nNote: One-shot adventures on the second and fourth Wednesday of each month.\nThursdays in January @ 4 p.m.\n\nDisclaimer: All aspects of in-person programming are subject to change based on health crisis guidelines and procedures.
URL:https://ngrl.devtest.center/event/dungeons-dragons-tweens-teens-3-2024-04-24-2024-05-02/2024-11-07/
LOCATION:Calhoun-Gordon County Public Library\, 100 N Park Avenue\, Calhoun\, GA\, 30701\, United States
ATTACH;FMTTYPE=image/png:https://ngrl.devtest.center/wp-content/uploads/2021/09/Teens-Featured.png
END:VEVENT
BEGIN:VEVENT
DTSTART;TZID=America/New_York:20241107T163000
DTEND;TZID=America/New_York:20241107T180000
DTSTAMP:20260423T172425
CREATED:20240213T163641Z
LAST-MODIFIED:20250224T211423Z
UID:41055-1730997000-1731002400@ngrl.devtest.center
SUMMARY:Pokémon Club -- All Ages
DESCRIPTION:Open to all ages. While we await the return of the Pokémon League\, trainers and Pokémon fans alike can gather for a weekly meetup to battle\, trade\, and share their love for all things Pokémon. \n\nWeekly on Thursdays at 4:30 – 6 p.m.\nFriday\, March 27 at 4:30-6 p.m. is Bingo Night\nThursday\, February 27 is National Pokémon Day\n\nDisclaimer: All aspects of in-person programming are subject to change based on health crisis guidelines and procedures.
URL:https://ngrl.devtest.center/event/pokemon-club-all-ages-3-2024-05-02/2024-11-07/
LOCATION:Dalton-Whitfield County Public Library\, 310 Cappes St\, Dalton\, GA\, 30720\, United States
ATTACH;FMTTYPE=image/png:https://ngrl.devtest.center/wp-content/uploads/2021/09/All-Ages-Featured.png
ORGANIZER;CN="Dalton-Whitfield County Public Library":MAILTO:ngrl.librarian@gmail.com
END:VEVENT
BEGIN:VEVENT
DTSTART;TZID=America/New_York:20241107T173000
DTEND;TZID=America/New_York:20241107T183000
DTSTAMP:20260423T172425
CREATED:20241023T115853Z
LAST-MODIFIED:20260323T191459Z
UID:37469-1731000600-1731004200@ngrl.devtest.center
SUMMARY:Page Turners Book Club -- Adults
DESCRIPTION:Open to adults 19 and older. Recommend your favorite titles\, vote for the group’s pick on Bookclubs\, and join us for a heartfelt discussion at the next meeting. \n\nThursday\, November 7 @ 5:30 p.m.\nThursday\, January 8 @ 5:30 p.m. Holiday Romance Edition – Start the new year with a special double-themed book club! In January we’re diving into “From Page to Screen” with Mickey 7 by Edward Ashton\, the sci-fi novel behind the upcoming film Mickey 17. We’re also keeping the winter spirit going with our Holiday Romance pick\, The Most Wonderful Crime of the Year by Holly Blackstone\, a cozy and festive mystery-romance. (Spanish interpreter present)\nThursday\, February 5 @ 5:30 p.m. Join us as we discuss power\, choice\, and the illusion of safety in a dystopian world where survival is entertainment\, and comfort comes at a cost. Book selection: “The Compound by Aisling Rawie.”\nThursday\, March 5 @ 5:30 p.m. Enjoy a fun\, laugh-filled book club discussion of a smart and charming romantic comedy. Book selection: “Funny Story” by Emily Henry.\nThursday\, April 2 @ 5:30 p.m. Angels\, Demons\, & Tea – Experience the apocalypse from a decidedly non-human point of view in “Good Omens\,” a humorous and imaginative novel seen through the perspectives of an angel and a demon who have grown rather fond of Earth. Join us for a discussion on perspective\, identity\, and what it means to be human when the storytellers aren’t.\n\nDisclaimer: All aspects of in-person programming are subject to change based on health crisis guidelines and procedures.
URL:https://ngrl.devtest.center/event/page-turners-book-club-adults/2024-11-07/
LOCATION:Dalton-Whitfield County Public Library\, 310 Cappes St\, Dalton\, GA\, 30720\, United States
ATTACH;FMTTYPE=image/png:https://ngrl.devtest.center/wp-content/uploads/2021/09/Adults-Featured.png
ORGANIZER;CN="Dalton-Whitfield County Public Library":MAILTO:ngrl.librarian@gmail.com
END:VEVENT
END:VCALENDAR