BEGIN:VCALENDAR
VERSION:2.0
PRODID:-//Northwest Georgia Regional Library System - ECPv6.15.17.1//NONSGML v1.0//EN
CALSCALE:GREGORIAN
METHOD:PUBLISH
X-WR-CALNAME:Northwest Georgia Regional Library System
X-ORIGINAL-URL:https://ngrl.devtest.center
X-WR-CALDESC:Events for Northwest Georgia Regional Library System
REFRESH-INTERVAL;VALUE=DURATION:PT1H
X-Robots-Tag:noindex
X-PUBLISHED-TTL:PT1H
BEGIN:VTIMEZONE
TZID:America/New_York
BEGIN:DAYLIGHT
TZOFFSETFROM:-0500
TZOFFSETTO:-0400
TZNAME:EDT
DTSTART:20230312T070000
END:DAYLIGHT
BEGIN:STANDARD
TZOFFSETFROM:-0400
TZOFFSETTO:-0500
TZNAME:EST
DTSTART:20231105T060000
END:STANDARD
BEGIN:DAYLIGHT
TZOFFSETFROM:-0500
TZOFFSETTO:-0400
TZNAME:EDT
DTSTART:20240310T070000
END:DAYLIGHT
BEGIN:STANDARD
TZOFFSETFROM:-0400
TZOFFSETTO:-0500
TZNAME:EST
DTSTART:20241103T060000
END:STANDARD
BEGIN:DAYLIGHT
TZOFFSETFROM:-0500
TZOFFSETTO:-0400
TZNAME:EDT
DTSTART:20250309T070000
END:DAYLIGHT
BEGIN:STANDARD
TZOFFSETFROM:-0400
TZOFFSETTO:-0500
TZNAME:EST
DTSTART:20251102T060000
END:STANDARD
END:VTIMEZONE
BEGIN:VEVENT
DTSTART;TZID=America/New_York:20241104T100000
DTEND;TZID=America/New_York:20241104T110000
DTSTAMP:20260423T172443
CREATED:20230524T172115Z
LAST-MODIFIED:20250428T140948Z
UID:39861-1730714400-1730718000@ngrl.devtest.center
SUMMARY:Workout with Nancy -- Adults
DESCRIPTION:Open to ages 18 and older. Get your heart pumping in this workout class led by Nancy Guzman. \n\nMondays @ 10:30 a.m. in August\nMondays @ 10:30 a.m. in September\nMondays @ 10:30 a.m. in October\nMondays @ 10:30 a.m. in November\nMondays @ 10:30 a.m. in December\nMondays @ 10:30 a.m. in January\nMondays @ 10:30 a.m. in February\nMondays @ 10:30 a.m. in March\nMondays @ 10:30 a.m. in April\nMondays @ 10:30 a.m. in May\nMondays @ 10:30 a.m. in June\nMondays @ 10:30 a.m. in July\nMondays @ 10:30 a.m. in August\nMondays @ 10:30 a.m. in September\nMondays @ 10 a.m. in October\nMondays @ 10 a.m. in November\nMondays @ 10 a.m. in December\nMondays @ 10 a.m. in January\nMondays @ 10 a.m. in February\nMondays @ 10 a.m. in March\nMondays @ 10 a.m. in April\nMonday May 5 & 19 @ 10 a.m.\n\nNo class January 1 & 15 \nNo class February 17 \nDisclaimer: All aspects of in-person programming are subject to change based on health crisis guidelines and procedures.
URL:https://ngrl.devtest.center/event/workout-with-nancy-adults/2024-11-04/
LOCATION:Calhoun-Gordon County Public Library\, 100 N Park Avenue\, Calhoun\, GA\, 30701\, United States
ATTACH;FMTTYPE=image/png:https://ngrl.devtest.center/wp-content/uploads/2021/09/Adults-Featured.png
END:VEVENT
BEGIN:VEVENT
DTSTART;TZID=America/New_York:20241104T103000
DTEND;TZID=America/New_York:20241104T113000
DTSTAMP:20260423T172443
CREATED:20230524T172115Z
LAST-MODIFIED:20250428T140948Z
UID:43703-1730716200-1730719800@ngrl.devtest.center
SUMMARY:Workout with Nancy -- Adults
DESCRIPTION:Open to ages 18 and older. Get your heart pumping in this workout class led by Nancy Guzman. \n\nMondays @ 10:30 a.m. in August\nMondays @ 10:30 a.m. in September\nMondays @ 10:30 a.m. in October\nMondays @ 10:30 a.m. in November\nMondays @ 10:30 a.m. in December\nMondays @ 10:30 a.m. in January\nMondays @ 10:30 a.m. in February\nMondays @ 10:30 a.m. in March\nMondays @ 10:30 a.m. in April\nMondays @ 10:30 a.m. in May\nMondays @ 10:30 a.m. in June\nMondays @ 10:30 a.m. in July\nMondays @ 10:30 a.m. in August\nMondays @ 10:30 a.m. in September\nMondays @ 10 a.m. in October\nMondays @ 10 a.m. in November\nMondays @ 10 a.m. in December\nMondays @ 10 a.m. in January\nMondays @ 10 a.m. in February\nMondays @ 10 a.m. in March\nMondays @ 10 a.m. in April\nMonday May 5 & 19 @ 10 a.m.\n\nNo class January 1 & 15 \nNo class February 17 \nDisclaimer: All aspects of in-person programming are subject to change based on health crisis guidelines and procedures.
URL:https://ngrl.devtest.center/event/workout-with-nancy-adults/2024-11-04/
LOCATION:Calhoun-Gordon County Public Library\, 100 N Park Avenue\, Calhoun\, GA\, 30701\, United States
ATTACH;FMTTYPE=image/png:https://ngrl.devtest.center/wp-content/uploads/2021/09/Adults-Featured.png
END:VEVENT
BEGIN:VEVENT
DTSTART;TZID=America/New_York:20241104T110000
DTEND;TZID=America/New_York:20241104T120000
DTSTAMP:20260423T172443
CREATED:20221227T190026Z
LAST-MODIFIED:20260415T125833Z
UID:56485-1730718000-1730721600@ngrl.devtest.center
SUMMARY:Baby & Toddler Time -- Children
DESCRIPTION:Open to birth – preschool age. \nAn opportunity for young children to play\, dance\, listen to music\, hear stories\, and learn new things! \n\n\n\nMondays in July @ 11 a.m.\nMondays in August @ 11 a.m.\nMondays in September @ 11 a.m.\nMondays in October @ 11 a.m.\nMondays in November @ 11 a.m.\nMondays in December @ 11 a.m.\nMondays in January @ 11 a.m\n\n\n\n\nMondays in February @ 11 a.m.\nMondays in March @ 11 a.m.\nMondays in April @ 11 a.m.\n\n  \n\nClosed January 19\nClosed February 16 for Staff Service\n\nDisclaimer: All aspects of in-person programming are subject to change based on health crisis guidelines and procedures.
URL:https://ngrl.devtest.center/event/baby-toddler-time-children/2024-11-04/
LOCATION:Chatsworth-Murray County Public Library\, 706 Old Dalton Ellijay Rd\, Chatsworth\, GA\, 30705\, United States
ATTACH;FMTTYPE=image/png:https://ngrl.devtest.center/wp-content/uploads/2021/09/Kids-Featured.png
ORGANIZER;CN="Chatsworth-Murray County Library":MAILTO:ngrl.librarian@gmail.com
END:VEVENT
BEGIN:VEVENT
DTSTART;TZID=America/New_York:20241104T160000
DTEND;TZID=America/New_York:20241104T170000
DTSTAMP:20260423T172443
CREATED:20240129T175246Z
LAST-MODIFIED:20240129T175246Z
UID:37130-1730736000-1730739600@ngrl.devtest.center
SUMMARY:Mixed Media -- Tweens & Teens
DESCRIPTION:Open to 6th – 12th grades. Teens are invited to explore a range of media to created a new work of art. \n\nMonday\, February 12 @ 4 p.m.\nMonday\, March 11 @ 4 p.m.\nMonday\, March 25 @ 4 p.m.\nMonday\, April 8 @ 4 p.m.\nMonday\, April 22 @ 4 p.m.\nMonday\, May 6 @ 4 p.m.\nMonday\, July 8 @ 4 p.m.\nMonday\,  August 12 & 26 @ 4 p.m.\nMonday\, September 9 & 23 @ 4 p.m.\nMonday\, October 7 @ 4 p.m.\nMonday\, November 4 @ 4 p.m.\n\nDisclaimer: All aspects of in-person programming are subject to change based on health crisis guidelines and procedures.
URL:https://ngrl.devtest.center/event/mixed-media-teens/2024-11-04/
LOCATION:Calhoun-Gordon County Public Library\, 100 N Park Avenue\, Calhoun\, GA\, 30701\, United States
ATTACH;FMTTYPE=image/png:https://ngrl.devtest.center/wp-content/uploads/2021/09/Teens-Featured.png
END:VEVENT
BEGIN:VEVENT
DTSTART;TZID=America/New_York:20241104T160000
DTEND;TZID=America/New_York:20241104T170000
DTSTAMP:20260423T172443
CREATED:20241022T184138Z
LAST-MODIFIED:20241022T184138Z
UID:37450-1730736000-1730739600@ngrl.devtest.center
SUMMARY:Kids Library Lab - Butter Making -- Children
DESCRIPTION:Open to kids 1st-5th grades. Make fresh butter with your own two hands. \n\nMonday\, November 4 @ 4 p.m.\n\nDisclaimer: All aspects of in-person programming are subject to change based on health crisis guidelines and procedures. \n 
URL:https://ngrl.devtest.center/event/kids-library-lab-butter-making-children/
LOCATION:Dalton-Whitfield County Public Library\, 310 Cappes St\, Dalton\, GA\, 30720\, United States
ATTACH;FMTTYPE=image/png:https://ngrl.devtest.center/wp-content/uploads/2021/09/Kids-Featured.png
ORGANIZER;CN="Dalton-Whitfield County Public Library":MAILTO:ngrl.librarian@gmail.com
END:VEVENT
END:VCALENDAR