BEGIN:VCALENDAR
VERSION:2.0
PRODID:-//Northwest Georgia Regional Library System - ECPv6.15.17.1//NONSGML v1.0//EN
CALSCALE:GREGORIAN
METHOD:PUBLISH
X-WR-CALNAME:Northwest Georgia Regional Library System
X-ORIGINAL-URL:https://ngrl.devtest.center
X-WR-CALDESC:Events for Northwest Georgia Regional Library System
REFRESH-INTERVAL;VALUE=DURATION:PT1H
X-Robots-Tag:noindex
X-PUBLISHED-TTL:PT1H
BEGIN:VTIMEZONE
TZID:America/New_York
BEGIN:DAYLIGHT
TZOFFSETFROM:-0500
TZOFFSETTO:-0400
TZNAME:EDT
DTSTART:20230312T070000
END:DAYLIGHT
BEGIN:STANDARD
TZOFFSETFROM:-0400
TZOFFSETTO:-0500
TZNAME:EST
DTSTART:20231105T060000
END:STANDARD
BEGIN:DAYLIGHT
TZOFFSETFROM:-0500
TZOFFSETTO:-0400
TZNAME:EDT
DTSTART:20240310T070000
END:DAYLIGHT
BEGIN:STANDARD
TZOFFSETFROM:-0400
TZOFFSETTO:-0500
TZNAME:EST
DTSTART:20241103T060000
END:STANDARD
BEGIN:DAYLIGHT
TZOFFSETFROM:-0500
TZOFFSETTO:-0400
TZNAME:EDT
DTSTART:20250309T070000
END:DAYLIGHT
BEGIN:STANDARD
TZOFFSETFROM:-0400
TZOFFSETTO:-0500
TZNAME:EST
DTSTART:20251102T060000
END:STANDARD
END:VTIMEZONE
BEGIN:VEVENT
DTSTART;TZID=America/New_York:20241028T100000
DTEND;TZID=America/New_York:20241028T110000
DTSTAMP:20260423T172427
CREATED:20230524T172115Z
LAST-MODIFIED:20250428T140947Z
UID:39860-1730109600-1730113200@ngrl.devtest.center
SUMMARY:Workout with Nancy -- Adults
DESCRIPTION:Open to ages 18 and older. Get your heart pumping in this workout class led by Nancy Guzman. \n\nMondays @ 10:30 a.m. in August\nMondays @ 10:30 a.m. in September\nMondays @ 10:30 a.m. in October\nMondays @ 10:30 a.m. in November\nMondays @ 10:30 a.m. in December\nMondays @ 10:30 a.m. in January\nMondays @ 10:30 a.m. in February\nMondays @ 10:30 a.m. in March\nMondays @ 10:30 a.m. in April\nMondays @ 10:30 a.m. in May\nMondays @ 10:30 a.m. in June\nMondays @ 10:30 a.m. in July\nMondays @ 10:30 a.m. in August\nMondays @ 10:30 a.m. in September\nMondays @ 10 a.m. in October\nMondays @ 10 a.m. in November\nMondays @ 10 a.m. in December\nMondays @ 10 a.m. in January\nMondays @ 10 a.m. in February\nMondays @ 10 a.m. in March\nMondays @ 10 a.m. in April\nMonday May 5 & 19 @ 10 a.m.\n\nNo class January 1 & 15 \nNo class February 17 \nDisclaimer: All aspects of in-person programming are subject to change based on health crisis guidelines and procedures.
URL:https://ngrl.devtest.center/event/workout-with-nancy-adults/2024-10-28/
LOCATION:Calhoun-Gordon County Public Library\, 100 N Park Avenue\, Calhoun\, GA\, 30701\, United States
ATTACH;FMTTYPE=image/png:https://ngrl.devtest.center/wp-content/uploads/2021/09/Adults-Featured.png
END:VEVENT
BEGIN:VEVENT
DTSTART;TZID=America/New_York:20241028T103000
DTEND;TZID=America/New_York:20241028T113000
DTSTAMP:20260423T172427
CREATED:20230524T172115Z
LAST-MODIFIED:20250428T140947Z
UID:43702-1730111400-1730115000@ngrl.devtest.center
SUMMARY:Workout with Nancy -- Adults
DESCRIPTION:Open to ages 18 and older. Get your heart pumping in this workout class led by Nancy Guzman. \n\nMondays @ 10:30 a.m. in August\nMondays @ 10:30 a.m. in September\nMondays @ 10:30 a.m. in October\nMondays @ 10:30 a.m. in November\nMondays @ 10:30 a.m. in December\nMondays @ 10:30 a.m. in January\nMondays @ 10:30 a.m. in February\nMondays @ 10:30 a.m. in March\nMondays @ 10:30 a.m. in April\nMondays @ 10:30 a.m. in May\nMondays @ 10:30 a.m. in June\nMondays @ 10:30 a.m. in July\nMondays @ 10:30 a.m. in August\nMondays @ 10:30 a.m. in September\nMondays @ 10 a.m. in October\nMondays @ 10 a.m. in November\nMondays @ 10 a.m. in December\nMondays @ 10 a.m. in January\nMondays @ 10 a.m. in February\nMondays @ 10 a.m. in March\nMondays @ 10 a.m. in April\nMonday May 5 & 19 @ 10 a.m.\n\nNo class January 1 & 15 \nNo class February 17 \nDisclaimer: All aspects of in-person programming are subject to change based on health crisis guidelines and procedures.
URL:https://ngrl.devtest.center/event/workout-with-nancy-adults/2024-10-28/
LOCATION:Calhoun-Gordon County Public Library\, 100 N Park Avenue\, Calhoun\, GA\, 30701\, United States
ATTACH;FMTTYPE=image/png:https://ngrl.devtest.center/wp-content/uploads/2021/09/Adults-Featured.png
END:VEVENT
BEGIN:VEVENT
DTSTART;TZID=America/New_York:20241028T110000
DTEND;TZID=America/New_York:20241028T120000
DTSTAMP:20260423T172427
CREATED:20221227T190026Z
LAST-MODIFIED:20260415T125833Z
UID:56484-1730113200-1730116800@ngrl.devtest.center
SUMMARY:Baby & Toddler Time -- Children
DESCRIPTION:Open to birth – preschool age. \nAn opportunity for young children to play\, dance\, listen to music\, hear stories\, and learn new things! \n\n\n\nMondays in July @ 11 a.m.\nMondays in August @ 11 a.m.\nMondays in September @ 11 a.m.\nMondays in October @ 11 a.m.\nMondays in November @ 11 a.m.\nMondays in December @ 11 a.m.\nMondays in January @ 11 a.m\n\n\n\n\nMondays in February @ 11 a.m.\nMondays in March @ 11 a.m.\nMondays in April @ 11 a.m.\n\n  \n\nClosed January 19\nClosed February 16 for Staff Service\n\nDisclaimer: All aspects of in-person programming are subject to change based on health crisis guidelines and procedures.
URL:https://ngrl.devtest.center/event/baby-toddler-time-children/2024-10-28/
LOCATION:Chatsworth-Murray County Public Library\, 706 Old Dalton Ellijay Rd\, Chatsworth\, GA\, 30705\, United States
ATTACH;FMTTYPE=image/png:https://ngrl.devtest.center/wp-content/uploads/2021/09/Kids-Featured.png
ORGANIZER;CN="Chatsworth-Murray County Library":MAILTO:ngrl.librarian@gmail.com
END:VEVENT
BEGIN:VEVENT
DTSTART;TZID=America/New_York:20241028T173000
DTEND;TZID=America/New_York:20241028T183000
DTSTAMP:20260423T172427
CREATED:20240923T193921Z
LAST-MODIFIED:20240923T193921Z
UID:36379-1730136600-1730140200@ngrl.devtest.center
SUMMARY:Art @ the Library: Stained Glass: Dice Coloring -- Adults (Spanish translator provided)
DESCRIPTION:Open to adults 19 and older.  In this creative session\, you’ll solo a stained glass coloring page filled with a mosaic of little squares. Roll the dice to determine which color to use for each section\, adding an element of surprise to your artwork. All supplies provided. \n\nMonday\, October 24 @ 5:30 p.m.\nMonday\, October 28 @ 11:30 a.m.\n\nDisclaimer: All aspects of in-person programming are subject to change based on health crisis guidelines and procedures.
URL:https://ngrl.devtest.center/event/art-the-library-stained-glass-dice-coloring-adults-spanish-translator-provided/2024-10-28/
LOCATION:Dalton-Whitfield County Public Library\, 310 Cappes St\, Dalton\, GA\, 30720\, United States
ATTACH;FMTTYPE=image/png:https://ngrl.devtest.center/wp-content/uploads/2021/09/Adults-Featured.png
ORGANIZER;CN="Dalton-Whitfield County Public Library":MAILTO:ngrl.librarian@gmail.com
END:VEVENT
BEGIN:VEVENT
DTSTART;TZID=America/New_York:20241028T173000
DTEND;TZID=America/New_York:20241028T183000
DTSTAMP:20260423T172427
CREATED:20240923T204422Z
LAST-MODIFIED:20241120T161751Z
UID:36408-1730136600-1730140200@ngrl.devtest.center
SUMMARY:Intro to Google Suite -- Adults (Spanish translator present)
DESCRIPTION:Patron Jerry Haley works studiously on one of the many computers in the library’s tech lab.\nOpen to adults 18 and older. Learn the basics of Google Suite. We will touch on topics such as Calendar\, Drive\, Docs\, Sheets and Slides. \n\nMonday\, October 28 @ 5:30 p.m.\nMonday\, December 2 @ 5:30 p.m.\n\nDisclaimer: All aspects of in-person programming are subject to change based on health crisis guidelines and procedures.
URL:https://ngrl.devtest.center/event/intro-to-google-suite-adults-spanish-translator-present/2024-10-28/
LOCATION:Dalton-Whitfield County Public Library\, 310 Cappes St\, Dalton\, GA\, 30720\, United States
ATTACH;FMTTYPE=image/png:https://ngrl.devtest.center/wp-content/uploads/2021/09/Adults-Featured.png
ORGANIZER;CN="Dalton-Whitfield County Public Library":MAILTO:ngrl.librarian@gmail.com
END:VEVENT
END:VCALENDAR