BEGIN:VCALENDAR
VERSION:2.0
PRODID:-//Northwest Georgia Regional Library System - ECPv6.15.17.1//NONSGML v1.0//EN
CALSCALE:GREGORIAN
METHOD:PUBLISH
X-ORIGINAL-URL:https://ngrl.devtest.center
X-WR-CALDESC:Events for Northwest Georgia Regional Library System
REFRESH-INTERVAL;VALUE=DURATION:PT1H
X-Robots-Tag:noindex
X-PUBLISHED-TTL:PT1H
BEGIN:VTIMEZONE
TZID:America/New_York
BEGIN:DAYLIGHT
TZOFFSETFROM:-0500
TZOFFSETTO:-0400
TZNAME:EDT
DTSTART:20230312T070000
END:DAYLIGHT
BEGIN:STANDARD
TZOFFSETFROM:-0400
TZOFFSETTO:-0500
TZNAME:EST
DTSTART:20231105T060000
END:STANDARD
BEGIN:DAYLIGHT
TZOFFSETFROM:-0500
TZOFFSETTO:-0400
TZNAME:EDT
DTSTART:20240310T070000
END:DAYLIGHT
BEGIN:STANDARD
TZOFFSETFROM:-0400
TZOFFSETTO:-0500
TZNAME:EST
DTSTART:20241103T060000
END:STANDARD
BEGIN:DAYLIGHT
TZOFFSETFROM:-0500
TZOFFSETTO:-0400
TZNAME:EDT
DTSTART:20250309T070000
END:DAYLIGHT
BEGIN:STANDARD
TZOFFSETFROM:-0400
TZOFFSETTO:-0500
TZNAME:EST
DTSTART:20251102T060000
END:STANDARD
END:VTIMEZONE
BEGIN:VEVENT
DTSTART;TZID=America/New_York:20241012T110000
DTEND;TZID=America/New_York:20241012T120000
DTSTAMP:20260425T142805
CREATED:20240918T183135Z
LAST-MODIFIED:20240918T183135Z
UID:36150-1728730800-1728734400@ngrl.devtest.center
SUMMARY:Local Author Event -- All Ages
DESCRIPTION:Open to all ages. Local author Anita Foster will be here to read and sign her latest Piney Hill book. \n\nSaturday\, October 12 @ 11 a.m.\n\nDisclaimer: All aspects of in-person programming are subject to change based on health crisis guidelines and procedures.
URL:https://ngrl.devtest.center/event/local-author-event-all-ages/
LOCATION:Calhoun-Gordon County Public Library\, 100 N Park Avenue\, Calhoun\, GA\, 30701\, United States
ATTACH;FMTTYPE=image/png:https://ngrl.devtest.center/wp-content/uploads/2021/09/All-Ages-Featured.png
END:VEVENT
BEGIN:VEVENT
DTSTART;TZID=America/New_York:20241012T133000
DTEND;TZID=America/New_York:20241012T153000
DTSTAMP:20260425T142805
CREATED:20230524T154512Z
LAST-MODIFIED:20241120T145930Z
UID:36385-1728739800-1728747000@ngrl.devtest.center
SUMMARY:TnT NERF® War: Teens vs. Adults -- Tweens\, Teens & Adults
DESCRIPTION:Open to grades 4 – 12 & accompanying adults. Calling all parents\, grandparents\, aunts and uncles. Would you like to challenge the teen in your life to a NERF® war? If so\, this is the event for you. We provide blasters and darts to those who need them. \nNERF® is a registered trademark of Hasbro\, Inc\, which does not sponsor\, authorize or endorse this website. \n\nSaturday\, June 10 @ 1:30 – 3:30 p.m.\nSaturday\, August 12 @ 1:30-3:30 p.m.\nSaturday\, October 14 @ 1:30-3:30 p.m.\nSaturday\, December 9 @ 1:30-3:30 p.m.\nSaturday\, April 13 @ 1:30-3:30 p.m.\nSaturday\, May 11 @ 1:30-3:30 p.m.\nSaturday\, June 8 @ 1:30-3:30 p.m.\nSaturday\, August 10 @ 1:30 – 3:30 p.m.\nSaturday\, October 12 @ 1:30-3:30 p.m.\nSaturday\, December 14 @ 1:30-3:30 p.m.\n\nDisclaimer: All aspects of in-person programming are subject to change based on health crisis guidelines and procedures.
URL:https://ngrl.devtest.center/event/tnt-nerf-war-teens-vs-adults-tweens-teens-adults/2024-10-12/
LOCATION:Dalton-Whitfield County Public Library\, 310 Cappes St\, Dalton\, GA\, 30720\, United States
ATTACH;FMTTYPE=image/png:https://ngrl.devtest.center/wp-content/uploads/2021/09/Teens-Featured.png
ORGANIZER;CN="Dalton-Whitfield County Public Library":MAILTO:ngrl.librarian@gmail.com
END:VEVENT
END:VCALENDAR