BEGIN:VCALENDAR
VERSION:2.0
PRODID:-//Northwest Georgia Regional Library System - ECPv6.15.17.1//NONSGML v1.0//EN
CALSCALE:GREGORIAN
METHOD:PUBLISH
X-ORIGINAL-URL:https://ngrl.devtest.center
X-WR-CALDESC:Events for Northwest Georgia Regional Library System
REFRESH-INTERVAL;VALUE=DURATION:PT1H
X-Robots-Tag:noindex
X-PUBLISHED-TTL:PT1H
BEGIN:VTIMEZONE
TZID:America/New_York
BEGIN:DAYLIGHT
TZOFFSETFROM:-0500
TZOFFSETTO:-0400
TZNAME:EDT
DTSTART:20230312T070000
END:DAYLIGHT
BEGIN:STANDARD
TZOFFSETFROM:-0400
TZOFFSETTO:-0500
TZNAME:EST
DTSTART:20231105T060000
END:STANDARD
BEGIN:DAYLIGHT
TZOFFSETFROM:-0500
TZOFFSETTO:-0400
TZNAME:EDT
DTSTART:20240310T070000
END:DAYLIGHT
BEGIN:STANDARD
TZOFFSETFROM:-0400
TZOFFSETTO:-0500
TZNAME:EST
DTSTART:20241103T060000
END:STANDARD
BEGIN:DAYLIGHT
TZOFFSETFROM:-0500
TZOFFSETTO:-0400
TZNAME:EDT
DTSTART:20250309T070000
END:DAYLIGHT
BEGIN:STANDARD
TZOFFSETFROM:-0400
TZOFFSETTO:-0500
TZNAME:EST
DTSTART:20251102T060000
END:STANDARD
END:VTIMEZONE
BEGIN:VEVENT
DTSTART;VALUE=DATE:20240926
DTEND;VALUE=DATE:20240928
DTSTAMP:20260425T090112
CREATED:20240925T202924Z
LAST-MODIFIED:20240925T202924Z
UID:36490-1727308800-1727481599@ngrl.devtest.center
SUMMARY:CLOSED Due to Inclement Weather -- All NGRL Branches
DESCRIPTION:All Northwest Georgia Regional Library Systems will be CLOSED Thursday\, September 26 and Friday\, September 27 due to the predicted path of Hurricane Helene.\n\n\n\nDuring this time\, our digital collection will be available and can be accessed at https://ngrl.devtest.center/downloads. While the bookdrops will remain open\, we do not recommend dropping items off if you feel conditions are unsafe.
URL:https://ngrl.devtest.center/event/closed-due-to-inclement-weather-all-ngrl-branches-4/
LOCATION:GA
ATTACH;FMTTYPE=image/png:https://ngrl.devtest.center/wp-content/uploads/2021/09/Closed-Featured.png
END:VEVENT
BEGIN:VEVENT
DTSTART;TZID=America/New_York:20240926T100000
DTEND;TZID=America/New_York:20240926T110000
DTSTAMP:20260425T090112
CREATED:20240422T135652Z
LAST-MODIFIED:20240925T190134Z
UID:35099-1727344800-1727348400@ngrl.devtest.center
SUMMARY:Art with Emily -- Adults
DESCRIPTION:Open to anyone 18 and older. Kpop artist Emily Smith in this session where we’ll create a new work of art. All supplies provided. Pre-registration is required. Register by calling the library or dropping by. \n\nTuesday\, May 7 @ 10 a.m.\nTuesday\, June 4 @ 10 a.m.\nTuesday\, June 18 @ 10 a.m.\nMonday\, July 8 @ 3 p.m.\nWednesday\, July 17 @ 3 p.m.\nTuesday\, August 13 @ 10 a.m. (Sign-up begins July 23)\nThursday\, August 29 @ 10 a.m. (Sign-up begins August 8)\nTuesday\, September 10 @ 10 a.m. (Sign-up is open)\nThursday\, September 26 @ 10 a.m. (Sign-up begins September 5)\nThursday\, October 8 @ 10 a.m. (Sign-ups open)\nThursday\, October 24 @ 10 a.m. (Sign-ups open October 3 @ 4 p.m.)\n\nDisclaimer: All aspects of in-person programming are subject to change based on health crisis guidelines and procedures.
URL:https://ngrl.devtest.center/event/art-with-emily-adults-2024-09-26/
LOCATION:Calhoun-Gordon County Public Library\, 100 N Park Avenue\, Calhoun\, GA\, 30701\, United States
ATTACH;FMTTYPE=image/png:https://ngrl.devtest.center/wp-content/uploads/2021/09/Adults-Featured.png
END:VEVENT
BEGIN:VEVENT
DTSTART;TZID=America/New_York:20240926T103000
DTEND;TZID=America/New_York:20240926T113000
DTSTAMP:20260425T090112
CREATED:20240719T111111Z
LAST-MODIFIED:20240925T190159Z
UID:34840-1727346600-1727350200@ngrl.devtest.center
SUMMARY:Baby Lapsit - Children
DESCRIPTION:New parents are welcome to come learn to communicate and read with your baby. \n\nThursdays @ 10:30 a.m.\n\nDisclaimer: All aspects of in-person programming are subject to change based on health crisis guidelines and procedures.
URL:https://ngrl.devtest.center/event/baby-lapis-children-2024-09-26/
LOCATION:Calhoun-Gordon County Public Library\, 100 N Park Avenue\, Calhoun\, GA\, 30701\, United States
ATTACH;FMTTYPE=image/png:https://ngrl.devtest.center/wp-content/uploads/2021/09/Kids-Featured.png
END:VEVENT
BEGIN:VEVENT
DTSTART;TZID=America/New_York:20240926T110000
DTEND;TZID=America/New_York:20240926T120000
DTSTAMP:20260425T090112
CREATED:20231219T164608Z
LAST-MODIFIED:20250820T144144Z
UID:40855-1727348400-1727352000@ngrl.devtest.center
SUMMARY:Beginner ESOL (Spanish Translator) - Adults
DESCRIPTION:Open to ages 18 and older. Practice and learn the English language with Dalton State Professor Dr. Brian Hibbs  Spanish translator will be present. \n\nTuesday\, January 9 & 23 @ 4 p.m.\nTuesday\, March 5 & 19 @ 4 p.m.\nTuesday\, March 2\, 16 and 30 @ 4 p.m.\nTuesday\, May 7 @ 4 p.m.\nTuesday\, May 14 @ 4 p.m.\nTuesday\, May 21 @ 4:30 p.m.\nTuesday\, May 28 @ 4:30 p.m.\nTuesday\, June 4 @ 4:30 p.m.\nWednesdays in September @ 11 a.m.\nWednesdays in October @ 11 a.m.\nWednesdays in January @ 11 a.m.\nThursdays in February @ 11 a.m.\nThursdays in March @ 11 a.m.\nThursdays in April @ 11 a.m.\nThursdays in May @ 11 a.m.\nMonday in August @ 11 a.m.\n\n  \n\nNo Beginner ESOL January 2 & 9 \nNo ESOL May 29\n\nDisclaimer: All aspects of in-person programming are subject to change based on health crisis guidelines and procedures.
URL:https://ngrl.devtest.center/event/beginner-esol-spanish-translator-adults/2024-09-26/
LOCATION:Dalton-Whitfield County Public Library\, 310 Cappes St\, Dalton\, GA\, 30720\, United States
ATTACH;FMTTYPE=image/png:https://ngrl.devtest.center/wp-content/uploads/2021/09/Adults-Featured.png
ORGANIZER;CN="Dalton-Whitfield County Public Library":MAILTO:ngrl.librarian@gmail.com
END:VEVENT
BEGIN:VEVENT
DTSTART;TZID=America/New_York:20240926T160000
DTEND;TZID=America/New_York:20240926T170000
DTSTAMP:20260425T090112
CREATED:20240318T202937Z
LAST-MODIFIED:20240925T201451Z
UID:35158-1727366400-1727370000@ngrl.devtest.center
SUMMARY:Kids Storytime -- Children
DESCRIPTION:Open to k – 5th grade.  Join us for a fun afternoon storytime for older kids. \n\nThursday\, April 4  @ 10:15 a.m. & 4 p.m. — Theme is Shadows\nThursday\, April 11 @ 10:15 a.m. & 4 p.m. — Theme is Giraffes\nThursday\, April 18 @ 10:15 a.m. & 4 p.m. — Theme is Earth Day\nThursday\, April 25 @ 10:15 a.m. & 4 p.m. — Theme is Flowers\nThursday\, May 2 @ 10:15 a.m. & 4 p.m. — Theme is Llamas\nThursday\, May 2 @ 10:15 a.m. & 4 p.m. — Theme is Mother’s Day\nThursday\, May 2 @ 10:15 a.m. & 4 p.m. — Theme is Trucks\nThursday\, May 2 @ 10:15 a.m. & 4 p.m. — Theme is Colors\nThursday\, May 2 @ 10:15 a.m. & 4 p.m. — Theme is Loud\nThursday\, June 6 @ 10:15 a.m. & 4 p.m. — Theme is Adventure\nThursday\, June 13 @ 10:15 a.m. & 4 p.m. — Theme is Father’s Day\nThursday\, June 20 @ 10:15 a.m. & 4 p.m. — Theme is Juneteenth\nThursday\, June 27 @ 10:15 a.m. & 4 p.m. — Theme is Independence Day\nThursday\, July 11 @ 10:15 a.m. & 4 p.m. — Theme is Jungles\nThursday\, July 18 @ 10:15 a.m. & 4 p.m. — Theme is Camping\nThursday\, July 25 @ 10:15 a.m. & 4 p.m. — Theme is Mountains\nThursday\, August 1 10:15 a.m. & 4 p.m. — Theme is Olympics\nThursday\, August 8 10:15 a.m. & 4 p.m. — Theme is Airplanes\nThursday\, August 15 10:15 a.m. & 4 p.m. — Theme is Relaxing\nThursday\, August 22 10:15 a.m. & 4 p.m. — Theme is Teeth\nThursday\, August 29 10:15 a.m. & 4 p.m. — Theme is Fireflies\nThursday\, September 5 10:15 a.m. & 4 p.m — Theme is Back to School\nThursday\, September 12 10:15 a.m. & 4 p.m — Theme is Mice\nThursday\, September 19 10:15 a.m. & 4 p.m — Theme is Royalty\nThursday\, September 26 10:15 a.m. & 4 p.m — Theme is Pancakes\n\nDisclaimer: All aspects of in-person programming are subject to change based on health crisis guidelines and procedures.
URL:https://ngrl.devtest.center/event/kids-storytime-children-2024-09-26-2/
LOCATION:Chatsworth-Murray County Public Library\, 706 Old Dalton Ellijay Rd\, Chatsworth\, GA\, 30705\, United States
ATTACH;FMTTYPE=image/png:https://ngrl.devtest.center/wp-content/uploads/2021/09/Kids-Featured.png
ORGANIZER;CN="Chatsworth-Murray County Library":MAILTO:ngrl.librarian@gmail.com
END:VEVENT
BEGIN:VEVENT
DTSTART;TZID=America/New_York:20240926T160000
DTEND;TZID=America/New_York:20240926T170000
DTSTAMP:20260425T090112
CREATED:20240503T130458Z
LAST-MODIFIED:20240925T190213Z
UID:34913-1727366400-1727370000@ngrl.devtest.center
SUMMARY:Spanish Class -- Adults
DESCRIPTION:Open to ages 18 and older. It’s never too late to learn a new language. Join us as we learn Spanish together! \n\nWednesdays @ 4 p.m.\n\nNo Class Oct. 10 & 31 \nDisclaimer: All aspects of in-person programming are subject to change based on health crisis guidelines and procedures.
URL:https://ngrl.devtest.center/event/spanish-adults-2024-09-26/
LOCATION:Calhoun-Gordon County Public Library\, 100 N Park Avenue\, Calhoun\, GA\, 30701\, United States
ATTACH;FMTTYPE=image/png:https://ngrl.devtest.center/wp-content/uploads/2021/09/Adults-Featured.png
END:VEVENT
BEGIN:VEVENT
DTSTART;TZID=America/New_York:20240926T160000
DTEND;TZID=America/New_York:20240926T170000
DTSTAMP:20260425T090112
CREATED:20240719T111826Z
LAST-MODIFIED:20240925T190235Z
UID:35131-1727366400-1727370000@ngrl.devtest.center
SUMMARY:S.T.E.A.M. Storytime - Children
DESCRIPTION:Open to children 5-12. We’re making our own marble paper this month. \n\nThursday\, September 26 at 4 p.m.\nThursday\, October 24 @ 4 p.m.\n\nDisclaimer: All aspects of in-person programming are subject to change based on health crisis guidelines and procedures.
URL:https://ngrl.devtest.center/event/s-t-e-a-m-storytime-children-2-2024-09-26/
LOCATION:Calhoun-Gordon County Public Library\, 100 N Park Avenue\, Calhoun\, GA\, 30701\, United States
ATTACH;FMTTYPE=image/png:https://ngrl.devtest.center/wp-content/uploads/2021/09/Kids-Featured.png
END:VEVENT
BEGIN:VEVENT
DTSTART;TZID=America/New_York:20240926T160000
DTEND;TZID=America/New_York:20240926T170000
DTSTAMP:20260425T090112
CREATED:20240722T203127Z
LAST-MODIFIED:20240925T202045Z
UID:35410-1727366400-1727370000@ngrl.devtest.center
SUMMARY:Little Sprouts with Jennifer DesRochers - Kids
DESCRIPTION:Open to kids 1 – 5 grade. Butterly Bonanza. Join us on an exciting journey through the enchanting world of butterflies and bugs. \n\nThursday\, August 22 @ 4 p.m.\nThursday\, September 26 @ 4 p.m.\nThursday\, October 24 @ 4 p.m.\n\nDisclaimer: All aspects of in-person programming are subject to change based on health crisis guidelines and procedures.
URL:https://ngrl.devtest.center/event/little-sprouts-with-jennifer-desrochers-kids-2024-09-26/
LOCATION:Dalton-Whitfield County Public Library\, 310 Cappes St\, Dalton\, GA\, 30720\, United States
ATTACH;FMTTYPE=image/png:https://ngrl.devtest.center/wp-content/uploads/2021/09/Kids-Featured.png
ORGANIZER;CN="Dalton-Whitfield County Public Library":MAILTO:ngrl.librarian@gmail.com
END:VEVENT
BEGIN:VEVENT
DTSTART;TZID=America/New_York:20240926T160000
DTEND;TZID=America/New_York:20240926T170000
DTSTAMP:20260425T090112
CREATED:20240822T192313Z
LAST-MODIFIED:20240925T190224Z
UID:35559-1727366400-1727370000@ngrl.devtest.center
SUMMARY:Teen Tabletop - Tweens and Teens
DESCRIPTION:Open to ages 12-18. Gamers and wannabe gamers are invited to a tabletop gaming session. We’re ready to explore the wider world of tabletop gaming beyond just D&D with you. If there’s a specific game you want to see\, let us know so we can get the word out. \n\nThursdays in September @ 4 p.m.\nThursdays in October @ 4 p.m.\n\nNo Teen Tabletop October 10 & 31 \nDisclaimer: All aspects of in-person programming are subject to change based on health crisis guidelines and procedures.
URL:https://ngrl.devtest.center/event/teen-tabletop-tweens-and-teens-2024-09-26/
LOCATION:Calhoun-Gordon County Public Library\, 100 N Park Avenue\, Calhoun\, GA\, 30701\, United States
ATTACH;FMTTYPE=image/png:https://ngrl.devtest.center/wp-content/uploads/2021/09/Teens-Featured.png
END:VEVENT
BEGIN:VEVENT
DTSTART;TZID=America/New_York:20240926T160000
DTEND;TZID=America/New_York:20240926T180000
DTSTAMP:20260425T090112
CREATED:20221227T185620Z
LAST-MODIFIED:20250428T160038Z
UID:40057-1727366400-1727373600@ngrl.devtest.center
SUMMARY:Dungeons & Dragons -- Tweens & Teens
DESCRIPTION:Open to 6th to 12th grade. Come to this interactive workshop to learn the basics of D&D play and character development led by Steven Bennett. Note: This is an after hours program and the rest of the library may not be open. \n\nWednesday\, January 11 @ 6 – 8 p.m.\nWednesday\, January 25 @ 6 – 8 p.m.\nWednesday\, February 8 @ 6 – 8 p.m.\nWednesday\, February 22 @ 6 – 8 p.m.\nWednesday\, March 8 @ 6 – 8 p.m.\nWednesday\, March 22 @ 6 – 8 p.m.\nThursday\, April 13 @ 6 – 8 p.m.\nThursday\, April 27 @ 6 – 8 p.m.\nThursday\, May 4 @ 6 – 8 p.m.\nThursday\, May 18 @ 6 – 8 p.m.\nThursday\, June 15 @ 6 – 8 p.m.\nThursday\, June 29 @ 6 – 8 p.m.\nThursday\, July 13 @ 6 – 8 p.m.\nThursday\, July 27 @ 6 – 8 p.m.\nThursday\, August 10 @ 6-8 p.m.\nThursday\, August 24 @ 6 -8 p.m.\nThursday\, September 7 @ 6-8 p.m.\nThursday\, September 21 @ 6-8 p.m.\nThursday\, October 5 @ 6 p.m.\nThursday\, October 19 @ 6 p.m.\nThursday\, November 2 @ 6 p.m.\nThursday\, November 16 @ 6 p.m.\nThursday\, November 30 @ 6 p.m.\nThursday\, January 11 @ 6 p.m.\nThursday\, January 25 @ 6 p.m.\nThursday\, February 8 @ 6 p.m.\nThursday\, February 22 @ 6 p.m.\nThursday\, March 7 @ 6 p.m.\nThursday\, March 21 @ 6 p.m.\nWednesdays at 4 p.m. in April\nThursdays in May @ 4 p.m.\nThursdays in June @ 4 p.m.\nThursdays in July @ 4 p.m.\nThursdays in August @ 4 p.m.\nThursdays in February @ 4 p.m.\nThursdays in March @ 4 p.m.\nThursdays in April @ 4 p.m.\nThursdays in May @ 4 p.m.\n\n  \n\nNote: One-shot adventures on the second and fourth Wednesday of each month.\nThursdays in January @ 4 p.m.\n\nDisclaimer: All aspects of in-person programming are subject to change based on health crisis guidelines and procedures.
URL:https://ngrl.devtest.center/event/dungeons-dragons-tweens-teens-3-2024-04-24-2024-05-02/2024-09-26/
LOCATION:Calhoun-Gordon County Public Library\, 100 N Park Avenue\, Calhoun\, GA\, 30701\, United States
ATTACH;FMTTYPE=image/png:https://ngrl.devtest.center/wp-content/uploads/2021/09/Teens-Featured.png
END:VEVENT
BEGIN:VEVENT
DTSTART;TZID=America/New_York:20240926T163000
DTEND;TZID=America/New_York:20240926T173000
DTSTAMP:20260425T090112
CREATED:20240213T163641Z
LAST-MODIFIED:20240925T201452Z
UID:35347-1727368200-1727371800@ngrl.devtest.center
SUMMARY:Pokémon Club: Bingo Night -- All Ages
DESCRIPTION:Open to all ages. While we await the return of the Pokémon League\, trainers and Pokémon fans alike can gather for a weekly meetup to battle\, trade\, and share their love for all things Pokémon. \n\nWeekly on Thursdays at 4:30 pm\nBingo Night on Thursday\, October 31 @ 4:30 p.m.\n\nDisclaimer: All aspects of in-person programming are subject to change based on health crisis guidelines and procedures.
URL:https://ngrl.devtest.center/event/pokemon-club-all-ages-3-2024-05-02-2024-08-29-2024-09-26/
LOCATION:Dalton-Whitfield County Public Library\, 310 Cappes St\, Dalton\, GA\, 30720\, United States
ATTACH;FMTTYPE=image/png:https://ngrl.devtest.center/wp-content/uploads/2021/09/All-Ages-Featured.png
ORGANIZER;CN="Dalton-Whitfield County Public Library":MAILTO:ngrl.librarian@gmail.com
END:VEVENT
BEGIN:VEVENT
DTSTART;TZID=America/New_York:20240926T173000
DTEND;TZID=America/New_York:20240926T183000
DTSTAMP:20260425T090112
CREATED:20240826T185115Z
LAST-MODIFIED:20240925T201919Z
UID:35550-1727371800-1727375400@ngrl.devtest.center
SUMMARY:Art @ the Library: Paint Your own Taza de Barre -- Adults (Translator present)
DESCRIPTION:Open to adults 19 and older. Personalize a clay mug with traditional designs and receive an envelope of Abuelita’s Hot Chocolate. All supplies provided. \n\nMonday\, September 26 @ 11:30 a.m.\n\nDisclaimer: All aspects of in-person programming are subject to change based on health crisis guidelines and procedures.
URL:https://ngrl.devtest.center/event/art-the-library-paint-your-own-taza-de-barre-adults-translator-present-2024-09-26/
LOCATION:Dalton-Whitfield County Public Library\, 310 Cappes St\, Dalton\, GA\, 30720\, United States
ATTACH;FMTTYPE=image/png:https://ngrl.devtest.center/wp-content/uploads/2021/09/Adults-Featured.png
ORGANIZER;CN="Dalton-Whitfield County Public Library":MAILTO:ngrl.librarian@gmail.com
END:VEVENT
END:VCALENDAR