BEGIN:VCALENDAR
VERSION:2.0
PRODID:-//Northwest Georgia Regional Library System - ECPv6.15.17.1//NONSGML v1.0//EN
CALSCALE:GREGORIAN
METHOD:PUBLISH
X-ORIGINAL-URL:https://ngrl.devtest.center
X-WR-CALDESC:Events for Northwest Georgia Regional Library System
REFRESH-INTERVAL;VALUE=DURATION:PT1H
X-Robots-Tag:noindex
X-PUBLISHED-TTL:PT1H
BEGIN:VTIMEZONE
TZID:America/New_York
BEGIN:DAYLIGHT
TZOFFSETFROM:-0500
TZOFFSETTO:-0400
TZNAME:EDT
DTSTART:20230312T070000
END:DAYLIGHT
BEGIN:STANDARD
TZOFFSETFROM:-0400
TZOFFSETTO:-0500
TZNAME:EST
DTSTART:20231105T060000
END:STANDARD
BEGIN:DAYLIGHT
TZOFFSETFROM:-0500
TZOFFSETTO:-0400
TZNAME:EDT
DTSTART:20240310T070000
END:DAYLIGHT
BEGIN:STANDARD
TZOFFSETFROM:-0400
TZOFFSETTO:-0500
TZNAME:EST
DTSTART:20241103T060000
END:STANDARD
BEGIN:DAYLIGHT
TZOFFSETFROM:-0500
TZOFFSETTO:-0400
TZNAME:EDT
DTSTART:20250309T070000
END:DAYLIGHT
BEGIN:STANDARD
TZOFFSETFROM:-0400
TZOFFSETTO:-0500
TZNAME:EST
DTSTART:20251102T060000
END:STANDARD
END:VTIMEZONE
BEGIN:VEVENT
DTSTART;TZID=America/New_York:20240905T103000
DTEND;TZID=America/New_York:20240905T113000
DTSTAMP:20260425T104220
CREATED:20240719T111111Z
LAST-MODIFIED:20250428T142352Z
UID:34837-1725532200-1725535800@ngrl.devtest.center
SUMMARY:Baby Lapsit - Children
DESCRIPTION:New parents are welcome to come learn to communicate and read with your baby. \n\nThursdays @ 10:30 a.m.\nThursday\, December 12 & 19 @ 10:30 a.m.\nThursdays in January @ 10:30 a.m.\nThursdays in February @ 10:30 a.m.\nThursdays in March @ 10:30 a.m.\nThursdays in April @ 10:30 a.m.\nThursday in May @ 10:30 a.m.\n\nDisclaimer: All aspects of in-person programming are subject to change based on health crisis guidelines and procedures.
URL:https://ngrl.devtest.center/event/baby-lapis-children/2024-09-05/
LOCATION:Calhoun-Gordon County Public Library\, 100 N Park Avenue\, Calhoun\, GA\, 30701\, United States
ATTACH;FMTTYPE=image/png:https://ngrl.devtest.center/wp-content/uploads/2021/09/Kids-Featured.png
END:VEVENT
BEGIN:VEVENT
DTSTART;TZID=America/New_York:20240905T110000
DTEND;TZID=America/New_York:20240905T120000
DTSTAMP:20260425T104220
CREATED:20231219T164608Z
LAST-MODIFIED:20250820T144142Z
UID:40852-1725534000-1725537600@ngrl.devtest.center
SUMMARY:Beginner ESOL (Spanish Translator) - Adults
DESCRIPTION:Open to ages 18 and older. Practice and learn the English language with Dalton State Professor Dr. Brian Hibbs  Spanish translator will be present. \n\nTuesday\, January 9 & 23 @ 4 p.m.\nTuesday\, March 5 & 19 @ 4 p.m.\nTuesday\, March 2\, 16 and 30 @ 4 p.m.\nTuesday\, May 7 @ 4 p.m.\nTuesday\, May 14 @ 4 p.m.\nTuesday\, May 21 @ 4:30 p.m.\nTuesday\, May 28 @ 4:30 p.m.\nTuesday\, June 4 @ 4:30 p.m.\nWednesdays in September @ 11 a.m.\nWednesdays in October @ 11 a.m.\nWednesdays in January @ 11 a.m.\nThursdays in February @ 11 a.m.\nThursdays in March @ 11 a.m.\nThursdays in April @ 11 a.m.\nThursdays in May @ 11 a.m.\nMonday in August @ 11 a.m.\n\n  \n\nNo Beginner ESOL January 2 & 9 \nNo ESOL May 29\n\nDisclaimer: All aspects of in-person programming are subject to change based on health crisis guidelines and procedures.
URL:https://ngrl.devtest.center/event/beginner-esol-spanish-translator-adults/2024-09-05/
LOCATION:Dalton-Whitfield County Public Library\, 310 Cappes St\, Dalton\, GA\, 30720\, United States
ATTACH;FMTTYPE=image/png:https://ngrl.devtest.center/wp-content/uploads/2021/09/Adults-Featured.png
ORGANIZER;CN="Dalton-Whitfield County Public Library":MAILTO:ngrl.librarian@gmail.com
END:VEVENT
BEGIN:VEVENT
DTSTART;TZID=America/New_York:20240905T160000
DTEND;TZID=America/New_York:20240905T170000
DTSTAMP:20260425T104220
CREATED:20240503T130458Z
LAST-MODIFIED:20241021T182859Z
UID:34910-1725552000-1725555600@ngrl.devtest.center
SUMMARY:Spanish Class -- Adults
DESCRIPTION:Open to ages 18 and older. It’s never too late to learn a new language. Join us as we learn Spanish together! \n\nWednesdays @ 4 p.m.\n\nNo Class Oct. 10 & 31 \nNo Class Nov. 28 \nDisclaimer: All aspects of in-person programming are subject to change based on health crisis guidelines and procedures.
URL:https://ngrl.devtest.center/event/spanish-adults/2024-09-05/
LOCATION:Calhoun-Gordon County Public Library\, 100 N Park Avenue\, Calhoun\, GA\, 30701\, United States
ATTACH;FMTTYPE=image/png:https://ngrl.devtest.center/wp-content/uploads/2021/09/Adults-Featured.png
END:VEVENT
BEGIN:VEVENT
DTSTART;TZID=America/New_York:20240905T160000
DTEND;TZID=America/New_York:20240905T170000
DTSTAMP:20260425T104220
CREATED:20240822T192313Z
LAST-MODIFIED:20241119T130448Z
UID:35137-1725552000-1725555600@ngrl.devtest.center
SUMMARY:Teen Tabletop -- Tweens and Teens
DESCRIPTION:Open to ages 12-18. Gamers and wannabe gamers are invited to a tabletop gaming session. We’re ready to explore the wider world of tabletop gaming beyond just D&D with you. If there’s a specific game you want to see\, let us know so we can get the word out. \n\nThursdays in September @ 4 p.m.\nThursdays in October @ 4 p.m.\nThursdays in November @ 4 p.m.\nThursday\, December 5 @ 4 p.m.\n\nNo Teen Tabletop October 10 & 31 \nNo Teen Tabletop November 28 \nDisclaimer: All aspects of in-person programming are subject to change based on health crisis guidelines and procedures.
URL:https://ngrl.devtest.center/event/teen-tabletop-tweens-and-teens/2024-09-05/
LOCATION:Calhoun-Gordon County Public Library\, 100 N Park Avenue\, Calhoun\, GA\, 30701\, United States
ATTACH;FMTTYPE=image/png:https://ngrl.devtest.center/wp-content/uploads/2021/09/Teens-Featured.png
END:VEVENT
BEGIN:VEVENT
DTSTART;TZID=America/New_York:20240905T160000
DTEND;TZID=America/New_York:20240905T170000
DTSTAMP:20260425T104220
CREATED:20240822T194956Z
LAST-MODIFIED:20240822T195441Z
UID:35140-1725552000-1725555600@ngrl.devtest.center
SUMMARY:Children's Storytime -- Kids
DESCRIPTION:Story time – Reading is fun\, especially when you act it out\nOpen to children aged 5-12. Join us for an exciting story and some fun. Primary and elementary aged kids are invited to an entertaining afternoon. \n\nThursday\, September 5 & 19 @ 4 p.m.\n\nDisclaimer: All aspects of in-person programming are subject to change based on health crisis guidelines and procedures. \n 
URL:https://ngrl.devtest.center/event/childrens-storytime-kids/2024-09-05/
LOCATION:Calhoun-Gordon County Public Library\, 100 N Park Avenue\, Calhoun\, GA\, 30701\, United States
ATTACH;FMTTYPE=image/png:https://ngrl.devtest.center/wp-content/uploads/2021/09/Kids-Featured.png
END:VEVENT
BEGIN:VEVENT
DTSTART;TZID=America/New_York:20240905T160000
DTEND;TZID=America/New_York:20240905T180000
DTSTAMP:20260425T104220
CREATED:20221227T185620Z
LAST-MODIFIED:20250428T160034Z
UID:40054-1725552000-1725559200@ngrl.devtest.center
SUMMARY:Dungeons & Dragons -- Tweens & Teens
DESCRIPTION:Open to 6th to 12th grade. Come to this interactive workshop to learn the basics of D&D play and character development led by Steven Bennett. Note: This is an after hours program and the rest of the library may not be open. \n\nWednesday\, January 11 @ 6 – 8 p.m.\nWednesday\, January 25 @ 6 – 8 p.m.\nWednesday\, February 8 @ 6 – 8 p.m.\nWednesday\, February 22 @ 6 – 8 p.m.\nWednesday\, March 8 @ 6 – 8 p.m.\nWednesday\, March 22 @ 6 – 8 p.m.\nThursday\, April 13 @ 6 – 8 p.m.\nThursday\, April 27 @ 6 – 8 p.m.\nThursday\, May 4 @ 6 – 8 p.m.\nThursday\, May 18 @ 6 – 8 p.m.\nThursday\, June 15 @ 6 – 8 p.m.\nThursday\, June 29 @ 6 – 8 p.m.\nThursday\, July 13 @ 6 – 8 p.m.\nThursday\, July 27 @ 6 – 8 p.m.\nThursday\, August 10 @ 6-8 p.m.\nThursday\, August 24 @ 6 -8 p.m.\nThursday\, September 7 @ 6-8 p.m.\nThursday\, September 21 @ 6-8 p.m.\nThursday\, October 5 @ 6 p.m.\nThursday\, October 19 @ 6 p.m.\nThursday\, November 2 @ 6 p.m.\nThursday\, November 16 @ 6 p.m.\nThursday\, November 30 @ 6 p.m.\nThursday\, January 11 @ 6 p.m.\nThursday\, January 25 @ 6 p.m.\nThursday\, February 8 @ 6 p.m.\nThursday\, February 22 @ 6 p.m.\nThursday\, March 7 @ 6 p.m.\nThursday\, March 21 @ 6 p.m.\nWednesdays at 4 p.m. in April\nThursdays in May @ 4 p.m.\nThursdays in June @ 4 p.m.\nThursdays in July @ 4 p.m.\nThursdays in August @ 4 p.m.\nThursdays in February @ 4 p.m.\nThursdays in March @ 4 p.m.\nThursdays in April @ 4 p.m.\nThursdays in May @ 4 p.m.\n\n  \n\nNote: One-shot adventures on the second and fourth Wednesday of each month.\nThursdays in January @ 4 p.m.\n\nDisclaimer: All aspects of in-person programming are subject to change based on health crisis guidelines and procedures.
URL:https://ngrl.devtest.center/event/dungeons-dragons-tweens-teens-3-2024-04-24-2024-05-02/2024-09-05/
LOCATION:Calhoun-Gordon County Public Library\, 100 N Park Avenue\, Calhoun\, GA\, 30701\, United States
ATTACH;FMTTYPE=image/png:https://ngrl.devtest.center/wp-content/uploads/2021/09/Teens-Featured.png
END:VEVENT
BEGIN:VEVENT
DTSTART;TZID=America/New_York:20240905T163000
DTEND;TZID=America/New_York:20240905T180000
DTSTAMP:20260425T104220
CREATED:20240213T163641Z
LAST-MODIFIED:20250224T211421Z
UID:41048-1725553800-1725559200@ngrl.devtest.center
SUMMARY:Pokémon Club -- All Ages
DESCRIPTION:Open to all ages. While we await the return of the Pokémon League\, trainers and Pokémon fans alike can gather for a weekly meetup to battle\, trade\, and share their love for all things Pokémon. \n\nWeekly on Thursdays at 4:30 – 6 p.m.\nFriday\, March 27 at 4:30-6 p.m. is Bingo Night\nThursday\, February 27 is National Pokémon Day\n\nDisclaimer: All aspects of in-person programming are subject to change based on health crisis guidelines and procedures.
URL:https://ngrl.devtest.center/event/pokemon-club-all-ages-3-2024-05-02/2024-09-05/
LOCATION:Dalton-Whitfield County Public Library\, 310 Cappes St\, Dalton\, GA\, 30720\, United States
ATTACH;FMTTYPE=image/png:https://ngrl.devtest.center/wp-content/uploads/2021/09/All-Ages-Featured.png
ORGANIZER;CN="Dalton-Whitfield County Public Library":MAILTO:ngrl.librarian@gmail.com
END:VEVENT
BEGIN:VEVENT
DTSTART;TZID=America/New_York:20240905T173000
DTEND;TZID=America/New_York:20240905T183000
DTSTAMP:20260425T104220
CREATED:20240826T174423Z
LAST-MODIFIED:20240826T174423Z
UID:35520-1725557400-1725561000@ngrl.devtest.center
SUMMARY:Page Turners: Dark Academia -- Adults
DESCRIPTION:Open to adults 19 and older. Immerse yourself in the world of Dark Academia this September. Suggest and vote titles through book clubs\, and join us to discuss the chosen book at the next meeting. \n\nThursday\, September 5 @ 5:30 p.m.\n\nDisclaimer: All aspects of in-person programming are subject to change based on health crisis guidelines and procedures.
URL:https://ngrl.devtest.center/event/page-turners-dark-academia-adults/
LOCATION:Dalton-Whitfield County Public Library\, 310 Cappes St\, Dalton\, GA\, 30720\, United States
ATTACH;FMTTYPE=image/png:https://ngrl.devtest.center/wp-content/uploads/2021/09/Adults-Featured.png
ORGANIZER;CN="Dalton-Whitfield County Public Library":MAILTO:ngrl.librarian@gmail.com
END:VEVENT
END:VCALENDAR