BEGIN:VCALENDAR
VERSION:2.0
PRODID:-//Northwest Georgia Regional Library System - ECPv6.15.17.1//NONSGML v1.0//EN
CALSCALE:GREGORIAN
METHOD:PUBLISH
X-ORIGINAL-URL:https://ngrl.devtest.center
X-WR-CALDESC:Events for Northwest Georgia Regional Library System
REFRESH-INTERVAL;VALUE=DURATION:PT1H
X-Robots-Tag:noindex
X-PUBLISHED-TTL:PT1H
BEGIN:VTIMEZONE
TZID:America/New_York
BEGIN:DAYLIGHT
TZOFFSETFROM:-0500
TZOFFSETTO:-0400
TZNAME:EDT
DTSTART:20230312T070000
END:DAYLIGHT
BEGIN:STANDARD
TZOFFSETFROM:-0400
TZOFFSETTO:-0500
TZNAME:EST
DTSTART:20231105T060000
END:STANDARD
BEGIN:DAYLIGHT
TZOFFSETFROM:-0500
TZOFFSETTO:-0400
TZNAME:EDT
DTSTART:20240310T070000
END:DAYLIGHT
BEGIN:STANDARD
TZOFFSETFROM:-0400
TZOFFSETTO:-0500
TZNAME:EST
DTSTART:20241103T060000
END:STANDARD
BEGIN:DAYLIGHT
TZOFFSETFROM:-0500
TZOFFSETTO:-0400
TZNAME:EDT
DTSTART:20250309T070000
END:DAYLIGHT
BEGIN:STANDARD
TZOFFSETFROM:-0400
TZOFFSETTO:-0500
TZNAME:EST
DTSTART:20251102T060000
END:STANDARD
END:VTIMEZONE
BEGIN:VEVENT
DTSTART;TZID=America/New_York:20241126T163000
DTEND;TZID=America/New_York:20241126T173000
DTSTAMP:20260424T160307
CREATED:20231218T192401Z
LAST-MODIFIED:20231218T192401Z
UID:37435-1732638600-1732642200@ngrl.devtest.center
SUMMARY:TnT J-Pop Club -- Tweens and Teens
DESCRIPTION:Open to tweens and teens 6th – 12th grades.  All Supplies provided. \n\nTuesday\, January 30 @ 4:30 p.m. – Join the Japanese Pop Culture Club for an afternoon of designing our very own manga comics.\nTuesday\, February 27 @ 4:30 p.m. – We’ll learn about and create art pieces through the art of Decoden.\nTuesday\, March 26 @ 4:30 p.m. – Our J-Pop Culture Club will learn about the artistry of Japanese calligraphy. Supplies provided.\nTuesday\, April 30 @ 4:30 p.m. – Tweens and teens are invited to to our Japanese Pop Culture Club for an afternoon of Japanese snack sampling. All supplies provided.\nTuesday\, May 28 @ 4:30 p.m. – Tweens and teens are invited to join the Japanese Pop Culture Club where we will bring Mario’s iconic piranha plants to life using Perler beads. All supplies provided.\nTuesday\, June 25 @ 4:30 p.m. – Tweens and teens are invited to design and assemble their very own Sanrio-themed bag charms. All supplies provided.\nTuesday\, July 30 @ 4:30 p.m. – Tweens and teens are invited to design and assemble their very own Pokeball Terrariums. All supplies provided.\nTuesday\, September 24 @ 4:30 p.m. – Sanrio Bag Charms. Design and assembler your very own Sanrio-themed bag charms. All supplies provided.\nTuesday\, October 22 @ 4:30 p.m. – Shrinky Dinks  – Teens & Tweens are invited to learn how to craft popular Japanese character Shrinky Dinks. All supplies provided.\nTuesday\, November 26 @ 4:30 p.m. – Enjoy an anime showing filled with fun\, snacks and crafts. All supplies provided.\n\nDisclaimer: All aspects of in-person programming are subject to change based on health crisis guidelines and procedures.
URL:https://ngrl.devtest.center/event/tnt-j-pop-club-tweens-and-teens/2024-11-26/
LOCATION:Dalton-Whitfield County Public Library\, 310 Cappes St\, Dalton\, GA\, 30720\, United States
ATTACH;FMTTYPE=image/png:https://ngrl.devtest.center/wp-content/uploads/2021/09/Teens-Featured.png
ORGANIZER;CN="Dalton-Whitfield County Public Library":MAILTO:ngrl.librarian@gmail.com
END:VEVENT
BEGIN:VEVENT
DTSTART;TZID=America/New_York:20241022T163000
DTEND;TZID=America/New_York:20241022T173000
DTSTAMP:20260424T160307
CREATED:20231218T192401Z
LAST-MODIFIED:20241022T181308Z
UID:36356-1729614600-1729618200@ngrl.devtest.center
SUMMARY:TnT J-Pop Club -- Tweens and Teens
DESCRIPTION:Open to tweens and teens 6th – 12th grades.  All Supplies provided. \n\nTuesday\, January 30 @ 4:30 p.m. – Join the Japanese Pop Culture Club for an afternoon of designing our very own manga comics.\nTuesday\, February 27 @ 4:30 p.m. – We’ll learn about and create art pieces through the art of Decoden.\nTuesday\, March 26 @ 4:30 p.m. – Our J-Pop Culture Club will learn about the artistry of Japanese calligraphy. Supplies provided.\nTuesday\, April 30 @ 4:30 p.m. – Tweens and teens are invited to to our Japanese Pop Culture Club for an afternoon of Japanese snack sampling. All supplies provided.\nTuesday\, May 28 @ 4:30 p.m. – Tweens and teens are invited to join the Japanese Pop Culture Club where we will bring Mario’s iconic piranha plants to life using Perler beads. All supplies provided.\nTuesday\, June 25 @ 4:30 p.m. – Tweens and teens are invited to design and assemble their very own Sanrio-themed bag charms. All supplies provided.\nTuesday\, July 30 @ 4:30 p.m. – Tweens and teens are invited to design and assemble their very own Pokeball Terrariums. All supplies provided.\nTuesday\, September 24 @ 4:30 p.m. – Sanrio Bag Charms. Design and assembler your very own Sanrio-themed bag charms. All supplies provided.\nTuesday\, October 22 @ 4:30 p.m. – Shrinky Dinks  – Teens & Tweens are invited to learn how to craft popular Japanese character Shrinky Dinks. All supplies provided.\nTuesday\, November 26 @ 4:30 p.m. – Enjoy an anime showing filled with fun\, snacks and crafts. All supplies provided.\n\nDisclaimer: All aspects of in-person programming are subject to change based on health crisis guidelines and procedures.
URL:https://ngrl.devtest.center/event/tnt-j-pop-club-tweens-and-teens/2024-10-22/
LOCATION:Dalton-Whitfield County Public Library\, 310 Cappes St\, Dalton\, GA\, 30720\, United States
ATTACH;FMTTYPE=image/png:https://ngrl.devtest.center/wp-content/uploads/2021/09/Teens-Featured.png
ORGANIZER;CN="Dalton-Whitfield County Public Library":MAILTO:ngrl.librarian@gmail.com
END:VEVENT
BEGIN:VEVENT
DTSTART;TZID=America/New_York:20240924T163000
DTEND;TZID=America/New_York:20240924T173000
DTSTAMP:20260424T160307
CREATED:20231218T192401Z
LAST-MODIFIED:20241022T181307Z
UID:35462-1727195400-1727199000@ngrl.devtest.center
SUMMARY:TnT J-Pop Club -- Tweens and Teens
DESCRIPTION:Open to tweens and teens 6th – 12th grades.  All Supplies provided. \n\nTuesday\, January 30 @ 4:30 p.m. – Join the Japanese Pop Culture Club for an afternoon of designing our very own manga comics.\nTuesday\, February 27 @ 4:30 p.m. – We’ll learn about and create art pieces through the art of Decoden.\nTuesday\, March 26 @ 4:30 p.m. – Our J-Pop Culture Club will learn about the artistry of Japanese calligraphy. Supplies provided.\nTuesday\, April 30 @ 4:30 p.m. – Tweens and teens are invited to to our Japanese Pop Culture Club for an afternoon of Japanese snack sampling. All supplies provided.\nTuesday\, May 28 @ 4:30 p.m. – Tweens and teens are invited to join the Japanese Pop Culture Club where we will bring Mario’s iconic piranha plants to life using Perler beads. All supplies provided.\nTuesday\, June 25 @ 4:30 p.m. – Tweens and teens are invited to design and assemble their very own Sanrio-themed bag charms. All supplies provided.\nTuesday\, July 30 @ 4:30 p.m. – Tweens and teens are invited to design and assemble their very own Pokeball Terrariums. All supplies provided.\nTuesday\, September 24 @ 4:30 p.m. – Sanrio Bag Charms. Design and assembler your very own Sanrio-themed bag charms. All supplies provided.\nTuesday\, October 22 @ 4:30 p.m. – Shrinky Dinks  – Teens & Tweens are invited to learn how to craft popular Japanese character Shrinky Dinks. All supplies provided.\nTuesday\, November 26 @ 4:30 p.m. – Enjoy an anime showing filled with fun\, snacks and crafts. All supplies provided.\n\nDisclaimer: All aspects of in-person programming are subject to change based on health crisis guidelines and procedures.
URL:https://ngrl.devtest.center/event/tnt-j-pop-club-tweens-and-teens/2024-09-24/
LOCATION:Dalton-Whitfield County Public Library\, 310 Cappes St\, Dalton\, GA\, 30720\, United States
ATTACH;FMTTYPE=image/png:https://ngrl.devtest.center/wp-content/uploads/2021/09/Teens-Featured.png
ORGANIZER;CN="Dalton-Whitfield County Public Library":MAILTO:ngrl.librarian@gmail.com
END:VEVENT
BEGIN:VEVENT
DTSTART;TZID=America/New_York:20240625T163000
DTEND;TZID=America/New_York:20240625T173000
DTSTAMP:20260424T160307
CREATED:20231218T192401Z
LAST-MODIFIED:20241022T181307Z
UID:33863-1719333000-1719336600@ngrl.devtest.center
SUMMARY:TnT J-Pop Club -- Tweens and Teens
DESCRIPTION:Open to tweens and teens 6th – 12th grades.  All Supplies provided. \n\nTuesday\, January 30 @ 4:30 p.m. – Join the Japanese Pop Culture Club for an afternoon of designing our very own manga comics.\nTuesday\, February 27 @ 4:30 p.m. – We’ll learn about and create art pieces through the art of Decoden.\nTuesday\, March 26 @ 4:30 p.m. – Our J-Pop Culture Club will learn about the artistry of Japanese calligraphy. Supplies provided.\nTuesday\, April 30 @ 4:30 p.m. – Tweens and teens are invited to to our Japanese Pop Culture Club for an afternoon of Japanese snack sampling. All supplies provided.\nTuesday\, May 28 @ 4:30 p.m. – Tweens and teens are invited to join the Japanese Pop Culture Club where we will bring Mario’s iconic piranha plants to life using Perler beads. All supplies provided.\nTuesday\, June 25 @ 4:30 p.m. – Tweens and teens are invited to design and assemble their very own Sanrio-themed bag charms. All supplies provided.\nTuesday\, July 30 @ 4:30 p.m. – Tweens and teens are invited to design and assemble their very own Pokeball Terrariums. All supplies provided.\nTuesday\, September 24 @ 4:30 p.m. – Sanrio Bag Charms. Design and assembler your very own Sanrio-themed bag charms. All supplies provided.\nTuesday\, October 22 @ 4:30 p.m. – Shrinky Dinks  – Teens & Tweens are invited to learn how to craft popular Japanese character Shrinky Dinks. All supplies provided.\nTuesday\, November 26 @ 4:30 p.m. – Enjoy an anime showing filled with fun\, snacks and crafts. All supplies provided.\n\nDisclaimer: All aspects of in-person programming are subject to change based on health crisis guidelines and procedures.
URL:https://ngrl.devtest.center/event/tnt-j-pop-club-tweens-and-teens/2024-06-25/
LOCATION:Dalton-Whitfield County Public Library\, 310 Cappes St\, Dalton\, GA\, 30720\, United States
ATTACH;FMTTYPE=image/png:https://ngrl.devtest.center/wp-content/uploads/2021/09/Teens-Featured.png
ORGANIZER;CN="Dalton-Whitfield County Public Library":MAILTO:ngrl.librarian@gmail.com
END:VEVENT
BEGIN:VEVENT
DTSTART;TZID=America/New_York:20240528T163000
DTEND;TZID=America/New_York:20240528T173000
DTSTAMP:20260424T160307
CREATED:20231218T192401Z
LAST-MODIFIED:20241022T181307Z
UID:33030-1716913800-1716917400@ngrl.devtest.center
SUMMARY:TnT J-Pop Club -- Tweens and Teens
DESCRIPTION:Open to tweens and teens 6th – 12th grades.  All Supplies provided. \n\nTuesday\, January 30 @ 4:30 p.m. – Join the Japanese Pop Culture Club for an afternoon of designing our very own manga comics.\nTuesday\, February 27 @ 4:30 p.m. – We’ll learn about and create art pieces through the art of Decoden.\nTuesday\, March 26 @ 4:30 p.m. – Our J-Pop Culture Club will learn about the artistry of Japanese calligraphy. Supplies provided.\nTuesday\, April 30 @ 4:30 p.m. – Tweens and teens are invited to to our Japanese Pop Culture Club for an afternoon of Japanese snack sampling. All supplies provided.\nTuesday\, May 28 @ 4:30 p.m. – Tweens and teens are invited to join the Japanese Pop Culture Club where we will bring Mario’s iconic piranha plants to life using Perler beads. All supplies provided.\nTuesday\, June 25 @ 4:30 p.m. – Tweens and teens are invited to design and assemble their very own Sanrio-themed bag charms. All supplies provided.\nTuesday\, July 30 @ 4:30 p.m. – Tweens and teens are invited to design and assemble their very own Pokeball Terrariums. All supplies provided.\nTuesday\, September 24 @ 4:30 p.m. – Sanrio Bag Charms. Design and assembler your very own Sanrio-themed bag charms. All supplies provided.\nTuesday\, October 22 @ 4:30 p.m. – Shrinky Dinks  – Teens & Tweens are invited to learn how to craft popular Japanese character Shrinky Dinks. All supplies provided.\nTuesday\, November 26 @ 4:30 p.m. – Enjoy an anime showing filled with fun\, snacks and crafts. All supplies provided.\n\nDisclaimer: All aspects of in-person programming are subject to change based on health crisis guidelines and procedures.
URL:https://ngrl.devtest.center/event/tnt-j-pop-club-tweens-and-teens/2024-05-28/
LOCATION:Dalton-Whitfield County Public Library\, 310 Cappes St\, Dalton\, GA\, 30720\, United States
ATTACH;FMTTYPE=image/png:https://ngrl.devtest.center/wp-content/uploads/2021/09/Teens-Featured.png
ORGANIZER;CN="Dalton-Whitfield County Public Library":MAILTO:ngrl.librarian@gmail.com
END:VEVENT
BEGIN:VEVENT
DTSTART;TZID=America/New_York:20240430T163000
DTEND;TZID=America/New_York:20240430T173000
DTSTAMP:20260424T160307
CREATED:20231218T192401Z
LAST-MODIFIED:20241022T181306Z
UID:32219-1714494600-1714498200@ngrl.devtest.center
SUMMARY:TnT J-Pop Club -- Tweens and Teens
DESCRIPTION:Open to tweens and teens 6th – 12th grades.  All Supplies provided. \n\nTuesday\, January 30 @ 4:30 p.m. – Join the Japanese Pop Culture Club for an afternoon of designing our very own manga comics.\nTuesday\, February 27 @ 4:30 p.m. – We’ll learn about and create art pieces through the art of Decoden.\nTuesday\, March 26 @ 4:30 p.m. – Our J-Pop Culture Club will learn about the artistry of Japanese calligraphy. Supplies provided.\nTuesday\, April 30 @ 4:30 p.m. – Tweens and teens are invited to to our Japanese Pop Culture Club for an afternoon of Japanese snack sampling. All supplies provided.\nTuesday\, May 28 @ 4:30 p.m. – Tweens and teens are invited to join the Japanese Pop Culture Club where we will bring Mario’s iconic piranha plants to life using Perler beads. All supplies provided.\nTuesday\, June 25 @ 4:30 p.m. – Tweens and teens are invited to design and assemble their very own Sanrio-themed bag charms. All supplies provided.\nTuesday\, July 30 @ 4:30 p.m. – Tweens and teens are invited to design and assemble their very own Pokeball Terrariums. All supplies provided.\nTuesday\, September 24 @ 4:30 p.m. – Sanrio Bag Charms. Design and assembler your very own Sanrio-themed bag charms. All supplies provided.\nTuesday\, October 22 @ 4:30 p.m. – Shrinky Dinks  – Teens & Tweens are invited to learn how to craft popular Japanese character Shrinky Dinks. All supplies provided.\nTuesday\, November 26 @ 4:30 p.m. – Enjoy an anime showing filled with fun\, snacks and crafts. All supplies provided.\n\nDisclaimer: All aspects of in-person programming are subject to change based on health crisis guidelines and procedures.
URL:https://ngrl.devtest.center/event/tnt-j-pop-club-tweens-and-teens/2024-04-30/
LOCATION:Dalton-Whitfield County Public Library\, 310 Cappes St\, Dalton\, GA\, 30720\, United States
ATTACH;FMTTYPE=image/png:https://ngrl.devtest.center/wp-content/uploads/2021/09/Teens-Featured.png
ORGANIZER;CN="Dalton-Whitfield County Public Library":MAILTO:ngrl.librarian@gmail.com
END:VEVENT
BEGIN:VEVENT
DTSTART;TZID=America/New_York:20240130T163000
DTEND;TZID=America/New_York:20240130T173000
DTSTAMP:20260424T160307
CREATED:20231218T192401Z
LAST-MODIFIED:20241022T181305Z
UID:30338-1706632200-1706635800@ngrl.devtest.center
SUMMARY:TnT J-Pop Club -- Tweens and Teens
DESCRIPTION:Open to tweens and teens 6th – 12th grades.  All Supplies provided. \n\nTuesday\, January 30 @ 4:30 p.m. – Join the Japanese Pop Culture Club for an afternoon of designing our very own manga comics.\nTuesday\, February 27 @ 4:30 p.m. – We’ll learn about and create art pieces through the art of Decoden.\nTuesday\, March 26 @ 4:30 p.m. – Our J-Pop Culture Club will learn about the artistry of Japanese calligraphy. Supplies provided.\nTuesday\, April 30 @ 4:30 p.m. – Tweens and teens are invited to to our Japanese Pop Culture Club for an afternoon of Japanese snack sampling. All supplies provided.\nTuesday\, May 28 @ 4:30 p.m. – Tweens and teens are invited to join the Japanese Pop Culture Club where we will bring Mario’s iconic piranha plants to life using Perler beads. All supplies provided.\nTuesday\, June 25 @ 4:30 p.m. – Tweens and teens are invited to design and assemble their very own Sanrio-themed bag charms. All supplies provided.\nTuesday\, July 30 @ 4:30 p.m. – Tweens and teens are invited to design and assemble their very own Pokeball Terrariums. All supplies provided.\nTuesday\, September 24 @ 4:30 p.m. – Sanrio Bag Charms. Design and assembler your very own Sanrio-themed bag charms. All supplies provided.\nTuesday\, October 22 @ 4:30 p.m. – Shrinky Dinks  – Teens & Tweens are invited to learn how to craft popular Japanese character Shrinky Dinks. All supplies provided.\nTuesday\, November 26 @ 4:30 p.m. – Enjoy an anime showing filled with fun\, snacks and crafts. All supplies provided.\n\nDisclaimer: All aspects of in-person programming are subject to change based on health crisis guidelines and procedures.
URL:https://ngrl.devtest.center/event/tnt-j-pop-club-tweens-and-teens/2024-01-30/
LOCATION:Dalton-Whitfield County Public Library\, 310 Cappes St\, Dalton\, GA\, 30720\, United States
ATTACH;FMTTYPE=image/png:https://ngrl.devtest.center/wp-content/uploads/2021/09/Teens-Featured.png
ORGANIZER;CN="Dalton-Whitfield County Public Library":MAILTO:ngrl.librarian@gmail.com
END:VEVENT
END:VCALENDAR