BEGIN:VCALENDAR
VERSION:2.0
PRODID:-//Northwest Georgia Regional Library System - ECPv6.15.17.1//NONSGML v1.0//EN
CALSCALE:GREGORIAN
METHOD:PUBLISH
X-ORIGINAL-URL:https://ngrl.devtest.center
X-WR-CALDESC:Events for Northwest Georgia Regional Library System
REFRESH-INTERVAL;VALUE=DURATION:PT1H
X-Robots-Tag:noindex
X-PUBLISHED-TTL:PT1H
BEGIN:VTIMEZONE
TZID:America/New_York
BEGIN:DAYLIGHT
TZOFFSETFROM:-0500
TZOFFSETTO:-0400
TZNAME:EDT
DTSTART:20230312T070000
END:DAYLIGHT
BEGIN:STANDARD
TZOFFSETFROM:-0400
TZOFFSETTO:-0500
TZNAME:EST
DTSTART:20231105T060000
END:STANDARD
BEGIN:DAYLIGHT
TZOFFSETFROM:-0500
TZOFFSETTO:-0400
TZNAME:EDT
DTSTART:20240310T070000
END:DAYLIGHT
BEGIN:STANDARD
TZOFFSETFROM:-0400
TZOFFSETTO:-0500
TZNAME:EST
DTSTART:20241103T060000
END:STANDARD
BEGIN:DAYLIGHT
TZOFFSETFROM:-0500
TZOFFSETTO:-0400
TZNAME:EDT
DTSTART:20250309T070000
END:DAYLIGHT
BEGIN:STANDARD
TZOFFSETFROM:-0400
TZOFFSETTO:-0500
TZNAME:EST
DTSTART:20251102T060000
END:STANDARD
END:VTIMEZONE
BEGIN:VEVENT
DTSTART;TZID=America/New_York:20241122T160000
DTEND;TZID=America/New_York:20241122T170000
DTSTAMP:20260424T061903
CREATED:20240918T165035Z
LAST-MODIFIED:20240918T165035Z
UID:36790-1732291200-1732294800@ngrl.devtest.center
SUMMARY:Teen Lounge
DESCRIPTION:Open to tweens and teens 12-18 years old. Hang out in the Teen Lounge (The Community Room) for games\, movies\, food and more. \n\nTuesdays and Fridays in October @ 4 p.m.\nTuesday\, November 12 @ 4 p.m.\nFriday\, November 8 & 22 @ 4 p.m.\n\nDisclaimer: All aspects of in-person programming are subject to change based on health crisis guidelines and procedures.
URL:https://ngrl.devtest.center/event/teen-lounge/2024-11-22/
LOCATION:Calhoun-Gordon County Public Library\, 100 N Park Avenue\, Calhoun\, GA\, 30701\, United States
ATTACH;FMTTYPE=image/png:https://ngrl.devtest.center/wp-content/uploads/2021/09/Teens-Featured.png
END:VEVENT
BEGIN:VEVENT
DTSTART;TZID=America/New_York:20241112T160000
DTEND;TZID=America/New_York:20241112T170000
DTSTAMP:20260424T061903
CREATED:20240918T165035Z
LAST-MODIFIED:20240918T165035Z
UID:36789-1731427200-1731430800@ngrl.devtest.center
SUMMARY:Teen Lounge
DESCRIPTION:Open to tweens and teens 12-18 years old. Hang out in the Teen Lounge (The Community Room) for games\, movies\, food and more. \n\nTuesdays and Fridays in October @ 4 p.m.\nTuesday\, November 12 @ 4 p.m.\nFriday\, November 8 & 22 @ 4 p.m.\n\nDisclaimer: All aspects of in-person programming are subject to change based on health crisis guidelines and procedures.
URL:https://ngrl.devtest.center/event/teen-lounge/2024-11-12/
LOCATION:Calhoun-Gordon County Public Library\, 100 N Park Avenue\, Calhoun\, GA\, 30701\, United States
ATTACH;FMTTYPE=image/png:https://ngrl.devtest.center/wp-content/uploads/2021/09/Teens-Featured.png
END:VEVENT
BEGIN:VEVENT
DTSTART;TZID=America/New_York:20241108T160000
DTEND;TZID=America/New_York:20241108T170000
DTSTAMP:20260424T061903
CREATED:20240918T165035Z
LAST-MODIFIED:20240918T165035Z
UID:36788-1731081600-1731085200@ngrl.devtest.center
SUMMARY:Teen Lounge
DESCRIPTION:Open to tweens and teens 12-18 years old. Hang out in the Teen Lounge (The Community Room) for games\, movies\, food and more. \n\nTuesdays and Fridays in October @ 4 p.m.\nTuesday\, November 12 @ 4 p.m.\nFriday\, November 8 & 22 @ 4 p.m.\n\nDisclaimer: All aspects of in-person programming are subject to change based on health crisis guidelines and procedures.
URL:https://ngrl.devtest.center/event/teen-lounge/2024-11-08/
LOCATION:Calhoun-Gordon County Public Library\, 100 N Park Avenue\, Calhoun\, GA\, 30701\, United States
ATTACH;FMTTYPE=image/png:https://ngrl.devtest.center/wp-content/uploads/2021/09/Teens-Featured.png
END:VEVENT
BEGIN:VEVENT
DTSTART;TZID=America/New_York:20241029T160000
DTEND;TZID=America/New_York:20241029T170000
DTSTAMP:20260424T061903
CREATED:20240918T165035Z
LAST-MODIFIED:20241021T185241Z
UID:36138-1730217600-1730221200@ngrl.devtest.center
SUMMARY:Teen Lounge
DESCRIPTION:Open to tweens and teens 12-18 years old. Hang out in the Teen Lounge (The Community Room) for games\, movies\, food and more. \n\nTuesdays and Fridays in October @ 4 p.m.\nTuesday\, November 12 @ 4 p.m.\nFriday\, November 8 & 22 @ 4 p.m.\n\nDisclaimer: All aspects of in-person programming are subject to change based on health crisis guidelines and procedures.
URL:https://ngrl.devtest.center/event/teen-lounge/2024-10-29/
LOCATION:Calhoun-Gordon County Public Library\, 100 N Park Avenue\, Calhoun\, GA\, 30701\, United States
ATTACH;FMTTYPE=image/png:https://ngrl.devtest.center/wp-content/uploads/2021/09/Teens-Featured.png
END:VEVENT
BEGIN:VEVENT
DTSTART;TZID=America/New_York:20241025T160000
DTEND;TZID=America/New_York:20241025T170000
DTSTAMP:20260424T061903
CREATED:20240918T165035Z
LAST-MODIFIED:20241021T185241Z
UID:36137-1729872000-1729875600@ngrl.devtest.center
SUMMARY:Teen Lounge
DESCRIPTION:Open to tweens and teens 12-18 years old. Hang out in the Teen Lounge (The Community Room) for games\, movies\, food and more. \n\nTuesdays and Fridays in October @ 4 p.m.\nTuesday\, November 12 @ 4 p.m.\nFriday\, November 8 & 22 @ 4 p.m.\n\nDisclaimer: All aspects of in-person programming are subject to change based on health crisis guidelines and procedures.
URL:https://ngrl.devtest.center/event/teen-lounge/2024-10-25/
LOCATION:Calhoun-Gordon County Public Library\, 100 N Park Avenue\, Calhoun\, GA\, 30701\, United States
ATTACH;FMTTYPE=image/png:https://ngrl.devtest.center/wp-content/uploads/2021/09/Teens-Featured.png
END:VEVENT
BEGIN:VEVENT
DTSTART;TZID=America/New_York:20241022T160000
DTEND;TZID=America/New_York:20241022T170000
DTSTAMP:20260424T061903
CREATED:20240918T165035Z
LAST-MODIFIED:20241021T185240Z
UID:36136-1729612800-1729616400@ngrl.devtest.center
SUMMARY:Teen Lounge
DESCRIPTION:Open to tweens and teens 12-18 years old. Hang out in the Teen Lounge (The Community Room) for games\, movies\, food and more. \n\nTuesdays and Fridays in October @ 4 p.m.\nTuesday\, November 12 @ 4 p.m.\nFriday\, November 8 & 22 @ 4 p.m.\n\nDisclaimer: All aspects of in-person programming are subject to change based on health crisis guidelines and procedures.
URL:https://ngrl.devtest.center/event/teen-lounge/2024-10-22/
LOCATION:Calhoun-Gordon County Public Library\, 100 N Park Avenue\, Calhoun\, GA\, 30701\, United States
ATTACH;FMTTYPE=image/png:https://ngrl.devtest.center/wp-content/uploads/2021/09/Teens-Featured.png
END:VEVENT
BEGIN:VEVENT
DTSTART;TZID=America/New_York:20241015T160000
DTEND;TZID=America/New_York:20241015T170000
DTSTAMP:20260424T061903
CREATED:20240918T165035Z
LAST-MODIFIED:20241021T185240Z
UID:36135-1729008000-1729011600@ngrl.devtest.center
SUMMARY:Teen Lounge
DESCRIPTION:Open to tweens and teens 12-18 years old. Hang out in the Teen Lounge (The Community Room) for games\, movies\, food and more. \n\nTuesdays and Fridays in October @ 4 p.m.\nTuesday\, November 12 @ 4 p.m.\nFriday\, November 8 & 22 @ 4 p.m.\n\nDisclaimer: All aspects of in-person programming are subject to change based on health crisis guidelines and procedures.
URL:https://ngrl.devtest.center/event/teen-lounge/2024-10-15/
LOCATION:Calhoun-Gordon County Public Library\, 100 N Park Avenue\, Calhoun\, GA\, 30701\, United States
ATTACH;FMTTYPE=image/png:https://ngrl.devtest.center/wp-content/uploads/2021/09/Teens-Featured.png
END:VEVENT
BEGIN:VEVENT
DTSTART;TZID=America/New_York:20241011T160000
DTEND;TZID=America/New_York:20241011T170000
DTSTAMP:20260424T061903
CREATED:20240918T165035Z
LAST-MODIFIED:20241021T185239Z
UID:36134-1728662400-1728666000@ngrl.devtest.center
SUMMARY:Teen Lounge
DESCRIPTION:Open to tweens and teens 12-18 years old. Hang out in the Teen Lounge (The Community Room) for games\, movies\, food and more. \n\nTuesdays and Fridays in October @ 4 p.m.\nTuesday\, November 12 @ 4 p.m.\nFriday\, November 8 & 22 @ 4 p.m.\n\nDisclaimer: All aspects of in-person programming are subject to change based on health crisis guidelines and procedures.
URL:https://ngrl.devtest.center/event/teen-lounge/2024-10-11/
LOCATION:Calhoun-Gordon County Public Library\, 100 N Park Avenue\, Calhoun\, GA\, 30701\, United States
ATTACH;FMTTYPE=image/png:https://ngrl.devtest.center/wp-content/uploads/2021/09/Teens-Featured.png
END:VEVENT
BEGIN:VEVENT
DTSTART;TZID=America/New_York:20241008T160000
DTEND;TZID=America/New_York:20241008T170000
DTSTAMP:20260424T061903
CREATED:20240918T165035Z
LAST-MODIFIED:20241021T185239Z
UID:36133-1728403200-1728406800@ngrl.devtest.center
SUMMARY:Teen Lounge
DESCRIPTION:Open to tweens and teens 12-18 years old. Hang out in the Teen Lounge (The Community Room) for games\, movies\, food and more. \n\nTuesdays and Fridays in October @ 4 p.m.\nTuesday\, November 12 @ 4 p.m.\nFriday\, November 8 & 22 @ 4 p.m.\n\nDisclaimer: All aspects of in-person programming are subject to change based on health crisis guidelines and procedures.
URL:https://ngrl.devtest.center/event/teen-lounge/2024-10-08/
LOCATION:Calhoun-Gordon County Public Library\, 100 N Park Avenue\, Calhoun\, GA\, 30701\, United States
ATTACH;FMTTYPE=image/png:https://ngrl.devtest.center/wp-content/uploads/2021/09/Teens-Featured.png
END:VEVENT
BEGIN:VEVENT
DTSTART;TZID=America/New_York:20241004T160000
DTEND;TZID=America/New_York:20241004T170000
DTSTAMP:20260424T061903
CREATED:20240918T165035Z
LAST-MODIFIED:20241021T185239Z
UID:36132-1728057600-1728061200@ngrl.devtest.center
SUMMARY:Teen Lounge
DESCRIPTION:Open to tweens and teens 12-18 years old. Hang out in the Teen Lounge (The Community Room) for games\, movies\, food and more. \n\nTuesdays and Fridays in October @ 4 p.m.\nTuesday\, November 12 @ 4 p.m.\nFriday\, November 8 & 22 @ 4 p.m.\n\nDisclaimer: All aspects of in-person programming are subject to change based on health crisis guidelines and procedures.
URL:https://ngrl.devtest.center/event/teen-lounge/2024-10-04/
LOCATION:Calhoun-Gordon County Public Library\, 100 N Park Avenue\, Calhoun\, GA\, 30701\, United States
ATTACH;FMTTYPE=image/png:https://ngrl.devtest.center/wp-content/uploads/2021/09/Teens-Featured.png
END:VEVENT
BEGIN:VEVENT
DTSTART;TZID=America/New_York:20241001T160000
DTEND;TZID=America/New_York:20241001T170000
DTSTAMP:20260424T061903
CREATED:20240918T165035Z
LAST-MODIFIED:20241021T185237Z
UID:36130-1727798400-1727802000@ngrl.devtest.center
SUMMARY:Teen Lounge
DESCRIPTION:Open to tweens and teens 12-18 years old. Hang out in the Teen Lounge (The Community Room) for games\, movies\, food and more. \n\nTuesdays and Fridays in October @ 4 p.m.\nTuesday\, November 12 @ 4 p.m.\nFriday\, November 8 & 22 @ 4 p.m.\n\nDisclaimer: All aspects of in-person programming are subject to change based on health crisis guidelines and procedures.
URL:https://ngrl.devtest.center/event/teen-lounge/2024-10-01/
LOCATION:Calhoun-Gordon County Public Library\, 100 N Park Avenue\, Calhoun\, GA\, 30701\, United States
ATTACH;FMTTYPE=image/png:https://ngrl.devtest.center/wp-content/uploads/2021/09/Teens-Featured.png
END:VEVENT
END:VCALENDAR