BEGIN:VCALENDAR
VERSION:2.0
PRODID:-//Northwest Georgia Regional Library System - ECPv6.15.17.1//NONSGML v1.0//EN
CALSCALE:GREGORIAN
METHOD:PUBLISH
X-WR-CALNAME:Northwest Georgia Regional Library System
X-ORIGINAL-URL:https://ngrl.devtest.center
X-WR-CALDESC:Events for Northwest Georgia Regional Library System
REFRESH-INTERVAL;VALUE=DURATION:PT1H
X-Robots-Tag:noindex
X-PUBLISHED-TTL:PT1H
BEGIN:VTIMEZONE
TZID:America/New_York
BEGIN:DAYLIGHT
TZOFFSETFROM:-0500
TZOFFSETTO:-0400
TZNAME:EDT
DTSTART:20230312T070000
END:DAYLIGHT
BEGIN:STANDARD
TZOFFSETFROM:-0400
TZOFFSETTO:-0500
TZNAME:EST
DTSTART:20231105T060000
END:STANDARD
BEGIN:DAYLIGHT
TZOFFSETFROM:-0500
TZOFFSETTO:-0400
TZNAME:EDT
DTSTART:20240310T070000
END:DAYLIGHT
BEGIN:STANDARD
TZOFFSETFROM:-0400
TZOFFSETTO:-0500
TZNAME:EST
DTSTART:20241103T060000
END:STANDARD
BEGIN:DAYLIGHT
TZOFFSETFROM:-0500
TZOFFSETTO:-0400
TZNAME:EDT
DTSTART:20250309T070000
END:DAYLIGHT
BEGIN:STANDARD
TZOFFSETFROM:-0400
TZOFFSETTO:-0500
TZNAME:EST
DTSTART:20251102T060000
END:STANDARD
END:VTIMEZONE
BEGIN:VEVENT
DTSTART;TZID=America/New_York:20241203T160000
DTEND;TZID=America/New_York:20241203T170000
DTSTAMP:20260424T175034
CREATED:20241022T143157Z
LAST-MODIFIED:20241119T143559Z
UID:37858-1733241600-1733245200@ngrl.devtest.center
SUMMARY:Tech Help -- Adults
DESCRIPTION:Open to adults 18 and older. Need some technical help? We’ll have some experts here to help. \n\nTuesday\, November 5 & 19 @ 4 p.m.\nTuesday\, December 3 @ 4 p.m.\n\nDisclaimer: All aspects of in-person programming are subject to change based on health crisis guidelines and procedures.
URL:https://ngrl.devtest.center/event/tech-help-adults/2024-12-03/
LOCATION:Calhoun-Gordon County Public Library\, 100 N Park Avenue\, Calhoun\, GA\, 30701\, United States
ATTACH;FMTTYPE=image/png:https://ngrl.devtest.center/wp-content/uploads/2021/09/Adults-Featured.png
END:VEVENT
BEGIN:VEVENT
DTSTART;TZID=America/New_York:20241119T160000
DTEND;TZID=America/New_York:20241119T170000
DTSTAMP:20260424T175034
CREATED:20241022T143157Z
LAST-MODIFIED:20241119T143559Z
UID:37155-1732032000-1732035600@ngrl.devtest.center
SUMMARY:Tech Help -- Adults
DESCRIPTION:Open to adults 18 and older. Need some technical help? We’ll have some experts here to help. \n\nTuesday\, November 5 & 19 @ 4 p.m.\nTuesday\, December 3 @ 4 p.m.\n\nDisclaimer: All aspects of in-person programming are subject to change based on health crisis guidelines and procedures.
URL:https://ngrl.devtest.center/event/tech-help-adults/2024-11-19/
LOCATION:Calhoun-Gordon County Public Library\, 100 N Park Avenue\, Calhoun\, GA\, 30701\, United States
ATTACH;FMTTYPE=image/png:https://ngrl.devtest.center/wp-content/uploads/2021/09/Adults-Featured.png
END:VEVENT
BEGIN:VEVENT
DTSTART;TZID=America/New_York:20241105T160000
DTEND;TZID=America/New_York:20241105T170000
DTSTAMP:20260424T175034
CREATED:20241022T143157Z
LAST-MODIFIED:20241119T143559Z
UID:37154-1730822400-1730826000@ngrl.devtest.center
SUMMARY:Tech Help -- Adults
DESCRIPTION:Open to adults 18 and older. Need some technical help? We’ll have some experts here to help. \n\nTuesday\, November 5 & 19 @ 4 p.m.\nTuesday\, December 3 @ 4 p.m.\n\nDisclaimer: All aspects of in-person programming are subject to change based on health crisis guidelines and procedures.
URL:https://ngrl.devtest.center/event/tech-help-adults/2024-11-05/
LOCATION:Calhoun-Gordon County Public Library\, 100 N Park Avenue\, Calhoun\, GA\, 30701\, United States
ATTACH;FMTTYPE=image/png:https://ngrl.devtest.center/wp-content/uploads/2021/09/Adults-Featured.png
END:VEVENT
END:VCALENDAR