BEGIN:VCALENDAR
VERSION:2.0
PRODID:-//Northwest Georgia Regional Library System - ECPv6.15.17.1//NONSGML v1.0//EN
CALSCALE:GREGORIAN
METHOD:PUBLISH
X-ORIGINAL-URL:https://ngrl.devtest.center
X-WR-CALDESC:Events for Northwest Georgia Regional Library System
REFRESH-INTERVAL;VALUE=DURATION:PT1H
X-Robots-Tag:noindex
X-PUBLISHED-TTL:PT1H
BEGIN:VTIMEZONE
TZID:America/New_York
BEGIN:DAYLIGHT
TZOFFSETFROM:-0500
TZOFFSETTO:-0400
TZNAME:EDT
DTSTART:20230312T070000
END:DAYLIGHT
BEGIN:STANDARD
TZOFFSETFROM:-0400
TZOFFSETTO:-0500
TZNAME:EST
DTSTART:20231105T060000
END:STANDARD
BEGIN:DAYLIGHT
TZOFFSETFROM:-0500
TZOFFSETTO:-0400
TZNAME:EDT
DTSTART:20240310T070000
END:DAYLIGHT
BEGIN:STANDARD
TZOFFSETFROM:-0400
TZOFFSETTO:-0500
TZNAME:EST
DTSTART:20241103T060000
END:STANDARD
BEGIN:DAYLIGHT
TZOFFSETFROM:-0500
TZOFFSETTO:-0400
TZNAME:EDT
DTSTART:20250309T070000
END:DAYLIGHT
BEGIN:STANDARD
TZOFFSETFROM:-0400
TZOFFSETTO:-0500
TZNAME:EST
DTSTART:20251102T060000
END:STANDARD
END:VTIMEZONE
BEGIN:VEVENT
DTSTART;TZID=America/New_York:20241121T160000
DTEND;TZID=America/New_York:20241121T170000
DTSTAMP:20260423T235846
CREATED:20240503T130458Z
LAST-MODIFIED:20240503T130458Z
UID:36727-1732204800-1732208400@ngrl.devtest.center
SUMMARY:Spanish Class -- Adults
DESCRIPTION:Open to ages 18 and older. It’s never too late to learn a new language. Join us as we learn Spanish together! \n\nWednesdays @ 4 p.m.\n\nNo Class Oct. 10 & 31 \nNo Class Nov. 28 \nDisclaimer: All aspects of in-person programming are subject to change based on health crisis guidelines and procedures.
URL:https://ngrl.devtest.center/event/spanish-adults/2024-11-21/
LOCATION:Calhoun-Gordon County Public Library\, 100 N Park Avenue\, Calhoun\, GA\, 30701\, United States
ATTACH;FMTTYPE=image/png:https://ngrl.devtest.center/wp-content/uploads/2021/09/Adults-Featured.png
END:VEVENT
BEGIN:VEVENT
DTSTART;TZID=America/New_York:20241114T160000
DTEND;TZID=America/New_York:20241114T170000
DTSTAMP:20260423T235846
CREATED:20240503T130458Z
LAST-MODIFIED:20240503T130458Z
UID:36726-1731600000-1731603600@ngrl.devtest.center
SUMMARY:Spanish Class -- Adults
DESCRIPTION:Open to ages 18 and older. It’s never too late to learn a new language. Join us as we learn Spanish together! \n\nWednesdays @ 4 p.m.\n\nNo Class Oct. 10 & 31 \nNo Class Nov. 28 \nDisclaimer: All aspects of in-person programming are subject to change based on health crisis guidelines and procedures.
URL:https://ngrl.devtest.center/event/spanish-adults/2024-11-14/
LOCATION:Calhoun-Gordon County Public Library\, 100 N Park Avenue\, Calhoun\, GA\, 30701\, United States
ATTACH;FMTTYPE=image/png:https://ngrl.devtest.center/wp-content/uploads/2021/09/Adults-Featured.png
END:VEVENT
BEGIN:VEVENT
DTSTART;TZID=America/New_York:20241107T160000
DTEND;TZID=America/New_York:20241107T170000
DTSTAMP:20260423T235846
CREATED:20240503T130458Z
LAST-MODIFIED:20240503T130458Z
UID:36725-1730995200-1730998800@ngrl.devtest.center
SUMMARY:Spanish Class -- Adults
DESCRIPTION:Open to ages 18 and older. It’s never too late to learn a new language. Join us as we learn Spanish together! \n\nWednesdays @ 4 p.m.\n\nNo Class Oct. 10 & 31 \nNo Class Nov. 28 \nDisclaimer: All aspects of in-person programming are subject to change based on health crisis guidelines and procedures.
URL:https://ngrl.devtest.center/event/spanish-adults/2024-11-07/
LOCATION:Calhoun-Gordon County Public Library\, 100 N Park Avenue\, Calhoun\, GA\, 30701\, United States
ATTACH;FMTTYPE=image/png:https://ngrl.devtest.center/wp-content/uploads/2021/09/Adults-Featured.png
END:VEVENT
BEGIN:VEVENT
DTSTART;TZID=America/New_York:20241024T160000
DTEND;TZID=America/New_York:20241024T170000
DTSTAMP:20260423T235846
CREATED:20240503T130458Z
LAST-MODIFIED:20241021T182902Z
UID:35927-1729785600-1729789200@ngrl.devtest.center
SUMMARY:Spanish Class -- Adults
DESCRIPTION:Open to ages 18 and older. It’s never too late to learn a new language. Join us as we learn Spanish together! \n\nWednesdays @ 4 p.m.\n\nNo Class Oct. 10 & 31 \nNo Class Nov. 28 \nDisclaimer: All aspects of in-person programming are subject to change based on health crisis guidelines and procedures.
URL:https://ngrl.devtest.center/event/spanish-adults/2024-10-24/
LOCATION:Calhoun-Gordon County Public Library\, 100 N Park Avenue\, Calhoun\, GA\, 30701\, United States
ATTACH;FMTTYPE=image/png:https://ngrl.devtest.center/wp-content/uploads/2021/09/Adults-Featured.png
END:VEVENT
BEGIN:VEVENT
DTSTART;TZID=America/New_York:20241017T160000
DTEND;TZID=America/New_York:20241017T170000
DTSTAMP:20260423T235846
CREATED:20240503T130458Z
LAST-MODIFIED:20241021T182901Z
UID:35926-1729180800-1729184400@ngrl.devtest.center
SUMMARY:Spanish Class -- Adults
DESCRIPTION:Open to ages 18 and older. It’s never too late to learn a new language. Join us as we learn Spanish together! \n\nWednesdays @ 4 p.m.\n\nNo Class Oct. 10 & 31 \nNo Class Nov. 28 \nDisclaimer: All aspects of in-person programming are subject to change based on health crisis guidelines and procedures.
URL:https://ngrl.devtest.center/event/spanish-adults/2024-10-17/
LOCATION:Calhoun-Gordon County Public Library\, 100 N Park Avenue\, Calhoun\, GA\, 30701\, United States
ATTACH;FMTTYPE=image/png:https://ngrl.devtest.center/wp-content/uploads/2021/09/Adults-Featured.png
END:VEVENT
BEGIN:VEVENT
DTSTART;TZID=America/New_York:20241003T160000
DTEND;TZID=America/New_York:20241003T170000
DTSTAMP:20260423T235846
CREATED:20240503T130458Z
LAST-MODIFIED:20241021T182901Z
UID:35925-1727971200-1727974800@ngrl.devtest.center
SUMMARY:Spanish Class -- Adults
DESCRIPTION:Open to ages 18 and older. It’s never too late to learn a new language. Join us as we learn Spanish together! \n\nWednesdays @ 4 p.m.\n\nNo Class Oct. 10 & 31 \nNo Class Nov. 28 \nDisclaimer: All aspects of in-person programming are subject to change based on health crisis guidelines and procedures.
URL:https://ngrl.devtest.center/event/spanish-adults/2024-10-03/
LOCATION:Calhoun-Gordon County Public Library\, 100 N Park Avenue\, Calhoun\, GA\, 30701\, United States
ATTACH;FMTTYPE=image/png:https://ngrl.devtest.center/wp-content/uploads/2021/09/Adults-Featured.png
END:VEVENT
BEGIN:VEVENT
DTSTART;TZID=America/New_York:20240919T160000
DTEND;TZID=America/New_York:20240919T170000
DTSTAMP:20260423T235846
CREATED:20240503T130458Z
LAST-MODIFIED:20241021T182900Z
UID:34912-1726761600-1726765200@ngrl.devtest.center
SUMMARY:Spanish Class -- Adults
DESCRIPTION:Open to ages 18 and older. It’s never too late to learn a new language. Join us as we learn Spanish together! \n\nWednesdays @ 4 p.m.\n\nNo Class Oct. 10 & 31 \nNo Class Nov. 28 \nDisclaimer: All aspects of in-person programming are subject to change based on health crisis guidelines and procedures.
URL:https://ngrl.devtest.center/event/spanish-adults/2024-09-19/
LOCATION:Calhoun-Gordon County Public Library\, 100 N Park Avenue\, Calhoun\, GA\, 30701\, United States
ATTACH;FMTTYPE=image/png:https://ngrl.devtest.center/wp-content/uploads/2021/09/Adults-Featured.png
END:VEVENT
BEGIN:VEVENT
DTSTART;TZID=America/New_York:20240912T160000
DTEND;TZID=America/New_York:20240912T170000
DTSTAMP:20260423T235846
CREATED:20240503T130458Z
LAST-MODIFIED:20241021T182900Z
UID:34911-1726156800-1726160400@ngrl.devtest.center
SUMMARY:Spanish Class -- Adults
DESCRIPTION:Open to ages 18 and older. It’s never too late to learn a new language. Join us as we learn Spanish together! \n\nWednesdays @ 4 p.m.\n\nNo Class Oct. 10 & 31 \nNo Class Nov. 28 \nDisclaimer: All aspects of in-person programming are subject to change based on health crisis guidelines and procedures.
URL:https://ngrl.devtest.center/event/spanish-adults/2024-09-12/
LOCATION:Calhoun-Gordon County Public Library\, 100 N Park Avenue\, Calhoun\, GA\, 30701\, United States
ATTACH;FMTTYPE=image/png:https://ngrl.devtest.center/wp-content/uploads/2021/09/Adults-Featured.png
END:VEVENT
BEGIN:VEVENT
DTSTART;TZID=America/New_York:20240905T160000
DTEND;TZID=America/New_York:20240905T170000
DTSTAMP:20260423T235846
CREATED:20240503T130458Z
LAST-MODIFIED:20241021T182859Z
UID:34910-1725552000-1725555600@ngrl.devtest.center
SUMMARY:Spanish Class -- Adults
DESCRIPTION:Open to ages 18 and older. It’s never too late to learn a new language. Join us as we learn Spanish together! \n\nWednesdays @ 4 p.m.\n\nNo Class Oct. 10 & 31 \nNo Class Nov. 28 \nDisclaimer: All aspects of in-person programming are subject to change based on health crisis guidelines and procedures.
URL:https://ngrl.devtest.center/event/spanish-adults/2024-09-05/
LOCATION:Calhoun-Gordon County Public Library\, 100 N Park Avenue\, Calhoun\, GA\, 30701\, United States
ATTACH;FMTTYPE=image/png:https://ngrl.devtest.center/wp-content/uploads/2021/09/Adults-Featured.png
END:VEVENT
BEGIN:VEVENT
DTSTART;TZID=America/New_York:20240829T160000
DTEND;TZID=America/New_York:20240829T170000
DTSTAMP:20260423T235846
CREATED:20240503T130458Z
LAST-MODIFIED:20241021T182859Z
UID:34288-1724947200-1724950800@ngrl.devtest.center
SUMMARY:Spanish Class -- Adults
DESCRIPTION:Open to ages 18 and older. It’s never too late to learn a new language. Join us as we learn Spanish together! \n\nWednesdays @ 4 p.m.\n\nNo Class Oct. 10 & 31 \nNo Class Nov. 28 \nDisclaimer: All aspects of in-person programming are subject to change based on health crisis guidelines and procedures.
URL:https://ngrl.devtest.center/event/spanish-adults/2024-08-29/
LOCATION:Calhoun-Gordon County Public Library\, 100 N Park Avenue\, Calhoun\, GA\, 30701\, United States
ATTACH;FMTTYPE=image/png:https://ngrl.devtest.center/wp-content/uploads/2021/09/Adults-Featured.png
END:VEVENT
BEGIN:VEVENT
DTSTART;TZID=America/New_York:20240822T160000
DTEND;TZID=America/New_York:20240822T170000
DTSTAMP:20260423T235846
CREATED:20240503T130458Z
LAST-MODIFIED:20241021T182859Z
UID:34287-1724342400-1724346000@ngrl.devtest.center
SUMMARY:Spanish Class -- Adults
DESCRIPTION:Open to ages 18 and older. It’s never too late to learn a new language. Join us as we learn Spanish together! \n\nWednesdays @ 4 p.m.\n\nNo Class Oct. 10 & 31 \nNo Class Nov. 28 \nDisclaimer: All aspects of in-person programming are subject to change based on health crisis guidelines and procedures.
URL:https://ngrl.devtest.center/event/spanish-adults/2024-08-22/
LOCATION:Calhoun-Gordon County Public Library\, 100 N Park Avenue\, Calhoun\, GA\, 30701\, United States
ATTACH;FMTTYPE=image/png:https://ngrl.devtest.center/wp-content/uploads/2021/09/Adults-Featured.png
END:VEVENT
BEGIN:VEVENT
DTSTART;TZID=America/New_York:20240815T160000
DTEND;TZID=America/New_York:20240815T170000
DTSTAMP:20260423T235846
CREATED:20240503T130458Z
LAST-MODIFIED:20241021T182855Z
UID:34286-1723737600-1723741200@ngrl.devtest.center
SUMMARY:Spanish Class -- Adults
DESCRIPTION:Open to ages 18 and older. It’s never too late to learn a new language. Join us as we learn Spanish together! \n\nWednesdays @ 4 p.m.\n\nNo Class Oct. 10 & 31 \nNo Class Nov. 28 \nDisclaimer: All aspects of in-person programming are subject to change based on health crisis guidelines and procedures.
URL:https://ngrl.devtest.center/event/spanish-adults/2024-08-15/
LOCATION:Calhoun-Gordon County Public Library\, 100 N Park Avenue\, Calhoun\, GA\, 30701\, United States
ATTACH;FMTTYPE=image/png:https://ngrl.devtest.center/wp-content/uploads/2021/09/Adults-Featured.png
END:VEVENT
BEGIN:VEVENT
DTSTART;TZID=America/New_York:20240808T160000
DTEND;TZID=America/New_York:20240808T170000
DTSTAMP:20260423T235846
CREATED:20240503T130458Z
LAST-MODIFIED:20241021T182855Z
UID:34285-1723132800-1723136400@ngrl.devtest.center
SUMMARY:Spanish Class -- Adults
DESCRIPTION:Open to ages 18 and older. It’s never too late to learn a new language. Join us as we learn Spanish together! \n\nWednesdays @ 4 p.m.\n\nNo Class Oct. 10 & 31 \nNo Class Nov. 28 \nDisclaimer: All aspects of in-person programming are subject to change based on health crisis guidelines and procedures.
URL:https://ngrl.devtest.center/event/spanish-adults/2024-08-08/
LOCATION:Calhoun-Gordon County Public Library\, 100 N Park Avenue\, Calhoun\, GA\, 30701\, United States
ATTACH;FMTTYPE=image/png:https://ngrl.devtest.center/wp-content/uploads/2021/09/Adults-Featured.png
END:VEVENT
BEGIN:VEVENT
DTSTART;TZID=America/New_York:20240801T160000
DTEND;TZID=America/New_York:20240801T170000
DTSTAMP:20260423T235846
CREATED:20240503T130458Z
LAST-MODIFIED:20241021T182854Z
UID:34284-1722528000-1722531600@ngrl.devtest.center
SUMMARY:Spanish Class -- Adults
DESCRIPTION:Open to ages 18 and older. It’s never too late to learn a new language. Join us as we learn Spanish together! \n\nWednesdays @ 4 p.m.\n\nNo Class Oct. 10 & 31 \nNo Class Nov. 28 \nDisclaimer: All aspects of in-person programming are subject to change based on health crisis guidelines and procedures.
URL:https://ngrl.devtest.center/event/spanish-adults/2024-08-01/
LOCATION:Calhoun-Gordon County Public Library\, 100 N Park Avenue\, Calhoun\, GA\, 30701\, United States
ATTACH;FMTTYPE=image/png:https://ngrl.devtest.center/wp-content/uploads/2021/09/Adults-Featured.png
END:VEVENT
BEGIN:VEVENT
DTSTART;TZID=America/New_York:20240725T160000
DTEND;TZID=America/New_York:20240725T170000
DTSTAMP:20260423T235846
CREATED:20240503T130458Z
LAST-MODIFIED:20241021T182854Z
UID:33618-1721923200-1721926800@ngrl.devtest.center
SUMMARY:Spanish Class -- Adults
DESCRIPTION:Open to ages 18 and older. It’s never too late to learn a new language. Join us as we learn Spanish together! \n\nWednesdays @ 4 p.m.\n\nNo Class Oct. 10 & 31 \nNo Class Nov. 28 \nDisclaimer: All aspects of in-person programming are subject to change based on health crisis guidelines and procedures.
URL:https://ngrl.devtest.center/event/spanish-adults/2024-07-25/
LOCATION:Calhoun-Gordon County Public Library\, 100 N Park Avenue\, Calhoun\, GA\, 30701\, United States
ATTACH;FMTTYPE=image/png:https://ngrl.devtest.center/wp-content/uploads/2021/09/Adults-Featured.png
END:VEVENT
BEGIN:VEVENT
DTSTART;TZID=America/New_York:20240718T160000
DTEND;TZID=America/New_York:20240718T170000
DTSTAMP:20260423T235846
CREATED:20240503T130458Z
LAST-MODIFIED:20241021T182854Z
UID:33617-1721318400-1721322000@ngrl.devtest.center
SUMMARY:Spanish Class -- Adults
DESCRIPTION:Open to ages 18 and older. It’s never too late to learn a new language. Join us as we learn Spanish together! \n\nWednesdays @ 4 p.m.\n\nNo Class Oct. 10 & 31 \nNo Class Nov. 28 \nDisclaimer: All aspects of in-person programming are subject to change based on health crisis guidelines and procedures.
URL:https://ngrl.devtest.center/event/spanish-adults/2024-07-18/
LOCATION:Calhoun-Gordon County Public Library\, 100 N Park Avenue\, Calhoun\, GA\, 30701\, United States
ATTACH;FMTTYPE=image/png:https://ngrl.devtest.center/wp-content/uploads/2021/09/Adults-Featured.png
END:VEVENT
BEGIN:VEVENT
DTSTART;TZID=America/New_York:20240627T160000
DTEND;TZID=America/New_York:20240627T170000
DTSTAMP:20260423T235846
CREATED:20240503T130458Z
LAST-MODIFIED:20241021T182854Z
UID:33616-1719504000-1719507600@ngrl.devtest.center
SUMMARY:Spanish Class -- Adults
DESCRIPTION:Open to ages 18 and older. It’s never too late to learn a new language. Join us as we learn Spanish together! \n\nWednesdays @ 4 p.m.\n\nNo Class Oct. 10 & 31 \nNo Class Nov. 28 \nDisclaimer: All aspects of in-person programming are subject to change based on health crisis guidelines and procedures.
URL:https://ngrl.devtest.center/event/spanish-adults/2024-06-27/
LOCATION:Calhoun-Gordon County Public Library\, 100 N Park Avenue\, Calhoun\, GA\, 30701\, United States
ATTACH;FMTTYPE=image/png:https://ngrl.devtest.center/wp-content/uploads/2021/09/Adults-Featured.png
END:VEVENT
BEGIN:VEVENT
DTSTART;TZID=America/New_York:20240620T160000
DTEND;TZID=America/New_York:20240620T170000
DTSTAMP:20260423T235846
CREATED:20240503T130458Z
LAST-MODIFIED:20241021T182853Z
UID:33615-1718899200-1718902800@ngrl.devtest.center
SUMMARY:Spanish Class -- Adults
DESCRIPTION:Open to ages 18 and older. It’s never too late to learn a new language. Join us as we learn Spanish together! \n\nWednesdays @ 4 p.m.\n\nNo Class Oct. 10 & 31 \nNo Class Nov. 28 \nDisclaimer: All aspects of in-person programming are subject to change based on health crisis guidelines and procedures.
URL:https://ngrl.devtest.center/event/spanish-adults/2024-06-20/
LOCATION:Calhoun-Gordon County Public Library\, 100 N Park Avenue\, Calhoun\, GA\, 30701\, United States
ATTACH;FMTTYPE=image/png:https://ngrl.devtest.center/wp-content/uploads/2021/09/Adults-Featured.png
END:VEVENT
BEGIN:VEVENT
DTSTART;TZID=America/New_York:20240613T160000
DTEND;TZID=America/New_York:20240613T170000
DTSTAMP:20260423T235846
CREATED:20240503T130458Z
LAST-MODIFIED:20241021T182852Z
UID:33614-1718294400-1718298000@ngrl.devtest.center
SUMMARY:Spanish Class -- Adults
DESCRIPTION:Open to ages 18 and older. It’s never too late to learn a new language. Join us as we learn Spanish together! \n\nWednesdays @ 4 p.m.\n\nNo Class Oct. 10 & 31 \nNo Class Nov. 28 \nDisclaimer: All aspects of in-person programming are subject to change based on health crisis guidelines and procedures.
URL:https://ngrl.devtest.center/event/spanish-adults/2024-06-13/
LOCATION:Calhoun-Gordon County Public Library\, 100 N Park Avenue\, Calhoun\, GA\, 30701\, United States
ATTACH;FMTTYPE=image/png:https://ngrl.devtest.center/wp-content/uploads/2021/09/Adults-Featured.png
END:VEVENT
END:VCALENDAR