BEGIN:VCALENDAR
VERSION:2.0
PRODID:-//Northwest Georgia Regional Library System - ECPv6.15.17.1//NONSGML v1.0//EN
CALSCALE:GREGORIAN
METHOD:PUBLISH
X-WR-CALNAME:Northwest Georgia Regional Library System
X-ORIGINAL-URL:https://ngrl.devtest.center
X-WR-CALDESC:Events for Northwest Georgia Regional Library System
REFRESH-INTERVAL;VALUE=DURATION:PT1H
X-Robots-Tag:noindex
X-PUBLISHED-TTL:PT1H
BEGIN:VTIMEZONE
TZID:America/New_York
BEGIN:DAYLIGHT
TZOFFSETFROM:-0500
TZOFFSETTO:-0400
TZNAME:EDT
DTSTART:20230312T070000
END:DAYLIGHT
BEGIN:STANDARD
TZOFFSETFROM:-0400
TZOFFSETTO:-0500
TZNAME:EST
DTSTART:20231105T060000
END:STANDARD
BEGIN:DAYLIGHT
TZOFFSETFROM:-0500
TZOFFSETTO:-0400
TZNAME:EDT
DTSTART:20240310T070000
END:DAYLIGHT
BEGIN:STANDARD
TZOFFSETFROM:-0400
TZOFFSETTO:-0500
TZNAME:EST
DTSTART:20241103T060000
END:STANDARD
BEGIN:DAYLIGHT
TZOFFSETFROM:-0500
TZOFFSETTO:-0400
TZNAME:EDT
DTSTART:20250309T070000
END:DAYLIGHT
BEGIN:STANDARD
TZOFFSETFROM:-0400
TZOFFSETTO:-0500
TZNAME:EST
DTSTART:20251102T060000
END:STANDARD
END:VTIMEZONE
BEGIN:VEVENT
DTSTART;TZID=America/New_York:20241213T160000
DTEND;TZID=America/New_York:20241213T170000
DTSTAMP:20260423T123409
CREATED:20240719T111826Z
LAST-MODIFIED:20241218T152804Z
UID:37866-1734105600-1734109200@ngrl.devtest.center
SUMMARY:S.T.E.A.M. Storytime - Children
DESCRIPTION:Open to children 5-12. Join Miss Katya for a story and an experiment. \n\nThursday\, October 24 @ 4 p.m.\nThursday\, November 21 @ 4 p.m.\nThursday\, December 13 @ 4 p.m.\nThursday\, January 10 @ 4 p.m. This month — Paddle Boats\n\nDisclaimer: All aspects of in-person programming are subject to change based on health crisis guidelines and procedures.
URL:https://ngrl.devtest.center/event/s-t-e-a-m-storytime-children-2/2024-12-13/
LOCATION:Calhoun-Gordon County Public Library\, 100 N Park Avenue\, Calhoun\, GA\, 30701\, United States
ATTACH;FMTTYPE=image/png:https://ngrl.devtest.center/wp-content/uploads/2021/09/Kids-Featured.png
END:VEVENT
BEGIN:VEVENT
DTSTART;TZID=America/New_York:20241121T160000
DTEND;TZID=America/New_York:20241121T170000
DTSTAMP:20260423T123409
CREATED:20240719T111826Z
LAST-MODIFIED:20241218T152804Z
UID:37055-1732204800-1732208400@ngrl.devtest.center
SUMMARY:S.T.E.A.M. Storytime - Children
DESCRIPTION:Open to children 5-12. Join Miss Katya for a story and an experiment. \n\nThursday\, October 24 @ 4 p.m.\nThursday\, November 21 @ 4 p.m.\nThursday\, December 13 @ 4 p.m.\nThursday\, January 10 @ 4 p.m. This month — Paddle Boats\n\nDisclaimer: All aspects of in-person programming are subject to change based on health crisis guidelines and procedures.
URL:https://ngrl.devtest.center/event/s-t-e-a-m-storytime-children-2/2024-11-21/
LOCATION:Calhoun-Gordon County Public Library\, 100 N Park Avenue\, Calhoun\, GA\, 30701\, United States
ATTACH;FMTTYPE=image/png:https://ngrl.devtest.center/wp-content/uploads/2021/09/Kids-Featured.png
END:VEVENT
BEGIN:VEVENT
DTSTART;TZID=America/New_York:20241024T160000
DTEND;TZID=America/New_York:20241024T170000
DTSTAMP:20260423T123409
CREATED:20240719T111826Z
LAST-MODIFIED:20241218T152803Z
UID:36015-1729785600-1729789200@ngrl.devtest.center
SUMMARY:S.T.E.A.M. Storytime - Children
DESCRIPTION:Open to children 5-12. Join Miss Katya for a story and an experiment. \n\nThursday\, October 24 @ 4 p.m.\nThursday\, November 21 @ 4 p.m.\nThursday\, December 13 @ 4 p.m.\nThursday\, January 10 @ 4 p.m. This month — Paddle Boats\n\nDisclaimer: All aspects of in-person programming are subject to change based on health crisis guidelines and procedures.
URL:https://ngrl.devtest.center/event/s-t-e-a-m-storytime-children-2/2024-10-24/
LOCATION:Calhoun-Gordon County Public Library\, 100 N Park Avenue\, Calhoun\, GA\, 30701\, United States
ATTACH;FMTTYPE=image/png:https://ngrl.devtest.center/wp-content/uploads/2021/09/Kids-Featured.png
END:VEVENT
BEGIN:VEVENT
DTSTART;TZID=America/New_York:20240809T160000
DTEND;TZID=America/New_York:20240809T170000
DTSTAMP:20260423T123409
CREATED:20240719T111826Z
LAST-MODIFIED:20241218T152803Z
UID:34369-1723219200-1723222800@ngrl.devtest.center
SUMMARY:S.T.E.A.M. Storytime - Children
DESCRIPTION:Open to children 5-12. Join Miss Katya for a story and an experiment. \n\nThursday\, October 24 @ 4 p.m.\nThursday\, November 21 @ 4 p.m.\nThursday\, December 13 @ 4 p.m.\nThursday\, January 10 @ 4 p.m. This month — Paddle Boats\n\nDisclaimer: All aspects of in-person programming are subject to change based on health crisis guidelines and procedures.
URL:https://ngrl.devtest.center/event/s-t-e-a-m-storytime-children-2/2024-08-09/
LOCATION:Calhoun-Gordon County Public Library\, 100 N Park Avenue\, Calhoun\, GA\, 30701\, United States
ATTACH;FMTTYPE=image/png:https://ngrl.devtest.center/wp-content/uploads/2021/09/Kids-Featured.png
END:VEVENT
END:VCALENDAR