BEGIN:VCALENDAR
VERSION:2.0
PRODID:-//Northwest Georgia Regional Library System - ECPv6.15.17.1//NONSGML v1.0//EN
CALSCALE:GREGORIAN
METHOD:PUBLISH
X-ORIGINAL-URL:https://ngrl.devtest.center
X-WR-CALDESC:Events for Northwest Georgia Regional Library System
REFRESH-INTERVAL;VALUE=DURATION:PT1H
X-Robots-Tag:noindex
X-PUBLISHED-TTL:PT1H
BEGIN:VTIMEZONE
TZID:America/New_York
BEGIN:DAYLIGHT
TZOFFSETFROM:-0500
TZOFFSETTO:-0400
TZNAME:EDT
DTSTART:20230312T070000
END:DAYLIGHT
BEGIN:STANDARD
TZOFFSETFROM:-0400
TZOFFSETTO:-0500
TZNAME:EST
DTSTART:20231105T060000
END:STANDARD
BEGIN:DAYLIGHT
TZOFFSETFROM:-0500
TZOFFSETTO:-0400
TZNAME:EDT
DTSTART:20240310T070000
END:DAYLIGHT
BEGIN:STANDARD
TZOFFSETFROM:-0400
TZOFFSETTO:-0500
TZNAME:EST
DTSTART:20241103T060000
END:STANDARD
BEGIN:DAYLIGHT
TZOFFSETFROM:-0500
TZOFFSETTO:-0400
TZNAME:EDT
DTSTART:20250309T070000
END:DAYLIGHT
BEGIN:STANDARD
TZOFFSETFROM:-0400
TZOFFSETTO:-0500
TZNAME:EST
DTSTART:20251102T060000
END:STANDARD
END:VTIMEZONE
BEGIN:VEVENT
DTSTART;TZID=America/New_York:20241118T160000
DTEND;TZID=America/New_York:20241118T170000
DTSTAMP:20260423T144322
CREATED:20240220T171018Z
LAST-MODIFIED:20240220T171018Z
UID:37121-1731945600-1731949200@ngrl.devtest.center
SUMMARY:Pokémon Club -- Kids
DESCRIPTION:Open to kids K-5th grade. Try to catch them all. Share and trade cards with other Pokémon enthusiasts in this fun hangout time for kids. \n\nTuesday\, March 19 @ 4 p.m.\nMonday\, May 20 @ 4 p.m.\nMonday\, June 24 @ 4 p.m.\nMonday\, July 29 @ 4 p.m.\nMonday\, August 19 @ 4 p.m.\nMonday\, September 23 @ 4 p.m.\nMonday\, October 21 @ 4 p.m.\nMonday\, November 18 @ 4 p.m.\n\nDisclaimer: All aspects of in-person programming are subject to change based on health crisis guidelines and procedures. \n 
URL:https://ngrl.devtest.center/event/pokemon-club-kids/2024-11-18/
LOCATION:Calhoun-Gordon County Public Library\, 100 N Park Avenue\, Calhoun\, GA\, 30701\, United States
ATTACH;FMTTYPE=image/png:https://ngrl.devtest.center/wp-content/uploads/2021/09/Kids-Featured.png
END:VEVENT
BEGIN:VEVENT
DTSTART;TZID=America/New_York:20241021T160000
DTEND;TZID=America/New_York:20241021T170000
DTSTAMP:20260423T144322
CREATED:20240220T171018Z
LAST-MODIFIED:20241022T132927Z
UID:35986-1729526400-1729530000@ngrl.devtest.center
SUMMARY:Pokémon Club -- Kids
DESCRIPTION:Open to kids K-5th grade. Try to catch them all. Share and trade cards with other Pokémon enthusiasts in this fun hangout time for kids. \n\nTuesday\, March 19 @ 4 p.m.\nMonday\, May 20 @ 4 p.m.\nMonday\, June 24 @ 4 p.m.\nMonday\, July 29 @ 4 p.m.\nMonday\, August 19 @ 4 p.m.\nMonday\, September 23 @ 4 p.m.\nMonday\, October 21 @ 4 p.m.\nMonday\, November 18 @ 4 p.m.\n\nDisclaimer: All aspects of in-person programming are subject to change based on health crisis guidelines and procedures. \n 
URL:https://ngrl.devtest.center/event/pokemon-club-kids/2024-10-21/
LOCATION:Calhoun-Gordon County Public Library\, 100 N Park Avenue\, Calhoun\, GA\, 30701\, United States
ATTACH;FMTTYPE=image/png:https://ngrl.devtest.center/wp-content/uploads/2021/09/Kids-Featured.png
END:VEVENT
BEGIN:VEVENT
DTSTART;TZID=America/New_York:20240923T160000
DTEND;TZID=America/New_York:20240923T170000
DTSTAMP:20260423T144322
CREATED:20240220T171018Z
LAST-MODIFIED:20241022T132926Z
UID:35107-1727107200-1727110800@ngrl.devtest.center
SUMMARY:Pokémon Club -- Kids
DESCRIPTION:Open to kids K-5th grade. Try to catch them all. Share and trade cards with other Pokémon enthusiasts in this fun hangout time for kids. \n\nTuesday\, March 19 @ 4 p.m.\nMonday\, May 20 @ 4 p.m.\nMonday\, June 24 @ 4 p.m.\nMonday\, July 29 @ 4 p.m.\nMonday\, August 19 @ 4 p.m.\nMonday\, September 23 @ 4 p.m.\nMonday\, October 21 @ 4 p.m.\nMonday\, November 18 @ 4 p.m.\n\nDisclaimer: All aspects of in-person programming are subject to change based on health crisis guidelines and procedures. \n 
URL:https://ngrl.devtest.center/event/pokemon-club-kids/2024-09-23/
LOCATION:Calhoun-Gordon County Public Library\, 100 N Park Avenue\, Calhoun\, GA\, 30701\, United States
ATTACH;FMTTYPE=image/png:https://ngrl.devtest.center/wp-content/uploads/2021/09/Kids-Featured.png
END:VEVENT
BEGIN:VEVENT
DTSTART;TZID=America/New_York:20240819T160000
DTEND;TZID=America/New_York:20240819T170000
DTSTAMP:20260423T144322
CREATED:20240220T171018Z
LAST-MODIFIED:20241022T132926Z
UID:34349-1724083200-1724086800@ngrl.devtest.center
SUMMARY:Pokémon Club -- Kids
DESCRIPTION:Open to kids K-5th grade. Try to catch them all. Share and trade cards with other Pokémon enthusiasts in this fun hangout time for kids. \n\nTuesday\, March 19 @ 4 p.m.\nMonday\, May 20 @ 4 p.m.\nMonday\, June 24 @ 4 p.m.\nMonday\, July 29 @ 4 p.m.\nMonday\, August 19 @ 4 p.m.\nMonday\, September 23 @ 4 p.m.\nMonday\, October 21 @ 4 p.m.\nMonday\, November 18 @ 4 p.m.\n\nDisclaimer: All aspects of in-person programming are subject to change based on health crisis guidelines and procedures. \n 
URL:https://ngrl.devtest.center/event/pokemon-club-kids/2024-08-19/
LOCATION:Calhoun-Gordon County Public Library\, 100 N Park Avenue\, Calhoun\, GA\, 30701\, United States
ATTACH;FMTTYPE=image/png:https://ngrl.devtest.center/wp-content/uploads/2021/09/Kids-Featured.png
END:VEVENT
BEGIN:VEVENT
DTSTART;TZID=America/New_York:20240729T160000
DTEND;TZID=America/New_York:20240729T170000
DTSTAMP:20260423T144322
CREATED:20240220T171018Z
LAST-MODIFIED:20241022T132926Z
UID:33561-1722268800-1722272400@ngrl.devtest.center
SUMMARY:Pokémon Club -- Kids
DESCRIPTION:Open to kids K-5th grade. Try to catch them all. Share and trade cards with other Pokémon enthusiasts in this fun hangout time for kids. \n\nTuesday\, March 19 @ 4 p.m.\nMonday\, May 20 @ 4 p.m.\nMonday\, June 24 @ 4 p.m.\nMonday\, July 29 @ 4 p.m.\nMonday\, August 19 @ 4 p.m.\nMonday\, September 23 @ 4 p.m.\nMonday\, October 21 @ 4 p.m.\nMonday\, November 18 @ 4 p.m.\n\nDisclaimer: All aspects of in-person programming are subject to change based on health crisis guidelines and procedures. \n 
URL:https://ngrl.devtest.center/event/pokemon-club-kids/2024-07-29/
LOCATION:Calhoun-Gordon County Public Library\, 100 N Park Avenue\, Calhoun\, GA\, 30701\, United States
ATTACH;FMTTYPE=image/png:https://ngrl.devtest.center/wp-content/uploads/2021/09/Kids-Featured.png
END:VEVENT
BEGIN:VEVENT
DTSTART;TZID=America/New_York:20240624T160000
DTEND;TZID=America/New_York:20240624T170000
DTSTAMP:20260423T144322
CREATED:20240220T171018Z
LAST-MODIFIED:20241022T132925Z
UID:33560-1719244800-1719248400@ngrl.devtest.center
SUMMARY:Pokémon Club -- Kids
DESCRIPTION:Open to kids K-5th grade. Try to catch them all. Share and trade cards with other Pokémon enthusiasts in this fun hangout time for kids. \n\nTuesday\, March 19 @ 4 p.m.\nMonday\, May 20 @ 4 p.m.\nMonday\, June 24 @ 4 p.m.\nMonday\, July 29 @ 4 p.m.\nMonday\, August 19 @ 4 p.m.\nMonday\, September 23 @ 4 p.m.\nMonday\, October 21 @ 4 p.m.\nMonday\, November 18 @ 4 p.m.\n\nDisclaimer: All aspects of in-person programming are subject to change based on health crisis guidelines and procedures. \n 
URL:https://ngrl.devtest.center/event/pokemon-club-kids/2024-06-24/
LOCATION:Calhoun-Gordon County Public Library\, 100 N Park Avenue\, Calhoun\, GA\, 30701\, United States
ATTACH;FMTTYPE=image/png:https://ngrl.devtest.center/wp-content/uploads/2021/09/Kids-Featured.png
END:VEVENT
BEGIN:VEVENT
DTSTART;TZID=America/New_York:20240520T160000
DTEND;TZID=America/New_York:20240520T170000
DTSTAMP:20260423T144322
CREATED:20240220T171018Z
LAST-MODIFIED:20241022T132925Z
UID:32368-1716220800-1716224400@ngrl.devtest.center
SUMMARY:Pokémon Club -- Kids
DESCRIPTION:Open to kids K-5th grade. Try to catch them all. Share and trade cards with other Pokémon enthusiasts in this fun hangout time for kids. \n\nTuesday\, March 19 @ 4 p.m.\nMonday\, May 20 @ 4 p.m.\nMonday\, June 24 @ 4 p.m.\nMonday\, July 29 @ 4 p.m.\nMonday\, August 19 @ 4 p.m.\nMonday\, September 23 @ 4 p.m.\nMonday\, October 21 @ 4 p.m.\nMonday\, November 18 @ 4 p.m.\n\nDisclaimer: All aspects of in-person programming are subject to change based on health crisis guidelines and procedures. \n 
URL:https://ngrl.devtest.center/event/pokemon-club-kids/2024-05-20/
LOCATION:Calhoun-Gordon County Public Library\, 100 N Park Avenue\, Calhoun\, GA\, 30701\, United States
ATTACH;FMTTYPE=image/png:https://ngrl.devtest.center/wp-content/uploads/2021/09/Kids-Featured.png
END:VEVENT
BEGIN:VEVENT
DTSTART;TZID=America/New_York:20240319T160000
DTEND;TZID=America/New_York:20240319T170000
DTSTAMP:20260423T144322
CREATED:20240220T171018Z
LAST-MODIFIED:20241022T132924Z
UID:31552-1710864000-1710867600@ngrl.devtest.center
SUMMARY:Pokémon Club -- Kids
DESCRIPTION:Open to kids K-5th grade. Try to catch them all. Share and trade cards with other Pokémon enthusiasts in this fun hangout time for kids. \n\nTuesday\, March 19 @ 4 p.m.\nMonday\, May 20 @ 4 p.m.\nMonday\, June 24 @ 4 p.m.\nMonday\, July 29 @ 4 p.m.\nMonday\, August 19 @ 4 p.m.\nMonday\, September 23 @ 4 p.m.\nMonday\, October 21 @ 4 p.m.\nMonday\, November 18 @ 4 p.m.\n\nDisclaimer: All aspects of in-person programming are subject to change based on health crisis guidelines and procedures. \n 
URL:https://ngrl.devtest.center/event/pokemon-club-kids/2024-03-19/
LOCATION:Calhoun-Gordon County Public Library\, 100 N Park Avenue\, Calhoun\, GA\, 30701\, United States
ATTACH;FMTTYPE=image/png:https://ngrl.devtest.center/wp-content/uploads/2021/09/Kids-Featured.png
END:VEVENT
END:VCALENDAR