BEGIN:VCALENDAR
VERSION:2.0
PRODID:-//Northwest Georgia Regional Library System - ECPv6.15.17.1//NONSGML v1.0//EN
CALSCALE:GREGORIAN
METHOD:PUBLISH
X-WR-CALNAME:Northwest Georgia Regional Library System
X-ORIGINAL-URL:https://ngrl.devtest.center
X-WR-CALDESC:Events for Northwest Georgia Regional Library System
REFRESH-INTERVAL;VALUE=DURATION:PT1H
X-Robots-Tag:noindex
X-PUBLISHED-TTL:PT1H
BEGIN:VTIMEZONE
TZID:America/New_York
BEGIN:DAYLIGHT
TZOFFSETFROM:-0500
TZOFFSETTO:-0400
TZNAME:EDT
DTSTART:20240310T070000
END:DAYLIGHT
BEGIN:STANDARD
TZOFFSETFROM:-0400
TZOFFSETTO:-0500
TZNAME:EST
DTSTART:20241103T060000
END:STANDARD
BEGIN:DAYLIGHT
TZOFFSETFROM:-0500
TZOFFSETTO:-0400
TZNAME:EDT
DTSTART:20250309T070000
END:DAYLIGHT
BEGIN:STANDARD
TZOFFSETFROM:-0400
TZOFFSETTO:-0500
TZNAME:EST
DTSTART:20251102T060000
END:STANDARD
BEGIN:DAYLIGHT
TZOFFSETFROM:-0500
TZOFFSETTO:-0400
TZNAME:EDT
DTSTART:20260308T070000
END:DAYLIGHT
BEGIN:STANDARD
TZOFFSETFROM:-0400
TZOFFSETTO:-0500
TZNAME:EST
DTSTART:20261101T060000
END:STANDARD
END:VTIMEZONE
BEGIN:VEVENT
DTSTART;TZID=America/New_York:20250320T163000
DTEND;TZID=America/New_York:20250320T180000
DTSTAMP:20260421T171434
CREATED:20250224T212550Z
LAST-MODIFIED:20250224T212550Z
UID:43131-1742488200-1742493600@ngrl.devtest.center
SUMMARY:Pokémon Club -- All Ages
DESCRIPTION:Open to all ages. While we await the return of the Pokémon League\, trainers and Pokémon fans alike can gather for a weekly meetup to battle\, trade\, and share their love for all things Pokémon. \n\nWeekly on Thursdays at 4:30 – 6 p.m.\nFriday\, March 27 at 4:30-6 p.m. is Bingo Night\nThursday\, February 27 is National Pokémon Day\n\nDisclaimer: All aspects of in-person programming are subject to change based on health crisis guidelines and procedures.
URL:https://ngrl.devtest.center/event/pokemon-club-all-ages-4/2025-03-20/
LOCATION:Dalton-Whitfield County Public Library\, 310 Cappes St\, Dalton\, GA\, 30720\, United States
ATTACH;FMTTYPE=image/png:https://ngrl.devtest.center/wp-content/uploads/2021/09/All-Ages-Featured.png
ORGANIZER;CN="Dalton-Whitfield County Public Library":MAILTO:ngrl.librarian@gmail.com
END:VEVENT
BEGIN:VEVENT
DTSTART;TZID=America/New_York:20250313T163000
DTEND;TZID=America/New_York:20250313T180000
DTSTAMP:20260421T171434
CREATED:20250224T212550Z
LAST-MODIFIED:20250224T212550Z
UID:43130-1741883400-1741888800@ngrl.devtest.center
SUMMARY:Pokémon Club -- All Ages
DESCRIPTION:Open to all ages. While we await the return of the Pokémon League\, trainers and Pokémon fans alike can gather for a weekly meetup to battle\, trade\, and share their love for all things Pokémon. \n\nWeekly on Thursdays at 4:30 – 6 p.m.\nFriday\, March 27 at 4:30-6 p.m. is Bingo Night\nThursday\, February 27 is National Pokémon Day\n\nDisclaimer: All aspects of in-person programming are subject to change based on health crisis guidelines and procedures.
URL:https://ngrl.devtest.center/event/pokemon-club-all-ages-4/2025-03-13/
LOCATION:Dalton-Whitfield County Public Library\, 310 Cappes St\, Dalton\, GA\, 30720\, United States
ATTACH;FMTTYPE=image/png:https://ngrl.devtest.center/wp-content/uploads/2021/09/All-Ages-Featured.png
ORGANIZER;CN="Dalton-Whitfield County Public Library":MAILTO:ngrl.librarian@gmail.com
END:VEVENT
BEGIN:VEVENT
DTSTART;TZID=America/New_York:20250306T163000
DTEND;TZID=America/New_York:20250306T180000
DTSTAMP:20260421T171434
CREATED:20250224T212550Z
LAST-MODIFIED:20250224T212550Z
UID:43129-1741278600-1741284000@ngrl.devtest.center
SUMMARY:Pokémon Club -- All Ages
DESCRIPTION:Open to all ages. While we await the return of the Pokémon League\, trainers and Pokémon fans alike can gather for a weekly meetup to battle\, trade\, and share their love for all things Pokémon. \n\nWeekly on Thursdays at 4:30 – 6 p.m.\nFriday\, March 27 at 4:30-6 p.m. is Bingo Night\nThursday\, February 27 is National Pokémon Day\n\nDisclaimer: All aspects of in-person programming are subject to change based on health crisis guidelines and procedures.
URL:https://ngrl.devtest.center/event/pokemon-club-all-ages-4/2025-03-06/
LOCATION:Dalton-Whitfield County Public Library\, 310 Cappes St\, Dalton\, GA\, 30720\, United States
ATTACH;FMTTYPE=image/png:https://ngrl.devtest.center/wp-content/uploads/2021/09/All-Ages-Featured.png
ORGANIZER;CN="Dalton-Whitfield County Public Library":MAILTO:ngrl.librarian@gmail.com
END:VEVENT
END:VCALENDAR