BEGIN:VCALENDAR
VERSION:2.0
PRODID:-//Northwest Georgia Regional Library System - ECPv6.15.17.1//NONSGML v1.0//EN
CALSCALE:GREGORIAN
METHOD:PUBLISH
X-ORIGINAL-URL:https://ngrl.devtest.center
X-WR-CALDESC:Events for Northwest Georgia Regional Library System
REFRESH-INTERVAL;VALUE=DURATION:PT1H
X-Robots-Tag:noindex
X-PUBLISHED-TTL:PT1H
BEGIN:VTIMEZONE
TZID:America/New_York
BEGIN:DAYLIGHT
TZOFFSETFROM:-0500
TZOFFSETTO:-0400
TZNAME:EDT
DTSTART:20240310T070000
END:DAYLIGHT
BEGIN:STANDARD
TZOFFSETFROM:-0400
TZOFFSETTO:-0500
TZNAME:EST
DTSTART:20241103T060000
END:STANDARD
BEGIN:DAYLIGHT
TZOFFSETFROM:-0500
TZOFFSETTO:-0400
TZNAME:EDT
DTSTART:20250309T070000
END:DAYLIGHT
BEGIN:STANDARD
TZOFFSETFROM:-0400
TZOFFSETTO:-0500
TZNAME:EST
DTSTART:20251102T060000
END:STANDARD
BEGIN:DAYLIGHT
TZOFFSETFROM:-0500
TZOFFSETTO:-0400
TZNAME:EDT
DTSTART:20260308T070000
END:DAYLIGHT
BEGIN:STANDARD
TZOFFSETFROM:-0400
TZOFFSETTO:-0500
TZNAME:EST
DTSTART:20261101T060000
END:STANDARD
END:VTIMEZONE
BEGIN:VEVENT
DTSTART;TZID=America/New_York:20250410T180000
DTEND;TZID=America/New_York:20250410T190000
DTSTAMP:20260421T155233
CREATED:20250224T172145Z
LAST-MODIFIED:20250519T190028Z
UID:44094-1744308000-1744311600@ngrl.devtest.center
SUMMARY:Nerf Wars -- Tweens and Teens
DESCRIPTION:Image from: https://commons.wikimedia.org/wiki/File:Various_Nerf_ammo_types.jpg\nOpen to tweens and teens 10-18 years old. Get ready for an epic NERF battle. Permission slip must be signed by a parent. \n\nThursday\, March 13 27 @ 6 p.m.\nThursday\, April 10 & 24 @ 6 p.m.\nSaturday\, May 10 @ 1:30 p.m.\nThursday\, May 22 @ 6 p.m.\nWednesday\, June 4 @ 6 p.m.\n\nDisclaimer: All aspects of in-person programming are subject to change based on health crisis guidelines and procedures.
URL:https://ngrl.devtest.center/event/nerf-wars-tweens-and-teens/2025-04-10/
LOCATION:Calhoun-Gordon County Public Library\, 100 N Park Avenue\, Calhoun\, GA\, 30701\, United States
ATTACH;FMTTYPE=image/png:https://ngrl.devtest.center/wp-content/uploads/2021/09/Teens-Featured.png
END:VEVENT
BEGIN:VEVENT
DTSTART;TZID=America/New_York:20250313T180000
DTEND;TZID=America/New_York:20250313T190000
DTSTAMP:20260421T155233
CREATED:20250224T172145Z
LAST-MODIFIED:20250519T190026Z
UID:42646-1741888800-1741892400@ngrl.devtest.center
SUMMARY:Nerf Wars -- Tweens and Teens
DESCRIPTION:Image from: https://commons.wikimedia.org/wiki/File:Various_Nerf_ammo_types.jpg\nOpen to tweens and teens 10-18 years old. Get ready for an epic NERF battle. Permission slip must be signed by a parent. \n\nThursday\, March 13 27 @ 6 p.m.\nThursday\, April 10 & 24 @ 6 p.m.\nSaturday\, May 10 @ 1:30 p.m.\nThursday\, May 22 @ 6 p.m.\nWednesday\, June 4 @ 6 p.m.\n\nDisclaimer: All aspects of in-person programming are subject to change based on health crisis guidelines and procedures.
URL:https://ngrl.devtest.center/event/nerf-wars-tweens-and-teens/2025-03-13/
LOCATION:Calhoun-Gordon County Public Library\, 100 N Park Avenue\, Calhoun\, GA\, 30701\, United States
ATTACH;FMTTYPE=image/png:https://ngrl.devtest.center/wp-content/uploads/2021/09/Teens-Featured.png
END:VEVENT
END:VCALENDAR