BEGIN:VCALENDAR
VERSION:2.0
PRODID:-//Northwest Georgia Regional Library System - ECPv6.15.17.1//NONSGML v1.0//EN
CALSCALE:GREGORIAN
METHOD:PUBLISH
X-ORIGINAL-URL:https://ngrl.devtest.center
X-WR-CALDESC:Events for Northwest Georgia Regional Library System
REFRESH-INTERVAL;VALUE=DURATION:PT1H
X-Robots-Tag:noindex
X-PUBLISHED-TTL:PT1H
BEGIN:VTIMEZONE
TZID:America/New_York
BEGIN:DAYLIGHT
TZOFFSETFROM:-0500
TZOFFSETTO:-0400
TZNAME:EDT
DTSTART:20230312T070000
END:DAYLIGHT
BEGIN:STANDARD
TZOFFSETFROM:-0400
TZOFFSETTO:-0500
TZNAME:EST
DTSTART:20231105T060000
END:STANDARD
BEGIN:DAYLIGHT
TZOFFSETFROM:-0500
TZOFFSETTO:-0400
TZNAME:EDT
DTSTART:20240310T070000
END:DAYLIGHT
BEGIN:STANDARD
TZOFFSETFROM:-0400
TZOFFSETTO:-0500
TZNAME:EST
DTSTART:20241103T060000
END:STANDARD
BEGIN:DAYLIGHT
TZOFFSETFROM:-0500
TZOFFSETTO:-0400
TZNAME:EDT
DTSTART:20250309T070000
END:DAYLIGHT
BEGIN:STANDARD
TZOFFSETFROM:-0400
TZOFFSETTO:-0500
TZNAME:EST
DTSTART:20251102T060000
END:STANDARD
END:VTIMEZONE
BEGIN:VEVENT
DTSTART;TZID=America/New_York:20241121T180000
DTEND;TZID=America/New_York:20241121T190000
DTSTAMP:20260423T161338
CREATED:20240823T155846Z
LAST-MODIFIED:20241107T193934Z
UID:36667-1732212000-1732215600@ngrl.devtest.center
SUMMARY:Adult Book Club
DESCRIPTION:Open to adults 18 and older. The Chatsworth-Murray County Library/Murray Arts Council’s book club for adults will gather. Anyone is welcome to attend. \n\nThursday\, September 19 @ 12:30 p.m.\nThursday\, October 17 @ 6 p.m.\nThursday\, November 21 @ 6 p.m. This month: “Zenith Man: Death\, Love and Redemption in a Georgia Courtroom” by McCracken Poston Jr.\n\nDisclaimer: All aspects of in-person programming are subject to change based on health crisis guidelines and procedures.
URL:https://ngrl.devtest.center/event/local-author-book-reading-adults-2/2024-11-21/
LOCATION:Chatsworth-Murray County Public Library\, 706 Old Dalton Ellijay Rd\, Chatsworth\, GA\, 30705\, United States
ATTACH;FMTTYPE=image/png:https://ngrl.devtest.center/wp-content/uploads/2021/09/Adults-Featured.png
ORGANIZER;CN="Chatsworth-Murray County Library":MAILTO:ngrl.librarian@gmail.com
END:VEVENT
BEGIN:VEVENT
DTSTART;TZID=America/New_York:20241017T180000
DTEND;TZID=America/New_York:20241017T190000
DTSTAMP:20260423T161338
CREATED:20240823T155846Z
LAST-MODIFIED:20241107T193934Z
UID:35726-1729188000-1729191600@ngrl.devtest.center
SUMMARY:Adult Book Club
DESCRIPTION:Open to adults 18 and older. The Chatsworth-Murray County Library/Murray Arts Council’s book club for adults will gather. Anyone is welcome to attend. \n\nThursday\, September 19 @ 12:30 p.m.\nThursday\, October 17 @ 6 p.m.\nThursday\, November 21 @ 6 p.m. This month: “Zenith Man: Death\, Love and Redemption in a Georgia Courtroom” by McCracken Poston Jr.\n\nDisclaimer: All aspects of in-person programming are subject to change based on health crisis guidelines and procedures.
URL:https://ngrl.devtest.center/event/local-author-book-reading-adults-2/2024-10-17/
LOCATION:Chatsworth-Murray County Public Library\, 706 Old Dalton Ellijay Rd\, Chatsworth\, GA\, 30705\, United States
ATTACH;FMTTYPE=image/png:https://ngrl.devtest.center/wp-content/uploads/2021/09/Adults-Featured.png
ORGANIZER;CN="Chatsworth-Murray County Library":MAILTO:ngrl.librarian@gmail.com
END:VEVENT
BEGIN:VEVENT
DTSTART;TZID=America/New_York:20240919T180000
DTEND;TZID=America/New_York:20240919T190000
DTSTAMP:20260423T161338
CREATED:20240823T155846Z
LAST-MODIFIED:20241107T193934Z
UID:35314-1726768800-1726772400@ngrl.devtest.center
SUMMARY:Adult Book Club
DESCRIPTION:Open to adults 18 and older. The Chatsworth-Murray County Library/Murray Arts Council’s book club for adults will gather. Anyone is welcome to attend. \n\nThursday\, September 19 @ 12:30 p.m.\nThursday\, October 17 @ 6 p.m.\nThursday\, November 21 @ 6 p.m. This month: “Zenith Man: Death\, Love and Redemption in a Georgia Courtroom” by McCracken Poston Jr.\n\nDisclaimer: All aspects of in-person programming are subject to change based on health crisis guidelines and procedures.
URL:https://ngrl.devtest.center/event/local-author-book-reading-adults-2/2024-09-19/
LOCATION:Chatsworth-Murray County Public Library\, 706 Old Dalton Ellijay Rd\, Chatsworth\, GA\, 30705\, United States
ATTACH;FMTTYPE=image/png:https://ngrl.devtest.center/wp-content/uploads/2021/09/Adults-Featured.png
ORGANIZER;CN="Chatsworth-Murray County Library":MAILTO:ngrl.librarian@gmail.com
END:VEVENT
END:VCALENDAR