BEGIN:VCALENDAR
VERSION:2.0
PRODID:-//Northwest Georgia Regional Library System - ECPv6.15.17.1//NONSGML v1.0//EN
CALSCALE:GREGORIAN
METHOD:PUBLISH
X-WR-CALNAME:Northwest Georgia Regional Library System
X-ORIGINAL-URL:https://ngrl.devtest.center
X-WR-CALDESC:Events for Northwest Georgia Regional Library System
REFRESH-INTERVAL;VALUE=DURATION:PT1H
X-Robots-Tag:noindex
X-PUBLISHED-TTL:PT1H
BEGIN:VTIMEZONE
TZID:America/New_York
BEGIN:DAYLIGHT
TZOFFSETFROM:-0500
TZOFFSETTO:-0400
TZNAME:EDT
DTSTART:20230312T070000
END:DAYLIGHT
BEGIN:STANDARD
TZOFFSETFROM:-0400
TZOFFSETTO:-0500
TZNAME:EST
DTSTART:20231105T060000
END:STANDARD
BEGIN:DAYLIGHT
TZOFFSETFROM:-0500
TZOFFSETTO:-0400
TZNAME:EDT
DTSTART:20240310T070000
END:DAYLIGHT
BEGIN:STANDARD
TZOFFSETFROM:-0400
TZOFFSETTO:-0500
TZNAME:EST
DTSTART:20241103T060000
END:STANDARD
BEGIN:DAYLIGHT
TZOFFSETFROM:-0500
TZOFFSETTO:-0400
TZNAME:EDT
DTSTART:20250309T070000
END:DAYLIGHT
BEGIN:STANDARD
TZOFFSETFROM:-0400
TZOFFSETTO:-0500
TZNAME:EST
DTSTART:20251102T060000
END:STANDARD
END:VTIMEZONE
BEGIN:VEVENT
DTSTART;TZID=America/New_York:20241120T160000
DTEND;TZID=America/New_York:20241120T180000
DTSTAMP:20260423T114558
CREATED:20240502T171529Z
LAST-MODIFIED:20240502T171529Z
UID:37501-1732118400-1732125600@ngrl.devtest.center
SUMMARY:Family Nerf War -- All Ages
DESCRIPTION:Image from: https://commons.wikimedia.org/wiki/File:Various_Nerf_ammo_types.jpg\nOpen to all ages. Join us for a special Family Nerf War! Adults\, teens\, and children can come and battle against each other and see who comes out on top. Blasters and darts are provided or you can bring your own. \n\nWednesday\, June 26 @ 3 – 5 p.m.\nWednesday\, August 28 @ 3-5 p.m.\nWednesday\, September 25 @ 4-6 p.m.\nWednesday\, October 23 @ 4-6 p.m.\nWednesday\, November 20 @ 4-6 p.m.\n\nDisclaimer: All aspects of in-person programming are subject to change based on health crisis guidelines and procedures.
URL:https://ngrl.devtest.center/event/family-nerf-war-all-ages/2024-11-20/
LOCATION:Chatsworth-Murray County Public Library\, 706 Old Dalton Ellijay Rd\, Chatsworth\, GA\, 30705\, United States
ATTACH;FMTTYPE=image/png:https://ngrl.devtest.center/wp-content/uploads/2021/09/All-Ages-Featured.png
ORGANIZER;CN="Chatsworth-Murray County Library":MAILTO:ngrl.librarian@gmail.com
END:VEVENT
BEGIN:VEVENT
DTSTART;TZID=America/New_York:20241023T160000
DTEND;TZID=America/New_York:20241023T180000
DTSTAMP:20260423T114558
CREATED:20240502T171529Z
LAST-MODIFIED:20241107T193704Z
UID:35729-1729699200-1729706400@ngrl.devtest.center
SUMMARY:Family Nerf War -- All Ages
DESCRIPTION:Image from: https://commons.wikimedia.org/wiki/File:Various_Nerf_ammo_types.jpg\nOpen to all ages. Join us for a special Family Nerf War! Adults\, teens\, and children can come and battle against each other and see who comes out on top. Blasters and darts are provided or you can bring your own. \n\nWednesday\, June 26 @ 3 – 5 p.m.\nWednesday\, August 28 @ 3-5 p.m.\nWednesday\, September 25 @ 4-6 p.m.\nWednesday\, October 23 @ 4-6 p.m.\nWednesday\, November 20 @ 4-6 p.m.\n\nDisclaimer: All aspects of in-person programming are subject to change based on health crisis guidelines and procedures.
URL:https://ngrl.devtest.center/event/family-nerf-war-all-ages/2024-10-23/
LOCATION:Chatsworth-Murray County Public Library\, 706 Old Dalton Ellijay Rd\, Chatsworth\, GA\, 30705\, United States
ATTACH;FMTTYPE=image/png:https://ngrl.devtest.center/wp-content/uploads/2021/09/All-Ages-Featured.png
ORGANIZER;CN="Chatsworth-Murray County Library":MAILTO:ngrl.librarian@gmail.com
END:VEVENT
BEGIN:VEVENT
DTSTART;TZID=America/New_York:20240925T160000
DTEND;TZID=America/New_York:20240925T180000
DTSTAMP:20260423T114558
CREATED:20240502T171529Z
LAST-MODIFIED:20241107T193704Z
UID:35311-1727280000-1727287200@ngrl.devtest.center
SUMMARY:Family Nerf War -- All Ages
DESCRIPTION:Image from: https://commons.wikimedia.org/wiki/File:Various_Nerf_ammo_types.jpg\nOpen to all ages. Join us for a special Family Nerf War! Adults\, teens\, and children can come and battle against each other and see who comes out on top. Blasters and darts are provided or you can bring your own. \n\nWednesday\, June 26 @ 3 – 5 p.m.\nWednesday\, August 28 @ 3-5 p.m.\nWednesday\, September 25 @ 4-6 p.m.\nWednesday\, October 23 @ 4-6 p.m.\nWednesday\, November 20 @ 4-6 p.m.\n\nDisclaimer: All aspects of in-person programming are subject to change based on health crisis guidelines and procedures.
URL:https://ngrl.devtest.center/event/family-nerf-war-all-ages/2024-09-25/
LOCATION:Chatsworth-Murray County Public Library\, 706 Old Dalton Ellijay Rd\, Chatsworth\, GA\, 30705\, United States
ATTACH;FMTTYPE=image/png:https://ngrl.devtest.center/wp-content/uploads/2021/09/All-Ages-Featured.png
ORGANIZER;CN="Chatsworth-Murray County Library":MAILTO:ngrl.librarian@gmail.com
END:VEVENT
BEGIN:VEVENT
DTSTART;TZID=America/New_York:20240828T150000
DTEND;TZID=America/New_York:20240828T170000
DTSTAMP:20260423T114558
CREATED:20240502T171529Z
LAST-MODIFIED:20241107T193703Z
UID:34549-1724857200-1724864400@ngrl.devtest.center
SUMMARY:Family Nerf War -- All Ages
DESCRIPTION:Image from: https://commons.wikimedia.org/wiki/File:Various_Nerf_ammo_types.jpg\nOpen to all ages. Join us for a special Family Nerf War! Adults\, teens\, and children can come and battle against each other and see who comes out on top. Blasters and darts are provided or you can bring your own. \n\nWednesday\, June 26 @ 3 – 5 p.m.\nWednesday\, August 28 @ 3-5 p.m.\nWednesday\, September 25 @ 4-6 p.m.\nWednesday\, October 23 @ 4-6 p.m.\nWednesday\, November 20 @ 4-6 p.m.\n\nDisclaimer: All aspects of in-person programming are subject to change based on health crisis guidelines and procedures.
URL:https://ngrl.devtest.center/event/family-nerf-war-all-ages/2024-08-28/
LOCATION:Chatsworth-Murray County Public Library\, 706 Old Dalton Ellijay Rd\, Chatsworth\, GA\, 30705\, United States
ATTACH;FMTTYPE=image/png:https://ngrl.devtest.center/wp-content/uploads/2021/09/All-Ages-Featured.png
ORGANIZER;CN="Chatsworth-Murray County Library":MAILTO:ngrl.librarian@gmail.com
END:VEVENT
BEGIN:VEVENT
DTSTART;TZID=America/New_York:20240626T150000
DTEND;TZID=America/New_York:20240626T170000
DTSTAMP:20260423T114558
CREATED:20240502T171529Z
LAST-MODIFIED:20241107T193701Z
UID:33372-1719414000-1719421200@ngrl.devtest.center
SUMMARY:Family Nerf War -- All Ages
DESCRIPTION:Image from: https://commons.wikimedia.org/wiki/File:Various_Nerf_ammo_types.jpg\nOpen to all ages. Join us for a special Family Nerf War! Adults\, teens\, and children can come and battle against each other and see who comes out on top. Blasters and darts are provided or you can bring your own. \n\nWednesday\, June 26 @ 3 – 5 p.m.\nWednesday\, August 28 @ 3-5 p.m.\nWednesday\, September 25 @ 4-6 p.m.\nWednesday\, October 23 @ 4-6 p.m.\nWednesday\, November 20 @ 4-6 p.m.\n\nDisclaimer: All aspects of in-person programming are subject to change based on health crisis guidelines and procedures.
URL:https://ngrl.devtest.center/event/family-nerf-war-all-ages/2024-06-26/
LOCATION:Chatsworth-Murray County Public Library\, 706 Old Dalton Ellijay Rd\, Chatsworth\, GA\, 30705\, United States
ATTACH;FMTTYPE=image/png:https://ngrl.devtest.center/wp-content/uploads/2021/09/All-Ages-Featured.png
ORGANIZER;CN="Chatsworth-Murray County Library":MAILTO:ngrl.librarian@gmail.com
END:VEVENT
END:VCALENDAR