BEGIN:VCALENDAR
VERSION:2.0
PRODID:-//Northwest Georgia Regional Library System - ECPv6.15.17.1//NONSGML v1.0//EN
CALSCALE:GREGORIAN
METHOD:PUBLISH
X-ORIGINAL-URL:https://ngrl.devtest.center
X-WR-CALDESC:Events for Northwest Georgia Regional Library System
REFRESH-INTERVAL;VALUE=DURATION:PT1H
X-Robots-Tag:noindex
X-PUBLISHED-TTL:PT1H
BEGIN:VTIMEZONE
TZID:America/New_York
BEGIN:DAYLIGHT
TZOFFSETFROM:-0500
TZOFFSETTO:-0400
TZNAME:EDT
DTSTART:20230312T070000
END:DAYLIGHT
BEGIN:STANDARD
TZOFFSETFROM:-0400
TZOFFSETTO:-0500
TZNAME:EST
DTSTART:20231105T060000
END:STANDARD
BEGIN:DAYLIGHT
TZOFFSETFROM:-0500
TZOFFSETTO:-0400
TZNAME:EDT
DTSTART:20240310T070000
END:DAYLIGHT
BEGIN:STANDARD
TZOFFSETFROM:-0400
TZOFFSETTO:-0500
TZNAME:EST
DTSTART:20241103T060000
END:STANDARD
BEGIN:DAYLIGHT
TZOFFSETFROM:-0500
TZOFFSETTO:-0400
TZNAME:EDT
DTSTART:20250309T070000
END:DAYLIGHT
BEGIN:STANDARD
TZOFFSETFROM:-0400
TZOFFSETTO:-0500
TZNAME:EST
DTSTART:20251102T060000
END:STANDARD
END:VTIMEZONE
BEGIN:VEVENT
DTSTART;TZID=America/New_York:20240928T100000
DTEND;TZID=America/New_York:20240928T113000
DTSTAMP:20260425T202124
CREATED:20240418T145151Z
LAST-MODIFIED:20240418T145151Z
UID:34846-1727517600-1727523000@ngrl.devtest.center
SUMMARY:Family Lego -- All Ages
DESCRIPTION:Open to all Ages. Join in the building fun with the whole family as we create anything we can dream of. \n\nSaturday\, May 4 & 18 @ 10 a.m.\nSaturday\, June 8 & 22 @ 10 a.m.\nSaturday\, July 6 & 20 @ 10 a.m.\nSaturday\, August 3 & 17 @ 10 a.m.\nSaturday\, September 7 & 28 @ 10 a.m.\n\nDisclaimer: All aspects of in-person programming are subject to change based on health crisis guidelines and procedures
URL:https://ngrl.devtest.center/event/family-lego-all-ages/2024-09-28/
LOCATION:Calhoun-Gordon County Public Library\, 100 N Park Avenue\, Calhoun\, GA\, 30701\, United States
ATTACH;FMTTYPE=image/png:https://ngrl.devtest.center/wp-content/uploads/2021/09/All-Ages-Featured.png
END:VEVENT
BEGIN:VEVENT
DTSTART;TZID=America/New_York:20240907T100000
DTEND;TZID=America/New_York:20240907T113000
DTSTAMP:20260425T202124
CREATED:20240418T145151Z
LAST-MODIFIED:20240418T145151Z
UID:34845-1725703200-1725708600@ngrl.devtest.center
SUMMARY:Family Lego -- All Ages
DESCRIPTION:Open to all Ages. Join in the building fun with the whole family as we create anything we can dream of. \n\nSaturday\, May 4 & 18 @ 10 a.m.\nSaturday\, June 8 & 22 @ 10 a.m.\nSaturday\, July 6 & 20 @ 10 a.m.\nSaturday\, August 3 & 17 @ 10 a.m.\nSaturday\, September 7 & 28 @ 10 a.m.\n\nDisclaimer: All aspects of in-person programming are subject to change based on health crisis guidelines and procedures
URL:https://ngrl.devtest.center/event/family-lego-all-ages/2024-09-07/
LOCATION:Calhoun-Gordon County Public Library\, 100 N Park Avenue\, Calhoun\, GA\, 30701\, United States
ATTACH;FMTTYPE=image/png:https://ngrl.devtest.center/wp-content/uploads/2021/09/All-Ages-Featured.png
END:VEVENT
BEGIN:VEVENT
DTSTART;TZID=America/New_York:20240817T100000
DTEND;TZID=America/New_York:20240817T113000
DTSTAMP:20260425T202124
CREATED:20240418T145151Z
LAST-MODIFIED:20240821T153154Z
UID:34155-1723888800-1723894200@ngrl.devtest.center
SUMMARY:Family Lego -- All Ages
DESCRIPTION:Open to all Ages. Join in the building fun with the whole family as we create anything we can dream of. \n\nSaturday\, May 4 & 18 @ 10 a.m.\nSaturday\, June 8 & 22 @ 10 a.m.\nSaturday\, July 6 & 20 @ 10 a.m.\nSaturday\, August 3 & 17 @ 10 a.m.\nSaturday\, September 7 & 28 @ 10 a.m.\n\nDisclaimer: All aspects of in-person programming are subject to change based on health crisis guidelines and procedures
URL:https://ngrl.devtest.center/event/family-lego-all-ages/2024-08-17/
LOCATION:Calhoun-Gordon County Public Library\, 100 N Park Avenue\, Calhoun\, GA\, 30701\, United States
ATTACH;FMTTYPE=image/png:https://ngrl.devtest.center/wp-content/uploads/2021/09/All-Ages-Featured.png
END:VEVENT
BEGIN:VEVENT
DTSTART;TZID=America/New_York:20240803T100000
DTEND;TZID=America/New_York:20240803T113000
DTSTAMP:20260425T202124
CREATED:20240418T145151Z
LAST-MODIFIED:20240821T153153Z
UID:34154-1722679200-1722684600@ngrl.devtest.center
SUMMARY:Family Lego -- All Ages
DESCRIPTION:Open to all Ages. Join in the building fun with the whole family as we create anything we can dream of. \n\nSaturday\, May 4 & 18 @ 10 a.m.\nSaturday\, June 8 & 22 @ 10 a.m.\nSaturday\, July 6 & 20 @ 10 a.m.\nSaturday\, August 3 & 17 @ 10 a.m.\nSaturday\, September 7 & 28 @ 10 a.m.\n\nDisclaimer: All aspects of in-person programming are subject to change based on health crisis guidelines and procedures
URL:https://ngrl.devtest.center/event/family-lego-all-ages/2024-08-03/
LOCATION:Calhoun-Gordon County Public Library\, 100 N Park Avenue\, Calhoun\, GA\, 30701\, United States
ATTACH;FMTTYPE=image/png:https://ngrl.devtest.center/wp-content/uploads/2021/09/All-Ages-Featured.png
END:VEVENT
BEGIN:VEVENT
DTSTART;TZID=America/New_York:20240720T100000
DTEND;TZID=America/New_York:20240720T113000
DTSTAMP:20260425T202124
CREATED:20240418T145151Z
LAST-MODIFIED:20240821T153152Z
UID:33534-1721469600-1721475000@ngrl.devtest.center
SUMMARY:Family Lego -- All Ages
DESCRIPTION:Open to all Ages. Join in the building fun with the whole family as we create anything we can dream of. \n\nSaturday\, May 4 & 18 @ 10 a.m.\nSaturday\, June 8 & 22 @ 10 a.m.\nSaturday\, July 6 & 20 @ 10 a.m.\nSaturday\, August 3 & 17 @ 10 a.m.\nSaturday\, September 7 & 28 @ 10 a.m.\n\nDisclaimer: All aspects of in-person programming are subject to change based on health crisis guidelines and procedures
URL:https://ngrl.devtest.center/event/family-lego-all-ages/2024-07-20/
LOCATION:Calhoun-Gordon County Public Library\, 100 N Park Avenue\, Calhoun\, GA\, 30701\, United States
ATTACH;FMTTYPE=image/png:https://ngrl.devtest.center/wp-content/uploads/2021/09/All-Ages-Featured.png
END:VEVENT
BEGIN:VEVENT
DTSTART;TZID=America/New_York:20240706T100000
DTEND;TZID=America/New_York:20240706T113000
DTSTAMP:20260425T202124
CREATED:20240418T145151Z
LAST-MODIFIED:20240821T153151Z
UID:33533-1720260000-1720265400@ngrl.devtest.center
SUMMARY:Family Lego -- All Ages
DESCRIPTION:Open to all Ages. Join in the building fun with the whole family as we create anything we can dream of. \n\nSaturday\, May 4 & 18 @ 10 a.m.\nSaturday\, June 8 & 22 @ 10 a.m.\nSaturday\, July 6 & 20 @ 10 a.m.\nSaturday\, August 3 & 17 @ 10 a.m.\nSaturday\, September 7 & 28 @ 10 a.m.\n\nDisclaimer: All aspects of in-person programming are subject to change based on health crisis guidelines and procedures
URL:https://ngrl.devtest.center/event/family-lego-all-ages/2024-07-06/
LOCATION:Calhoun-Gordon County Public Library\, 100 N Park Avenue\, Calhoun\, GA\, 30701\, United States
ATTACH;FMTTYPE=image/png:https://ngrl.devtest.center/wp-content/uploads/2021/09/All-Ages-Featured.png
END:VEVENT
BEGIN:VEVENT
DTSTART;TZID=America/New_York:20240622T100000
DTEND;TZID=America/New_York:20240622T113000
DTSTAMP:20260425T202124
CREATED:20240418T145151Z
LAST-MODIFIED:20240821T153150Z
UID:33532-1719050400-1719055800@ngrl.devtest.center
SUMMARY:Family Lego -- All Ages
DESCRIPTION:Open to all Ages. Join in the building fun with the whole family as we create anything we can dream of. \n\nSaturday\, May 4 & 18 @ 10 a.m.\nSaturday\, June 8 & 22 @ 10 a.m.\nSaturday\, July 6 & 20 @ 10 a.m.\nSaturday\, August 3 & 17 @ 10 a.m.\nSaturday\, September 7 & 28 @ 10 a.m.\n\nDisclaimer: All aspects of in-person programming are subject to change based on health crisis guidelines and procedures
URL:https://ngrl.devtest.center/event/family-lego-all-ages/2024-06-22/
LOCATION:Calhoun-Gordon County Public Library\, 100 N Park Avenue\, Calhoun\, GA\, 30701\, United States
ATTACH;FMTTYPE=image/png:https://ngrl.devtest.center/wp-content/uploads/2021/09/All-Ages-Featured.png
END:VEVENT
BEGIN:VEVENT
DTSTART;TZID=America/New_York:20240608T100000
DTEND;TZID=America/New_York:20240608T113000
DTSTAMP:20260425T202124
CREATED:20240418T145151Z
LAST-MODIFIED:20240821T153148Z
UID:33531-1717840800-1717846200@ngrl.devtest.center
SUMMARY:Family Lego -- All Ages
DESCRIPTION:Open to all Ages. Join in the building fun with the whole family as we create anything we can dream of. \n\nSaturday\, May 4 & 18 @ 10 a.m.\nSaturday\, June 8 & 22 @ 10 a.m.\nSaturday\, July 6 & 20 @ 10 a.m.\nSaturday\, August 3 & 17 @ 10 a.m.\nSaturday\, September 7 & 28 @ 10 a.m.\n\nDisclaimer: All aspects of in-person programming are subject to change based on health crisis guidelines and procedures
URL:https://ngrl.devtest.center/event/family-lego-all-ages/2024-06-08/
LOCATION:Calhoun-Gordon County Public Library\, 100 N Park Avenue\, Calhoun\, GA\, 30701\, United States
ATTACH;FMTTYPE=image/png:https://ngrl.devtest.center/wp-content/uploads/2021/09/All-Ages-Featured.png
END:VEVENT
BEGIN:VEVENT
DTSTART;TZID=America/New_York:20240518T100000
DTEND;TZID=America/New_York:20240518T113000
DTSTAMP:20260425T202124
CREATED:20240418T145151Z
LAST-MODIFIED:20240821T153147Z
UID:33169-1716026400-1716031800@ngrl.devtest.center
SUMMARY:Family Lego -- All Ages
DESCRIPTION:Open to all Ages. Join in the building fun with the whole family as we create anything we can dream of. \n\nSaturday\, May 4 & 18 @ 10 a.m.\nSaturday\, June 8 & 22 @ 10 a.m.\nSaturday\, July 6 & 20 @ 10 a.m.\nSaturday\, August 3 & 17 @ 10 a.m.\nSaturday\, September 7 & 28 @ 10 a.m.\n\nDisclaimer: All aspects of in-person programming are subject to change based on health crisis guidelines and procedures
URL:https://ngrl.devtest.center/event/family-lego-all-ages/2024-05-18/
LOCATION:Calhoun-Gordon County Public Library\, 100 N Park Avenue\, Calhoun\, GA\, 30701\, United States
ATTACH;FMTTYPE=image/png:https://ngrl.devtest.center/wp-content/uploads/2021/09/All-Ages-Featured.png
END:VEVENT
BEGIN:VEVENT
DTSTART;TZID=America/New_York:20240504T100000
DTEND;TZID=America/New_York:20240504T113000
DTSTAMP:20260425T202124
CREATED:20240418T145151Z
LAST-MODIFIED:20240821T153144Z
UID:32753-1714816800-1714822200@ngrl.devtest.center
SUMMARY:Family Lego -- All Ages
DESCRIPTION:Open to all Ages. Join in the building fun with the whole family as we create anything we can dream of. \n\nSaturday\, May 4 & 18 @ 10 a.m.\nSaturday\, June 8 & 22 @ 10 a.m.\nSaturday\, July 6 & 20 @ 10 a.m.\nSaturday\, August 3 & 17 @ 10 a.m.\nSaturday\, September 7 & 28 @ 10 a.m.\n\nDisclaimer: All aspects of in-person programming are subject to change based on health crisis guidelines and procedures
URL:https://ngrl.devtest.center/event/family-lego-all-ages/2024-05-04/
LOCATION:Calhoun-Gordon County Public Library\, 100 N Park Avenue\, Calhoun\, GA\, 30701\, United States
ATTACH;FMTTYPE=image/png:https://ngrl.devtest.center/wp-content/uploads/2021/09/All-Ages-Featured.png
END:VEVENT
END:VCALENDAR