BEGIN:VCALENDAR
VERSION:2.0
PRODID:-//Northwest Georgia Regional Library System - ECPv6.15.17.1//NONSGML v1.0//EN
CALSCALE:GREGORIAN
METHOD:PUBLISH
X-ORIGINAL-URL:https://ngrl.devtest.center
X-WR-CALDESC:Events for Northwest Georgia Regional Library System
REFRESH-INTERVAL;VALUE=DURATION:PT1H
X-Robots-Tag:noindex
X-PUBLISHED-TTL:PT1H
BEGIN:VTIMEZONE
TZID:America/New_York
BEGIN:DAYLIGHT
TZOFFSETFROM:-0500
TZOFFSETTO:-0400
TZNAME:EDT
DTSTART:20230312T070000
END:DAYLIGHT
BEGIN:STANDARD
TZOFFSETFROM:-0400
TZOFFSETTO:-0500
TZNAME:EST
DTSTART:20231105T060000
END:STANDARD
BEGIN:DAYLIGHT
TZOFFSETFROM:-0500
TZOFFSETTO:-0400
TZNAME:EDT
DTSTART:20240310T070000
END:DAYLIGHT
BEGIN:STANDARD
TZOFFSETFROM:-0400
TZOFFSETTO:-0500
TZNAME:EST
DTSTART:20241103T060000
END:STANDARD
BEGIN:DAYLIGHT
TZOFFSETFROM:-0500
TZOFFSETTO:-0400
TZNAME:EDT
DTSTART:20250309T070000
END:DAYLIGHT
BEGIN:STANDARD
TZOFFSETFROM:-0400
TZOFFSETTO:-0500
TZNAME:EST
DTSTART:20251102T060000
END:STANDARD
END:VTIMEZONE
BEGIN:VEVENT
DTSTART;TZID=America/New_York:20241218T103000
DTEND;TZID=America/New_York:20241218T113000
DTSTAMP:20260423T052714
CREATED:20240503T124730Z
LAST-MODIFIED:20240503T124730Z
UID:37797-1734517800-1734521400@ngrl.devtest.center
SUMMARY:English Conversations -- Adults
DESCRIPTION:Open to ages 18 and older. ESOL Instructor Zach will be available to practice your English speech! \n\nWednesdays @ 10:30 a.m.\n\nDisclaimer: All aspects of in-person programming are subject to change based on health crisis guidelines and procedures.
URL:https://ngrl.devtest.center/event/english-conversations-adults/2024-12-18/
LOCATION:Calhoun-Gordon County Public Library\, 100 N Park Avenue\, Calhoun\, GA\, 30701\, United States
ATTACH;FMTTYPE=image/png:https://ngrl.devtest.center/wp-content/uploads/2021/09/Adults-Featured.png
END:VEVENT
BEGIN:VEVENT
DTSTART;TZID=America/New_York:20241211T103000
DTEND;TZID=America/New_York:20241211T113000
DTSTAMP:20260423T052714
CREATED:20240503T124730Z
LAST-MODIFIED:20240503T124730Z
UID:37796-1733913000-1733916600@ngrl.devtest.center
SUMMARY:English Conversations -- Adults
DESCRIPTION:Open to ages 18 and older. ESOL Instructor Zach will be available to practice your English speech! \n\nWednesdays @ 10:30 a.m.\n\nDisclaimer: All aspects of in-person programming are subject to change based on health crisis guidelines and procedures.
URL:https://ngrl.devtest.center/event/english-conversations-adults/2024-12-11/
LOCATION:Calhoun-Gordon County Public Library\, 100 N Park Avenue\, Calhoun\, GA\, 30701\, United States
ATTACH;FMTTYPE=image/png:https://ngrl.devtest.center/wp-content/uploads/2021/09/Adults-Featured.png
END:VEVENT
BEGIN:VEVENT
DTSTART;TZID=America/New_York:20241204T103000
DTEND;TZID=America/New_York:20241204T113000
DTSTAMP:20260423T052714
CREATED:20240503T124730Z
LAST-MODIFIED:20240503T124730Z
UID:37795-1733308200-1733311800@ngrl.devtest.center
SUMMARY:English Conversations -- Adults
DESCRIPTION:Open to ages 18 and older. ESOL Instructor Zach will be available to practice your English speech! \n\nWednesdays @ 10:30 a.m.\n\nDisclaimer: All aspects of in-person programming are subject to change based on health crisis guidelines and procedures.
URL:https://ngrl.devtest.center/event/english-conversations-adults/2024-12-04/
LOCATION:Calhoun-Gordon County Public Library\, 100 N Park Avenue\, Calhoun\, GA\, 30701\, United States
ATTACH;FMTTYPE=image/png:https://ngrl.devtest.center/wp-content/uploads/2021/09/Adults-Featured.png
END:VEVENT
BEGIN:VEVENT
DTSTART;TZID=America/New_York:20241127T103000
DTEND;TZID=America/New_York:20241127T113000
DTSTAMP:20260423T052714
CREATED:20240503T124730Z
LAST-MODIFIED:20241119T134344Z
UID:36781-1732703400-1732707000@ngrl.devtest.center
SUMMARY:English Conversations -- Adults
DESCRIPTION:Open to ages 18 and older. ESOL Instructor Zach will be available to practice your English speech! \n\nWednesdays @ 10:30 a.m.\n\nDisclaimer: All aspects of in-person programming are subject to change based on health crisis guidelines and procedures.
URL:https://ngrl.devtest.center/event/english-conversations-adults/2024-11-27/
LOCATION:Calhoun-Gordon County Public Library\, 100 N Park Avenue\, Calhoun\, GA\, 30701\, United States
ATTACH;FMTTYPE=image/png:https://ngrl.devtest.center/wp-content/uploads/2021/09/Adults-Featured.png
END:VEVENT
BEGIN:VEVENT
DTSTART;TZID=America/New_York:20241120T103000
DTEND;TZID=America/New_York:20241120T113000
DTSTAMP:20260423T052714
CREATED:20240503T124730Z
LAST-MODIFIED:20241119T134344Z
UID:36780-1732098600-1732102200@ngrl.devtest.center
SUMMARY:English Conversations -- Adults
DESCRIPTION:Open to ages 18 and older. ESOL Instructor Zach will be available to practice your English speech! \n\nWednesdays @ 10:30 a.m.\n\nDisclaimer: All aspects of in-person programming are subject to change based on health crisis guidelines and procedures.
URL:https://ngrl.devtest.center/event/english-conversations-adults/2024-11-20/
LOCATION:Calhoun-Gordon County Public Library\, 100 N Park Avenue\, Calhoun\, GA\, 30701\, United States
ATTACH;FMTTYPE=image/png:https://ngrl.devtest.center/wp-content/uploads/2021/09/Adults-Featured.png
END:VEVENT
BEGIN:VEVENT
DTSTART;TZID=America/New_York:20241113T103000
DTEND;TZID=America/New_York:20241113T113000
DTSTAMP:20260423T052714
CREATED:20240503T124730Z
LAST-MODIFIED:20241119T134344Z
UID:36779-1731493800-1731497400@ngrl.devtest.center
SUMMARY:English Conversations -- Adults
DESCRIPTION:Open to ages 18 and older. ESOL Instructor Zach will be available to practice your English speech! \n\nWednesdays @ 10:30 a.m.\n\nDisclaimer: All aspects of in-person programming are subject to change based on health crisis guidelines and procedures.
URL:https://ngrl.devtest.center/event/english-conversations-adults/2024-11-13/
LOCATION:Calhoun-Gordon County Public Library\, 100 N Park Avenue\, Calhoun\, GA\, 30701\, United States
ATTACH;FMTTYPE=image/png:https://ngrl.devtest.center/wp-content/uploads/2021/09/Adults-Featured.png
END:VEVENT
BEGIN:VEVENT
DTSTART;TZID=America/New_York:20241106T103000
DTEND;TZID=America/New_York:20241106T113000
DTSTAMP:20260423T052714
CREATED:20240503T124730Z
LAST-MODIFIED:20241119T134344Z
UID:36778-1730889000-1730892600@ngrl.devtest.center
SUMMARY:English Conversations -- Adults
DESCRIPTION:Open to ages 18 and older. ESOL Instructor Zach will be available to practice your English speech! \n\nWednesdays @ 10:30 a.m.\n\nDisclaimer: All aspects of in-person programming are subject to change based on health crisis guidelines and procedures.
URL:https://ngrl.devtest.center/event/english-conversations-adults/2024-11-06/
LOCATION:Calhoun-Gordon County Public Library\, 100 N Park Avenue\, Calhoun\, GA\, 30701\, United States
ATTACH;FMTTYPE=image/png:https://ngrl.devtest.center/wp-content/uploads/2021/09/Adults-Featured.png
END:VEVENT
BEGIN:VEVENT
DTSTART;TZID=America/New_York:20241030T103000
DTEND;TZID=America/New_York:20241030T113000
DTSTAMP:20260423T052714
CREATED:20240503T124730Z
LAST-MODIFIED:20241119T134343Z
UID:35977-1730284200-1730287800@ngrl.devtest.center
SUMMARY:English Conversations -- Adults
DESCRIPTION:Open to ages 18 and older. ESOL Instructor Zach will be available to practice your English speech! \n\nWednesdays @ 10:30 a.m.\n\nDisclaimer: All aspects of in-person programming are subject to change based on health crisis guidelines and procedures.
URL:https://ngrl.devtest.center/event/english-conversations-adults/2024-10-30/
LOCATION:Calhoun-Gordon County Public Library\, 100 N Park Avenue\, Calhoun\, GA\, 30701\, United States
ATTACH;FMTTYPE=image/png:https://ngrl.devtest.center/wp-content/uploads/2021/09/Adults-Featured.png
END:VEVENT
BEGIN:VEVENT
DTSTART;TZID=America/New_York:20241023T103000
DTEND;TZID=America/New_York:20241023T113000
DTSTAMP:20260423T052714
CREATED:20240503T124730Z
LAST-MODIFIED:20241119T134343Z
UID:35976-1729679400-1729683000@ngrl.devtest.center
SUMMARY:English Conversations -- Adults
DESCRIPTION:Open to ages 18 and older. ESOL Instructor Zach will be available to practice your English speech! \n\nWednesdays @ 10:30 a.m.\n\nDisclaimer: All aspects of in-person programming are subject to change based on health crisis guidelines and procedures.
URL:https://ngrl.devtest.center/event/english-conversations-adults/2024-10-23/
LOCATION:Calhoun-Gordon County Public Library\, 100 N Park Avenue\, Calhoun\, GA\, 30701\, United States
ATTACH;FMTTYPE=image/png:https://ngrl.devtest.center/wp-content/uploads/2021/09/Adults-Featured.png
END:VEVENT
BEGIN:VEVENT
DTSTART;TZID=America/New_York:20241016T103000
DTEND;TZID=America/New_York:20241016T113000
DTSTAMP:20260423T052714
CREATED:20240503T124730Z
LAST-MODIFIED:20241119T134343Z
UID:35975-1729074600-1729078200@ngrl.devtest.center
SUMMARY:English Conversations -- Adults
DESCRIPTION:Open to ages 18 and older. ESOL Instructor Zach will be available to practice your English speech! \n\nWednesdays @ 10:30 a.m.\n\nDisclaimer: All aspects of in-person programming are subject to change based on health crisis guidelines and procedures.
URL:https://ngrl.devtest.center/event/english-conversations-adults/2024-10-16/
LOCATION:Calhoun-Gordon County Public Library\, 100 N Park Avenue\, Calhoun\, GA\, 30701\, United States
ATTACH;FMTTYPE=image/png:https://ngrl.devtest.center/wp-content/uploads/2021/09/Adults-Featured.png
END:VEVENT
BEGIN:VEVENT
DTSTART;TZID=America/New_York:20241009T103000
DTEND;TZID=America/New_York:20241009T113000
DTSTAMP:20260423T052714
CREATED:20240503T124730Z
LAST-MODIFIED:20241119T134341Z
UID:35974-1728469800-1728473400@ngrl.devtest.center
SUMMARY:English Conversations -- Adults
DESCRIPTION:Open to ages 18 and older. ESOL Instructor Zach will be available to practice your English speech! \n\nWednesdays @ 10:30 a.m.\n\nDisclaimer: All aspects of in-person programming are subject to change based on health crisis guidelines and procedures.
URL:https://ngrl.devtest.center/event/english-conversations-adults/2024-10-09/
LOCATION:Calhoun-Gordon County Public Library\, 100 N Park Avenue\, Calhoun\, GA\, 30701\, United States
ATTACH;FMTTYPE=image/png:https://ngrl.devtest.center/wp-content/uploads/2021/09/Adults-Featured.png
END:VEVENT
BEGIN:VEVENT
DTSTART;TZID=America/New_York:20241002T103000
DTEND;TZID=America/New_York:20241002T113000
DTSTAMP:20260423T052714
CREATED:20240503T124730Z
LAST-MODIFIED:20241119T134341Z
UID:35973-1727865000-1727868600@ngrl.devtest.center
SUMMARY:English Conversations -- Adults
DESCRIPTION:Open to ages 18 and older. ESOL Instructor Zach will be available to practice your English speech! \n\nWednesdays @ 10:30 a.m.\n\nDisclaimer: All aspects of in-person programming are subject to change based on health crisis guidelines and procedures.
URL:https://ngrl.devtest.center/event/english-conversations-adults/2024-10-02/
LOCATION:Calhoun-Gordon County Public Library\, 100 N Park Avenue\, Calhoun\, GA\, 30701\, United States
ATTACH;FMTTYPE=image/png:https://ngrl.devtest.center/wp-content/uploads/2021/09/Adults-Featured.png
END:VEVENT
BEGIN:VEVENT
DTSTART;TZID=America/New_York:20240925T103000
DTEND;TZID=America/New_York:20240925T113000
DTSTAMP:20260423T052714
CREATED:20240503T124730Z
LAST-MODIFIED:20241119T134341Z
UID:35036-1727260200-1727263800@ngrl.devtest.center
SUMMARY:English Conversations -- Adults
DESCRIPTION:Open to ages 18 and older. ESOL Instructor Zach will be available to practice your English speech! \n\nWednesdays @ 10:30 a.m.\n\nDisclaimer: All aspects of in-person programming are subject to change based on health crisis guidelines and procedures.
URL:https://ngrl.devtest.center/event/english-conversations-adults/2024-09-25/
LOCATION:Calhoun-Gordon County Public Library\, 100 N Park Avenue\, Calhoun\, GA\, 30701\, United States
ATTACH;FMTTYPE=image/png:https://ngrl.devtest.center/wp-content/uploads/2021/09/Adults-Featured.png
END:VEVENT
BEGIN:VEVENT
DTSTART;TZID=America/New_York:20240918T103000
DTEND;TZID=America/New_York:20240918T113000
DTSTAMP:20260423T052714
CREATED:20240503T124730Z
LAST-MODIFIED:20241119T134340Z
UID:35035-1726655400-1726659000@ngrl.devtest.center
SUMMARY:English Conversations -- Adults
DESCRIPTION:Open to ages 18 and older. ESOL Instructor Zach will be available to practice your English speech! \n\nWednesdays @ 10:30 a.m.\n\nDisclaimer: All aspects of in-person programming are subject to change based on health crisis guidelines and procedures.
URL:https://ngrl.devtest.center/event/english-conversations-adults/2024-09-18/
LOCATION:Calhoun-Gordon County Public Library\, 100 N Park Avenue\, Calhoun\, GA\, 30701\, United States
ATTACH;FMTTYPE=image/png:https://ngrl.devtest.center/wp-content/uploads/2021/09/Adults-Featured.png
END:VEVENT
BEGIN:VEVENT
DTSTART;TZID=America/New_York:20240911T103000
DTEND;TZID=America/New_York:20240911T113000
DTSTAMP:20260423T052714
CREATED:20240503T124730Z
LAST-MODIFIED:20241119T134340Z
UID:35034-1726050600-1726054200@ngrl.devtest.center
SUMMARY:English Conversations -- Adults
DESCRIPTION:Open to ages 18 and older. ESOL Instructor Zach will be available to practice your English speech! \n\nWednesdays @ 10:30 a.m.\n\nDisclaimer: All aspects of in-person programming are subject to change based on health crisis guidelines and procedures.
URL:https://ngrl.devtest.center/event/english-conversations-adults/2024-09-11/
LOCATION:Calhoun-Gordon County Public Library\, 100 N Park Avenue\, Calhoun\, GA\, 30701\, United States
ATTACH;FMTTYPE=image/png:https://ngrl.devtest.center/wp-content/uploads/2021/09/Adults-Featured.png
END:VEVENT
BEGIN:VEVENT
DTSTART;TZID=America/New_York:20240904T103000
DTEND;TZID=America/New_York:20240904T113000
DTSTAMP:20260423T052714
CREATED:20240503T124730Z
LAST-MODIFIED:20241119T134339Z
UID:35033-1725445800-1725449400@ngrl.devtest.center
SUMMARY:English Conversations -- Adults
DESCRIPTION:Open to ages 18 and older. ESOL Instructor Zach will be available to practice your English speech! \n\nWednesdays @ 10:30 a.m.\n\nDisclaimer: All aspects of in-person programming are subject to change based on health crisis guidelines and procedures.
URL:https://ngrl.devtest.center/event/english-conversations-adults/2024-09-04/
LOCATION:Calhoun-Gordon County Public Library\, 100 N Park Avenue\, Calhoun\, GA\, 30701\, United States
ATTACH;FMTTYPE=image/png:https://ngrl.devtest.center/wp-content/uploads/2021/09/Adults-Featured.png
END:VEVENT
BEGIN:VEVENT
DTSTART;TZID=America/New_York:20240828T103000
DTEND;TZID=America/New_York:20240828T113000
DTSTAMP:20260423T052714
CREATED:20240503T124730Z
LAST-MODIFIED:20241119T134339Z
UID:34236-1724841000-1724844600@ngrl.devtest.center
SUMMARY:English Conversations -- Adults
DESCRIPTION:Open to ages 18 and older. ESOL Instructor Zach will be available to practice your English speech! \n\nWednesdays @ 10:30 a.m.\n\nDisclaimer: All aspects of in-person programming are subject to change based on health crisis guidelines and procedures.
URL:https://ngrl.devtest.center/event/english-conversations-adults/2024-08-28/
LOCATION:Calhoun-Gordon County Public Library\, 100 N Park Avenue\, Calhoun\, GA\, 30701\, United States
ATTACH;FMTTYPE=image/png:https://ngrl.devtest.center/wp-content/uploads/2021/09/Adults-Featured.png
END:VEVENT
BEGIN:VEVENT
DTSTART;TZID=America/New_York:20240821T103000
DTEND;TZID=America/New_York:20240821T113000
DTSTAMP:20260423T052714
CREATED:20240503T124730Z
LAST-MODIFIED:20241119T134339Z
UID:34235-1724236200-1724239800@ngrl.devtest.center
SUMMARY:English Conversations -- Adults
DESCRIPTION:Open to ages 18 and older. ESOL Instructor Zach will be available to practice your English speech! \n\nWednesdays @ 10:30 a.m.\n\nDisclaimer: All aspects of in-person programming are subject to change based on health crisis guidelines and procedures.
URL:https://ngrl.devtest.center/event/english-conversations-adults/2024-08-21/
LOCATION:Calhoun-Gordon County Public Library\, 100 N Park Avenue\, Calhoun\, GA\, 30701\, United States
ATTACH;FMTTYPE=image/png:https://ngrl.devtest.center/wp-content/uploads/2021/09/Adults-Featured.png
END:VEVENT
BEGIN:VEVENT
DTSTART;TZID=America/New_York:20240814T103000
DTEND;TZID=America/New_York:20240814T113000
DTSTAMP:20260423T052714
CREATED:20240503T124730Z
LAST-MODIFIED:20241119T134338Z
UID:34234-1723631400-1723635000@ngrl.devtest.center
SUMMARY:English Conversations -- Adults
DESCRIPTION:Open to ages 18 and older. ESOL Instructor Zach will be available to practice your English speech! \n\nWednesdays @ 10:30 a.m.\n\nDisclaimer: All aspects of in-person programming are subject to change based on health crisis guidelines and procedures.
URL:https://ngrl.devtest.center/event/english-conversations-adults/2024-08-14/
LOCATION:Calhoun-Gordon County Public Library\, 100 N Park Avenue\, Calhoun\, GA\, 30701\, United States
ATTACH;FMTTYPE=image/png:https://ngrl.devtest.center/wp-content/uploads/2021/09/Adults-Featured.png
END:VEVENT
BEGIN:VEVENT
DTSTART;TZID=America/New_York:20240807T103000
DTEND;TZID=America/New_York:20240807T113000
DTSTAMP:20260423T052714
CREATED:20240503T124730Z
LAST-MODIFIED:20241119T134338Z
UID:34233-1723026600-1723030200@ngrl.devtest.center
SUMMARY:English Conversations -- Adults
DESCRIPTION:Open to ages 18 and older. ESOL Instructor Zach will be available to practice your English speech! \n\nWednesdays @ 10:30 a.m.\n\nDisclaimer: All aspects of in-person programming are subject to change based on health crisis guidelines and procedures.
URL:https://ngrl.devtest.center/event/english-conversations-adults/2024-08-07/
LOCATION:Calhoun-Gordon County Public Library\, 100 N Park Avenue\, Calhoun\, GA\, 30701\, United States
ATTACH;FMTTYPE=image/png:https://ngrl.devtest.center/wp-content/uploads/2021/09/Adults-Featured.png
END:VEVENT
BEGIN:VEVENT
DTSTART;TZID=America/New_York:20240731T103000
DTEND;TZID=America/New_York:20240731T113000
DTSTAMP:20260423T052714
CREATED:20240503T124730Z
LAST-MODIFIED:20241119T134333Z
UID:33605-1722421800-1722425400@ngrl.devtest.center
SUMMARY:English Conversations -- Adults
DESCRIPTION:Open to ages 18 and older. ESOL Instructor Zach will be available to practice your English speech! \n\nWednesdays @ 10:30 a.m.\n\nDisclaimer: All aspects of in-person programming are subject to change based on health crisis guidelines and procedures.
URL:https://ngrl.devtest.center/event/english-conversations-adults/2024-07-31/
LOCATION:Calhoun-Gordon County Public Library\, 100 N Park Avenue\, Calhoun\, GA\, 30701\, United States
ATTACH;FMTTYPE=image/png:https://ngrl.devtest.center/wp-content/uploads/2021/09/Adults-Featured.png
END:VEVENT
BEGIN:VEVENT
DTSTART;TZID=America/New_York:20240724T103000
DTEND;TZID=America/New_York:20240724T113000
DTSTAMP:20260423T052714
CREATED:20240503T124730Z
LAST-MODIFIED:20241119T134332Z
UID:33604-1721817000-1721820600@ngrl.devtest.center
SUMMARY:English Conversations -- Adults
DESCRIPTION:Open to ages 18 and older. ESOL Instructor Zach will be available to practice your English speech! \n\nWednesdays @ 10:30 a.m.\n\nDisclaimer: All aspects of in-person programming are subject to change based on health crisis guidelines and procedures.
URL:https://ngrl.devtest.center/event/english-conversations-adults/2024-07-24/
LOCATION:Calhoun-Gordon County Public Library\, 100 N Park Avenue\, Calhoun\, GA\, 30701\, United States
ATTACH;FMTTYPE=image/png:https://ngrl.devtest.center/wp-content/uploads/2021/09/Adults-Featured.png
END:VEVENT
BEGIN:VEVENT
DTSTART;TZID=America/New_York:20240717T103000
DTEND;TZID=America/New_York:20240717T113000
DTSTAMP:20260423T052714
CREATED:20240503T124730Z
LAST-MODIFIED:20241119T134332Z
UID:33603-1721212200-1721215800@ngrl.devtest.center
SUMMARY:English Conversations -- Adults
DESCRIPTION:Open to ages 18 and older. ESOL Instructor Zach will be available to practice your English speech! \n\nWednesdays @ 10:30 a.m.\n\nDisclaimer: All aspects of in-person programming are subject to change based on health crisis guidelines and procedures.
URL:https://ngrl.devtest.center/event/english-conversations-adults/2024-07-17/
LOCATION:Calhoun-Gordon County Public Library\, 100 N Park Avenue\, Calhoun\, GA\, 30701\, United States
ATTACH;FMTTYPE=image/png:https://ngrl.devtest.center/wp-content/uploads/2021/09/Adults-Featured.png
END:VEVENT
BEGIN:VEVENT
DTSTART;TZID=America/New_York:20240710T103000
DTEND;TZID=America/New_York:20240710T113000
DTSTAMP:20260423T052714
CREATED:20240503T124730Z
LAST-MODIFIED:20241119T134331Z
UID:33602-1720607400-1720611000@ngrl.devtest.center
SUMMARY:English Conversations -- Adults
DESCRIPTION:Open to ages 18 and older. ESOL Instructor Zach will be available to practice your English speech! \n\nWednesdays @ 10:30 a.m.\n\nDisclaimer: All aspects of in-person programming are subject to change based on health crisis guidelines and procedures.
URL:https://ngrl.devtest.center/event/english-conversations-adults/2024-07-10/
LOCATION:Calhoun-Gordon County Public Library\, 100 N Park Avenue\, Calhoun\, GA\, 30701\, United States
ATTACH;FMTTYPE=image/png:https://ngrl.devtest.center/wp-content/uploads/2021/09/Adults-Featured.png
END:VEVENT
BEGIN:VEVENT
DTSTART;TZID=America/New_York:20240703T103000
DTEND;TZID=America/New_York:20240703T113000
DTSTAMP:20260423T052714
CREATED:20240503T124730Z
LAST-MODIFIED:20241119T134331Z
UID:33601-1720002600-1720006200@ngrl.devtest.center
SUMMARY:English Conversations -- Adults
DESCRIPTION:Open to ages 18 and older. ESOL Instructor Zach will be available to practice your English speech! \n\nWednesdays @ 10:30 a.m.\n\nDisclaimer: All aspects of in-person programming are subject to change based on health crisis guidelines and procedures.
URL:https://ngrl.devtest.center/event/english-conversations-adults/2024-07-03/
LOCATION:Calhoun-Gordon County Public Library\, 100 N Park Avenue\, Calhoun\, GA\, 30701\, United States
ATTACH;FMTTYPE=image/png:https://ngrl.devtest.center/wp-content/uploads/2021/09/Adults-Featured.png
END:VEVENT
BEGIN:VEVENT
DTSTART;TZID=America/New_York:20240626T103000
DTEND;TZID=America/New_York:20240626T113000
DTSTAMP:20260423T052714
CREATED:20240503T124730Z
LAST-MODIFIED:20241119T134330Z
UID:33600-1719397800-1719401400@ngrl.devtest.center
SUMMARY:English Conversations -- Adults
DESCRIPTION:Open to ages 18 and older. ESOL Instructor Zach will be available to practice your English speech! \n\nWednesdays @ 10:30 a.m.\n\nDisclaimer: All aspects of in-person programming are subject to change based on health crisis guidelines and procedures.
URL:https://ngrl.devtest.center/event/english-conversations-adults/2024-06-26/
LOCATION:Calhoun-Gordon County Public Library\, 100 N Park Avenue\, Calhoun\, GA\, 30701\, United States
ATTACH;FMTTYPE=image/png:https://ngrl.devtest.center/wp-content/uploads/2021/09/Adults-Featured.png
END:VEVENT
BEGIN:VEVENT
DTSTART;TZID=America/New_York:20240612T103000
DTEND;TZID=America/New_York:20240612T113000
DTSTAMP:20260423T052714
CREATED:20240503T124730Z
LAST-MODIFIED:20241119T134330Z
UID:33598-1718188200-1718191800@ngrl.devtest.center
SUMMARY:English Conversations -- Adults
DESCRIPTION:Open to ages 18 and older. ESOL Instructor Zach will be available to practice your English speech! \n\nWednesdays @ 10:30 a.m.\n\nDisclaimer: All aspects of in-person programming are subject to change based on health crisis guidelines and procedures.
URL:https://ngrl.devtest.center/event/english-conversations-adults/2024-06-12/
LOCATION:Calhoun-Gordon County Public Library\, 100 N Park Avenue\, Calhoun\, GA\, 30701\, United States
ATTACH;FMTTYPE=image/png:https://ngrl.devtest.center/wp-content/uploads/2021/09/Adults-Featured.png
END:VEVENT
BEGIN:VEVENT
DTSTART;TZID=America/New_York:20240605T103000
DTEND;TZID=America/New_York:20240605T113000
DTSTAMP:20260423T052714
CREATED:20240503T124730Z
LAST-MODIFIED:20241119T134328Z
UID:33597-1717583400-1717587000@ngrl.devtest.center
SUMMARY:English Conversations -- Adults
DESCRIPTION:Open to ages 18 and older. ESOL Instructor Zach will be available to practice your English speech! \n\nWednesdays @ 10:30 a.m.\n\nDisclaimer: All aspects of in-person programming are subject to change based on health crisis guidelines and procedures.
URL:https://ngrl.devtest.center/event/english-conversations-adults/2024-06-05/
LOCATION:Calhoun-Gordon County Public Library\, 100 N Park Avenue\, Calhoun\, GA\, 30701\, United States
ATTACH;FMTTYPE=image/png:https://ngrl.devtest.center/wp-content/uploads/2021/09/Adults-Featured.png
END:VEVENT
END:VCALENDAR