BEGIN:VCALENDAR
VERSION:2.0
PRODID:-//Northwest Georgia Regional Library System - ECPv6.15.17.1//NONSGML v1.0//EN
CALSCALE:GREGORIAN
METHOD:PUBLISH
X-WR-CALNAME:Northwest Georgia Regional Library System
X-ORIGINAL-URL:https://ngrl.devtest.center
X-WR-CALDESC:Events for Northwest Georgia Regional Library System
REFRESH-INTERVAL;VALUE=DURATION:PT1H
X-Robots-Tag:noindex
X-PUBLISHED-TTL:PT1H
BEGIN:VTIMEZONE
TZID:America/New_York
BEGIN:DAYLIGHT
TZOFFSETFROM:-0500
TZOFFSETTO:-0400
TZNAME:EDT
DTSTART:20230312T070000
END:DAYLIGHT
BEGIN:STANDARD
TZOFFSETFROM:-0400
TZOFFSETTO:-0500
TZNAME:EST
DTSTART:20231105T060000
END:STANDARD
BEGIN:DAYLIGHT
TZOFFSETFROM:-0500
TZOFFSETTO:-0400
TZNAME:EDT
DTSTART:20240310T070000
END:DAYLIGHT
BEGIN:STANDARD
TZOFFSETFROM:-0400
TZOFFSETTO:-0500
TZNAME:EST
DTSTART:20241103T060000
END:STANDARD
BEGIN:DAYLIGHT
TZOFFSETFROM:-0500
TZOFFSETTO:-0400
TZNAME:EDT
DTSTART:20250309T070000
END:DAYLIGHT
BEGIN:STANDARD
TZOFFSETFROM:-0400
TZOFFSETTO:-0500
TZNAME:EST
DTSTART:20251102T060000
END:STANDARD
END:VTIMEZONE
BEGIN:VEVENT
DTSTART;VALUE=DATE:20241226
DTEND;VALUE=DATE:20241227
DTSTAMP:20260422T233900
CREATED:20231220T160725Z
LAST-MODIFIED:20231220T160725Z
UID:30426-1735171200-1735257599@ngrl.devtest.center
SUMMARY:CLOSED for Christmas -- All NGRL Branches
DESCRIPTION:We will be closed for Christmas. We hope that all members of our community can spend this time with loved ones and friends. The bookdrop will be open for returns. \n\nCLOSED Tuesday\, December 24\nCLOSED Wednesday\, December 25\nCLOSED Thursday\, December 26\n\nNo materials will be due while we are closed. Downloadable items will still be available.
URL:https://ngrl.devtest.center/event/closed-for-christmas-all-ngrl-branches-2/2024-12-26/
ATTACH;FMTTYPE=image/png:https://ngrl.devtest.center/wp-content/uploads/2021/09/Closed-Featured.png
END:VEVENT
BEGIN:VEVENT
DTSTART;VALUE=DATE:20241225
DTEND;VALUE=DATE:20241226
DTSTAMP:20260422T233900
CREATED:20231220T160725Z
LAST-MODIFIED:20231220T160725Z
UID:30425-1735084800-1735171199@ngrl.devtest.center
SUMMARY:CLOSED for Christmas -- All NGRL Branches
DESCRIPTION:We will be closed for Christmas. We hope that all members of our community can spend this time with loved ones and friends. The bookdrop will be open for returns. \n\nCLOSED Tuesday\, December 24\nCLOSED Wednesday\, December 25\nCLOSED Thursday\, December 26\n\nNo materials will be due while we are closed. Downloadable items will still be available.
URL:https://ngrl.devtest.center/event/closed-for-christmas-all-ngrl-branches-2/2024-12-25/
ATTACH;FMTTYPE=image/png:https://ngrl.devtest.center/wp-content/uploads/2021/09/Closed-Featured.png
END:VEVENT
BEGIN:VEVENT
DTSTART;VALUE=DATE:20241224
DTEND;VALUE=DATE:20241225
DTSTAMP:20260422T233900
CREATED:20231220T160725Z
LAST-MODIFIED:20231220T160725Z
UID:30424-1734998400-1735084799@ngrl.devtest.center
SUMMARY:CLOSED for Christmas -- All NGRL Branches
DESCRIPTION:We will be closed for Christmas. We hope that all members of our community can spend this time with loved ones and friends. The bookdrop will be open for returns. \n\nCLOSED Tuesday\, December 24\nCLOSED Wednesday\, December 25\nCLOSED Thursday\, December 26\n\nNo materials will be due while we are closed. Downloadable items will still be available.
URL:https://ngrl.devtest.center/event/closed-for-christmas-all-ngrl-branches-2/
ATTACH;FMTTYPE=image/png:https://ngrl.devtest.center/wp-content/uploads/2021/09/Closed-Featured.png
END:VEVENT
END:VCALENDAR