BEGIN:VCALENDAR
VERSION:2.0
PRODID:-//Northwest Georgia Regional Library System - ECPv6.15.17.1//NONSGML v1.0//EN
CALSCALE:GREGORIAN
METHOD:PUBLISH
X-WR-CALNAME:Northwest Georgia Regional Library System
X-ORIGINAL-URL:https://ngrl.devtest.center
X-WR-CALDESC:Events for Northwest Georgia Regional Library System
REFRESH-INTERVAL;VALUE=DURATION:PT1H
X-Robots-Tag:noindex
X-PUBLISHED-TTL:PT1H
BEGIN:VTIMEZONE
TZID:America/New_York
BEGIN:DAYLIGHT
TZOFFSETFROM:-0500
TZOFFSETTO:-0400
TZNAME:EDT
DTSTART:20230312T070000
END:DAYLIGHT
BEGIN:STANDARD
TZOFFSETFROM:-0400
TZOFFSETTO:-0500
TZNAME:EST
DTSTART:20231105T060000
END:STANDARD
BEGIN:DAYLIGHT
TZOFFSETFROM:-0500
TZOFFSETTO:-0400
TZNAME:EDT
DTSTART:20240310T070000
END:DAYLIGHT
BEGIN:STANDARD
TZOFFSETFROM:-0400
TZOFFSETTO:-0500
TZNAME:EST
DTSTART:20241103T060000
END:STANDARD
BEGIN:DAYLIGHT
TZOFFSETFROM:-0500
TZOFFSETTO:-0400
TZNAME:EDT
DTSTART:20250309T070000
END:DAYLIGHT
BEGIN:STANDARD
TZOFFSETFROM:-0400
TZOFFSETTO:-0500
TZNAME:EST
DTSTART:20251102T060000
END:STANDARD
BEGIN:DAYLIGHT
TZOFFSETFROM:-0500
TZOFFSETTO:-0400
TZNAME:EDT
DTSTART:20260308T070000
END:DAYLIGHT
BEGIN:STANDARD
TZOFFSETFROM:-0400
TZOFFSETTO:-0500
TZNAME:EST
DTSTART:20261101T060000
END:STANDARD
END:VTIMEZONE
BEGIN:VEVENT
DTSTART;TZID=America/New_York:20250318T160000
DTEND;TZID=America/New_York:20250318T170000
DTSTAMP:20260424T010731
CREATED:20230316T215153Z
LAST-MODIFIED:20230316T215153Z
UID:42471-1742313600-1742317200@ngrl.devtest.center
SUMMARY:Book Club -- Tweens
DESCRIPTION:Open to 3rd – 6th grade. \nGather to enjoy some book club fun. Participants can share what they have learned and read in a fun and casual setting. \n\nFriday\, April 14 @ 4:30 p.m.\nTuesday\, May 14 @ 4 p.m.\nTuesday\, May 28 @ 4 p.m.\nTuesday\, June 11 @ 4 p.m.\nTuesday\, June 25 @ 4 p.m.\nTuesday\, July 9 @ 4 p.m.\nTuesday\, July 23 @ 4 p.m.\nTuesday\, August 6 @ 4 p.m.\nTuesday\, August 20 @ 4 p.m.\nTuesday\, September 3 & 17 @ 4 p.m.\nTuesday\, October 1 & 15 @ 4 p.m.\nTuesday\, November 5 & 19 @ 4 p.m.\nTuesday\, December 3 & 17 @ 4 p.m.\nTuesday\, January 14 @ 4 p.m.\nTuesday\, February 18 @ 4 p.m.\nTuesday\, March 18 @ 4 p.m.\n\nDisclaimer: All aspects of in-person programming are subject to change based on health crisis guidelines and procedures.
URL:https://ngrl.devtest.center/event/book-club-tweens-teens-2-2024-05-14-2024-05-28/2025-03-18/
LOCATION:Calhoun-Gordon County Public Library\, 100 N Park Avenue\, Calhoun\, GA\, 30701\, United States
ATTACH;FMTTYPE=image/png:https://ngrl.devtest.center/wp-content/uploads/2021/09/Teens-Featured.png
END:VEVENT
BEGIN:VEVENT
DTSTART;TZID=America/New_York:20250218T160000
DTEND;TZID=America/New_York:20250218T170000
DTSTAMP:20260424T010731
CREATED:20230316T215153Z
LAST-MODIFIED:20250224T154202Z
UID:41460-1739894400-1739898000@ngrl.devtest.center
SUMMARY:Book Club -- Tweens
DESCRIPTION:Open to 3rd – 6th grade. \nGather to enjoy some book club fun. Participants can share what they have learned and read in a fun and casual setting. \n\nFriday\, April 14 @ 4:30 p.m.\nTuesday\, May 14 @ 4 p.m.\nTuesday\, May 28 @ 4 p.m.\nTuesday\, June 11 @ 4 p.m.\nTuesday\, June 25 @ 4 p.m.\nTuesday\, July 9 @ 4 p.m.\nTuesday\, July 23 @ 4 p.m.\nTuesday\, August 6 @ 4 p.m.\nTuesday\, August 20 @ 4 p.m.\nTuesday\, September 3 & 17 @ 4 p.m.\nTuesday\, October 1 & 15 @ 4 p.m.\nTuesday\, November 5 & 19 @ 4 p.m.\nTuesday\, December 3 & 17 @ 4 p.m.\nTuesday\, January 14 @ 4 p.m.\nTuesday\, February 18 @ 4 p.m.\nTuesday\, March 18 @ 4 p.m.\n\nDisclaimer: All aspects of in-person programming are subject to change based on health crisis guidelines and procedures.
URL:https://ngrl.devtest.center/event/book-club-tweens-teens-2-2024-05-14-2024-05-28/2025-02-18/
LOCATION:Calhoun-Gordon County Public Library\, 100 N Park Avenue\, Calhoun\, GA\, 30701\, United States
ATTACH;FMTTYPE=image/png:https://ngrl.devtest.center/wp-content/uploads/2021/09/Teens-Featured.png
END:VEVENT
BEGIN:VEVENT
DTSTART;TZID=America/New_York:20250114T160000
DTEND;TZID=America/New_York:20250114T170000
DTSTAMP:20260424T010731
CREATED:20230316T215153Z
LAST-MODIFIED:20250224T154202Z
UID:38867-1736870400-1736874000@ngrl.devtest.center
SUMMARY:Book Club -- Tweens
DESCRIPTION:Open to 3rd – 6th grade. \nGather to enjoy some book club fun. Participants can share what they have learned and read in a fun and casual setting. \n\nFriday\, April 14 @ 4:30 p.m.\nTuesday\, May 14 @ 4 p.m.\nTuesday\, May 28 @ 4 p.m.\nTuesday\, June 11 @ 4 p.m.\nTuesday\, June 25 @ 4 p.m.\nTuesday\, July 9 @ 4 p.m.\nTuesday\, July 23 @ 4 p.m.\nTuesday\, August 6 @ 4 p.m.\nTuesday\, August 20 @ 4 p.m.\nTuesday\, September 3 & 17 @ 4 p.m.\nTuesday\, October 1 & 15 @ 4 p.m.\nTuesday\, November 5 & 19 @ 4 p.m.\nTuesday\, December 3 & 17 @ 4 p.m.\nTuesday\, January 14 @ 4 p.m.\nTuesday\, February 18 @ 4 p.m.\nTuesday\, March 18 @ 4 p.m.\n\nDisclaimer: All aspects of in-person programming are subject to change based on health crisis guidelines and procedures.
URL:https://ngrl.devtest.center/event/book-club-tweens-teens-2-2024-05-14-2024-05-28/2025-01-14/
LOCATION:Calhoun-Gordon County Public Library\, 100 N Park Avenue\, Calhoun\, GA\, 30701\, United States
ATTACH;FMTTYPE=image/png:https://ngrl.devtest.center/wp-content/uploads/2021/09/Teens-Featured.png
END:VEVENT
BEGIN:VEVENT
DTSTART;TZID=America/New_York:20241217T160000
DTEND;TZID=America/New_York:20241217T170000
DTSTAMP:20260424T010731
CREATED:20230316T215153Z
LAST-MODIFIED:20250224T154202Z
UID:37871-1734451200-1734454800@ngrl.devtest.center
SUMMARY:Book Club -- Tweens
DESCRIPTION:Open to 3rd – 6th grade. \nGather to enjoy some book club fun. Participants can share what they have learned and read in a fun and casual setting. \n\nFriday\, April 14 @ 4:30 p.m.\nTuesday\, May 14 @ 4 p.m.\nTuesday\, May 28 @ 4 p.m.\nTuesday\, June 11 @ 4 p.m.\nTuesday\, June 25 @ 4 p.m.\nTuesday\, July 9 @ 4 p.m.\nTuesday\, July 23 @ 4 p.m.\nTuesday\, August 6 @ 4 p.m.\nTuesday\, August 20 @ 4 p.m.\nTuesday\, September 3 & 17 @ 4 p.m.\nTuesday\, October 1 & 15 @ 4 p.m.\nTuesday\, November 5 & 19 @ 4 p.m.\nTuesday\, December 3 & 17 @ 4 p.m.\nTuesday\, January 14 @ 4 p.m.\nTuesday\, February 18 @ 4 p.m.\nTuesday\, March 18 @ 4 p.m.\n\nDisclaimer: All aspects of in-person programming are subject to change based on health crisis guidelines and procedures.
URL:https://ngrl.devtest.center/event/book-club-tweens-teens-2-2024-05-14-2024-05-28/2024-12-17/
LOCATION:Calhoun-Gordon County Public Library\, 100 N Park Avenue\, Calhoun\, GA\, 30701\, United States
ATTACH;FMTTYPE=image/png:https://ngrl.devtest.center/wp-content/uploads/2021/09/Teens-Featured.png
END:VEVENT
BEGIN:VEVENT
DTSTART;TZID=America/New_York:20241203T160000
DTEND;TZID=America/New_York:20241203T170000
DTSTAMP:20260424T010731
CREATED:20230316T215153Z
LAST-MODIFIED:20250224T154201Z
UID:37870-1733241600-1733245200@ngrl.devtest.center
SUMMARY:Book Club -- Tweens
DESCRIPTION:Open to 3rd – 6th grade. \nGather to enjoy some book club fun. Participants can share what they have learned and read in a fun and casual setting. \n\nFriday\, April 14 @ 4:30 p.m.\nTuesday\, May 14 @ 4 p.m.\nTuesday\, May 28 @ 4 p.m.\nTuesday\, June 11 @ 4 p.m.\nTuesday\, June 25 @ 4 p.m.\nTuesday\, July 9 @ 4 p.m.\nTuesday\, July 23 @ 4 p.m.\nTuesday\, August 6 @ 4 p.m.\nTuesday\, August 20 @ 4 p.m.\nTuesday\, September 3 & 17 @ 4 p.m.\nTuesday\, October 1 & 15 @ 4 p.m.\nTuesday\, November 5 & 19 @ 4 p.m.\nTuesday\, December 3 & 17 @ 4 p.m.\nTuesday\, January 14 @ 4 p.m.\nTuesday\, February 18 @ 4 p.m.\nTuesday\, March 18 @ 4 p.m.\n\nDisclaimer: All aspects of in-person programming are subject to change based on health crisis guidelines and procedures.
URL:https://ngrl.devtest.center/event/book-club-tweens-teens-2-2024-05-14-2024-05-28/2024-12-03/
LOCATION:Calhoun-Gordon County Public Library\, 100 N Park Avenue\, Calhoun\, GA\, 30701\, United States
ATTACH;FMTTYPE=image/png:https://ngrl.devtest.center/wp-content/uploads/2021/09/Teens-Featured.png
END:VEVENT
BEGIN:VEVENT
DTSTART;TZID=America/New_York:20241119T160000
DTEND;TZID=America/New_York:20241119T170000
DTSTAMP:20260424T010731
CREATED:20230316T215153Z
LAST-MODIFIED:20250224T154201Z
UID:37059-1732032000-1732035600@ngrl.devtest.center
SUMMARY:Book Club -- Tweens
DESCRIPTION:Open to 3rd – 6th grade. \nGather to enjoy some book club fun. Participants can share what they have learned and read in a fun and casual setting. \n\nFriday\, April 14 @ 4:30 p.m.\nTuesday\, May 14 @ 4 p.m.\nTuesday\, May 28 @ 4 p.m.\nTuesday\, June 11 @ 4 p.m.\nTuesday\, June 25 @ 4 p.m.\nTuesday\, July 9 @ 4 p.m.\nTuesday\, July 23 @ 4 p.m.\nTuesday\, August 6 @ 4 p.m.\nTuesday\, August 20 @ 4 p.m.\nTuesday\, September 3 & 17 @ 4 p.m.\nTuesday\, October 1 & 15 @ 4 p.m.\nTuesday\, November 5 & 19 @ 4 p.m.\nTuesday\, December 3 & 17 @ 4 p.m.\nTuesday\, January 14 @ 4 p.m.\nTuesday\, February 18 @ 4 p.m.\nTuesday\, March 18 @ 4 p.m.\n\nDisclaimer: All aspects of in-person programming are subject to change based on health crisis guidelines and procedures.
URL:https://ngrl.devtest.center/event/book-club-tweens-teens-2-2024-05-14-2024-05-28/2024-11-19/
LOCATION:Calhoun-Gordon County Public Library\, 100 N Park Avenue\, Calhoun\, GA\, 30701\, United States
ATTACH;FMTTYPE=image/png:https://ngrl.devtest.center/wp-content/uploads/2021/09/Teens-Featured.png
END:VEVENT
BEGIN:VEVENT
DTSTART;TZID=America/New_York:20241105T160000
DTEND;TZID=America/New_York:20241105T170000
DTSTAMP:20260424T010731
CREATED:20230316T215153Z
LAST-MODIFIED:20250224T154201Z
UID:37058-1730822400-1730826000@ngrl.devtest.center
SUMMARY:Book Club -- Tweens
DESCRIPTION:Open to 3rd – 6th grade. \nGather to enjoy some book club fun. Participants can share what they have learned and read in a fun and casual setting. \n\nFriday\, April 14 @ 4:30 p.m.\nTuesday\, May 14 @ 4 p.m.\nTuesday\, May 28 @ 4 p.m.\nTuesday\, June 11 @ 4 p.m.\nTuesday\, June 25 @ 4 p.m.\nTuesday\, July 9 @ 4 p.m.\nTuesday\, July 23 @ 4 p.m.\nTuesday\, August 6 @ 4 p.m.\nTuesday\, August 20 @ 4 p.m.\nTuesday\, September 3 & 17 @ 4 p.m.\nTuesday\, October 1 & 15 @ 4 p.m.\nTuesday\, November 5 & 19 @ 4 p.m.\nTuesday\, December 3 & 17 @ 4 p.m.\nTuesday\, January 14 @ 4 p.m.\nTuesday\, February 18 @ 4 p.m.\nTuesday\, March 18 @ 4 p.m.\n\nDisclaimer: All aspects of in-person programming are subject to change based on health crisis guidelines and procedures.
URL:https://ngrl.devtest.center/event/book-club-tweens-teens-2-2024-05-14-2024-05-28/2024-11-05/
LOCATION:Calhoun-Gordon County Public Library\, 100 N Park Avenue\, Calhoun\, GA\, 30701\, United States
ATTACH;FMTTYPE=image/png:https://ngrl.devtest.center/wp-content/uploads/2021/09/Teens-Featured.png
END:VEVENT
BEGIN:VEVENT
DTSTART;TZID=America/New_York:20241015T160000
DTEND;TZID=America/New_York:20241015T170000
DTSTAMP:20260424T010731
CREATED:20230316T215153Z
LAST-MODIFIED:20250224T154200Z
UID:35882-1729008000-1729011600@ngrl.devtest.center
SUMMARY:Book Club -- Tweens
DESCRIPTION:Open to 3rd – 6th grade. \nGather to enjoy some book club fun. Participants can share what they have learned and read in a fun and casual setting. \n\nFriday\, April 14 @ 4:30 p.m.\nTuesday\, May 14 @ 4 p.m.\nTuesday\, May 28 @ 4 p.m.\nTuesday\, June 11 @ 4 p.m.\nTuesday\, June 25 @ 4 p.m.\nTuesday\, July 9 @ 4 p.m.\nTuesday\, July 23 @ 4 p.m.\nTuesday\, August 6 @ 4 p.m.\nTuesday\, August 20 @ 4 p.m.\nTuesday\, September 3 & 17 @ 4 p.m.\nTuesday\, October 1 & 15 @ 4 p.m.\nTuesday\, November 5 & 19 @ 4 p.m.\nTuesday\, December 3 & 17 @ 4 p.m.\nTuesday\, January 14 @ 4 p.m.\nTuesday\, February 18 @ 4 p.m.\nTuesday\, March 18 @ 4 p.m.\n\nDisclaimer: All aspects of in-person programming are subject to change based on health crisis guidelines and procedures.
URL:https://ngrl.devtest.center/event/book-club-tweens-teens-2-2024-05-14-2024-05-28/2024-10-15/
LOCATION:Calhoun-Gordon County Public Library\, 100 N Park Avenue\, Calhoun\, GA\, 30701\, United States
ATTACH;FMTTYPE=image/png:https://ngrl.devtest.center/wp-content/uploads/2021/09/Teens-Featured.png
END:VEVENT
BEGIN:VEVENT
DTSTART;TZID=America/New_York:20241001T160000
DTEND;TZID=America/New_York:20241001T170000
DTSTAMP:20260424T010731
CREATED:20230316T215153Z
LAST-MODIFIED:20250224T154157Z
UID:35881-1727798400-1727802000@ngrl.devtest.center
SUMMARY:Book Club -- Tweens
DESCRIPTION:Open to 3rd – 6th grade. \nGather to enjoy some book club fun. Participants can share what they have learned and read in a fun and casual setting. \n\nFriday\, April 14 @ 4:30 p.m.\nTuesday\, May 14 @ 4 p.m.\nTuesday\, May 28 @ 4 p.m.\nTuesday\, June 11 @ 4 p.m.\nTuesday\, June 25 @ 4 p.m.\nTuesday\, July 9 @ 4 p.m.\nTuesday\, July 23 @ 4 p.m.\nTuesday\, August 6 @ 4 p.m.\nTuesday\, August 20 @ 4 p.m.\nTuesday\, September 3 & 17 @ 4 p.m.\nTuesday\, October 1 & 15 @ 4 p.m.\nTuesday\, November 5 & 19 @ 4 p.m.\nTuesday\, December 3 & 17 @ 4 p.m.\nTuesday\, January 14 @ 4 p.m.\nTuesday\, February 18 @ 4 p.m.\nTuesday\, March 18 @ 4 p.m.\n\nDisclaimer: All aspects of in-person programming are subject to change based on health crisis guidelines and procedures.
URL:https://ngrl.devtest.center/event/book-club-tweens-teens-2-2024-05-14-2024-05-28/2024-10-01/
LOCATION:Calhoun-Gordon County Public Library\, 100 N Park Avenue\, Calhoun\, GA\, 30701\, United States
ATTACH;FMTTYPE=image/png:https://ngrl.devtest.center/wp-content/uploads/2021/09/Teens-Featured.png
END:VEVENT
BEGIN:VEVENT
DTSTART;TZID=America/New_York:20240917T160000
DTEND;TZID=America/New_York:20240917T170000
DTSTAMP:20260424T010731
CREATED:20230316T215153Z
LAST-MODIFIED:20250224T154157Z
UID:35115-1726588800-1726592400@ngrl.devtest.center
SUMMARY:Book Club -- Tweens
DESCRIPTION:Open to 3rd – 6th grade. \nGather to enjoy some book club fun. Participants can share what they have learned and read in a fun and casual setting. \n\nFriday\, April 14 @ 4:30 p.m.\nTuesday\, May 14 @ 4 p.m.\nTuesday\, May 28 @ 4 p.m.\nTuesday\, June 11 @ 4 p.m.\nTuesday\, June 25 @ 4 p.m.\nTuesday\, July 9 @ 4 p.m.\nTuesday\, July 23 @ 4 p.m.\nTuesday\, August 6 @ 4 p.m.\nTuesday\, August 20 @ 4 p.m.\nTuesday\, September 3 & 17 @ 4 p.m.\nTuesday\, October 1 & 15 @ 4 p.m.\nTuesday\, November 5 & 19 @ 4 p.m.\nTuesday\, December 3 & 17 @ 4 p.m.\nTuesday\, January 14 @ 4 p.m.\nTuesday\, February 18 @ 4 p.m.\nTuesday\, March 18 @ 4 p.m.\n\nDisclaimer: All aspects of in-person programming are subject to change based on health crisis guidelines and procedures.
URL:https://ngrl.devtest.center/event/book-club-tweens-teens-2-2024-05-14-2024-05-28/2024-09-17/
LOCATION:Calhoun-Gordon County Public Library\, 100 N Park Avenue\, Calhoun\, GA\, 30701\, United States
ATTACH;FMTTYPE=image/png:https://ngrl.devtest.center/wp-content/uploads/2021/09/Teens-Featured.png
END:VEVENT
BEGIN:VEVENT
DTSTART;TZID=America/New_York:20240903T160000
DTEND;TZID=America/New_York:20240903T170000
DTSTAMP:20260424T010731
CREATED:20230316T215153Z
LAST-MODIFIED:20250224T154156Z
UID:35114-1725379200-1725382800@ngrl.devtest.center
SUMMARY:Book Club -- Tweens
DESCRIPTION:Open to 3rd – 6th grade. \nGather to enjoy some book club fun. Participants can share what they have learned and read in a fun and casual setting. \n\nFriday\, April 14 @ 4:30 p.m.\nTuesday\, May 14 @ 4 p.m.\nTuesday\, May 28 @ 4 p.m.\nTuesday\, June 11 @ 4 p.m.\nTuesday\, June 25 @ 4 p.m.\nTuesday\, July 9 @ 4 p.m.\nTuesday\, July 23 @ 4 p.m.\nTuesday\, August 6 @ 4 p.m.\nTuesday\, August 20 @ 4 p.m.\nTuesday\, September 3 & 17 @ 4 p.m.\nTuesday\, October 1 & 15 @ 4 p.m.\nTuesday\, November 5 & 19 @ 4 p.m.\nTuesday\, December 3 & 17 @ 4 p.m.\nTuesday\, January 14 @ 4 p.m.\nTuesday\, February 18 @ 4 p.m.\nTuesday\, March 18 @ 4 p.m.\n\nDisclaimer: All aspects of in-person programming are subject to change based on health crisis guidelines and procedures.
URL:https://ngrl.devtest.center/event/book-club-tweens-teens-2-2024-05-14-2024-05-28/2024-09-03/
LOCATION:Calhoun-Gordon County Public Library\, 100 N Park Avenue\, Calhoun\, GA\, 30701\, United States
ATTACH;FMTTYPE=image/png:https://ngrl.devtest.center/wp-content/uploads/2021/09/Teens-Featured.png
END:VEVENT
BEGIN:VEVENT
DTSTART;TZID=America/New_York:20240820T160000
DTEND;TZID=America/New_York:20240820T170000
DTSTAMP:20260424T010731
CREATED:20230316T215153Z
LAST-MODIFIED:20250224T154156Z
UID:34315-1724169600-1724173200@ngrl.devtest.center
SUMMARY:Book Club -- Tweens
DESCRIPTION:Open to 3rd – 6th grade. \nGather to enjoy some book club fun. Participants can share what they have learned and read in a fun and casual setting. \n\nFriday\, April 14 @ 4:30 p.m.\nTuesday\, May 14 @ 4 p.m.\nTuesday\, May 28 @ 4 p.m.\nTuesday\, June 11 @ 4 p.m.\nTuesday\, June 25 @ 4 p.m.\nTuesday\, July 9 @ 4 p.m.\nTuesday\, July 23 @ 4 p.m.\nTuesday\, August 6 @ 4 p.m.\nTuesday\, August 20 @ 4 p.m.\nTuesday\, September 3 & 17 @ 4 p.m.\nTuesday\, October 1 & 15 @ 4 p.m.\nTuesday\, November 5 & 19 @ 4 p.m.\nTuesday\, December 3 & 17 @ 4 p.m.\nTuesday\, January 14 @ 4 p.m.\nTuesday\, February 18 @ 4 p.m.\nTuesday\, March 18 @ 4 p.m.\n\nDisclaimer: All aspects of in-person programming are subject to change based on health crisis guidelines and procedures.
URL:https://ngrl.devtest.center/event/book-club-tweens-teens-2-2024-05-14-2024-05-28/2024-08-20/
LOCATION:Calhoun-Gordon County Public Library\, 100 N Park Avenue\, Calhoun\, GA\, 30701\, United States
ATTACH;FMTTYPE=image/png:https://ngrl.devtest.center/wp-content/uploads/2021/09/Teens-Featured.png
END:VEVENT
BEGIN:VEVENT
DTSTART;TZID=America/New_York:20240806T160000
DTEND;TZID=America/New_York:20240806T170000
DTSTAMP:20260424T010731
CREATED:20230316T215153Z
LAST-MODIFIED:20250224T154156Z
UID:34314-1722960000-1722963600@ngrl.devtest.center
SUMMARY:Book Club -- Tweens
DESCRIPTION:Open to 3rd – 6th grade. \nGather to enjoy some book club fun. Participants can share what they have learned and read in a fun and casual setting. \n\nFriday\, April 14 @ 4:30 p.m.\nTuesday\, May 14 @ 4 p.m.\nTuesday\, May 28 @ 4 p.m.\nTuesday\, June 11 @ 4 p.m.\nTuesday\, June 25 @ 4 p.m.\nTuesday\, July 9 @ 4 p.m.\nTuesday\, July 23 @ 4 p.m.\nTuesday\, August 6 @ 4 p.m.\nTuesday\, August 20 @ 4 p.m.\nTuesday\, September 3 & 17 @ 4 p.m.\nTuesday\, October 1 & 15 @ 4 p.m.\nTuesday\, November 5 & 19 @ 4 p.m.\nTuesday\, December 3 & 17 @ 4 p.m.\nTuesday\, January 14 @ 4 p.m.\nTuesday\, February 18 @ 4 p.m.\nTuesday\, March 18 @ 4 p.m.\n\nDisclaimer: All aspects of in-person programming are subject to change based on health crisis guidelines and procedures.
URL:https://ngrl.devtest.center/event/book-club-tweens-teens-2-2024-05-14-2024-05-28/2024-08-06/
LOCATION:Calhoun-Gordon County Public Library\, 100 N Park Avenue\, Calhoun\, GA\, 30701\, United States
ATTACH;FMTTYPE=image/png:https://ngrl.devtest.center/wp-content/uploads/2021/09/Teens-Featured.png
END:VEVENT
BEGIN:VEVENT
DTSTART;TZID=America/New_York:20240723T160000
DTEND;TZID=America/New_York:20240723T170000
DTSTAMP:20260424T010731
CREATED:20230316T215153Z
LAST-MODIFIED:20250224T154156Z
UID:33547-1721750400-1721754000@ngrl.devtest.center
SUMMARY:Book Club -- Tweens
DESCRIPTION:Open to 3rd – 6th grade. \nGather to enjoy some book club fun. Participants can share what they have learned and read in a fun and casual setting. \n\nFriday\, April 14 @ 4:30 p.m.\nTuesday\, May 14 @ 4 p.m.\nTuesday\, May 28 @ 4 p.m.\nTuesday\, June 11 @ 4 p.m.\nTuesday\, June 25 @ 4 p.m.\nTuesday\, July 9 @ 4 p.m.\nTuesday\, July 23 @ 4 p.m.\nTuesday\, August 6 @ 4 p.m.\nTuesday\, August 20 @ 4 p.m.\nTuesday\, September 3 & 17 @ 4 p.m.\nTuesday\, October 1 & 15 @ 4 p.m.\nTuesday\, November 5 & 19 @ 4 p.m.\nTuesday\, December 3 & 17 @ 4 p.m.\nTuesday\, January 14 @ 4 p.m.\nTuesday\, February 18 @ 4 p.m.\nTuesday\, March 18 @ 4 p.m.\n\nDisclaimer: All aspects of in-person programming are subject to change based on health crisis guidelines and procedures.
URL:https://ngrl.devtest.center/event/book-club-tweens-teens-2-2024-05-14-2024-05-28/2024-07-23/
LOCATION:Calhoun-Gordon County Public Library\, 100 N Park Avenue\, Calhoun\, GA\, 30701\, United States
ATTACH;FMTTYPE=image/png:https://ngrl.devtest.center/wp-content/uploads/2021/09/Teens-Featured.png
END:VEVENT
BEGIN:VEVENT
DTSTART;TZID=America/New_York:20240709T160000
DTEND;TZID=America/New_York:20240709T170000
DTSTAMP:20260424T010731
CREATED:20230316T215153Z
LAST-MODIFIED:20250224T154155Z
UID:33546-1720540800-1720544400@ngrl.devtest.center
SUMMARY:Book Club -- Tweens
DESCRIPTION:Open to 3rd – 6th grade. \nGather to enjoy some book club fun. Participants can share what they have learned and read in a fun and casual setting. \n\nFriday\, April 14 @ 4:30 p.m.\nTuesday\, May 14 @ 4 p.m.\nTuesday\, May 28 @ 4 p.m.\nTuesday\, June 11 @ 4 p.m.\nTuesday\, June 25 @ 4 p.m.\nTuesday\, July 9 @ 4 p.m.\nTuesday\, July 23 @ 4 p.m.\nTuesday\, August 6 @ 4 p.m.\nTuesday\, August 20 @ 4 p.m.\nTuesday\, September 3 & 17 @ 4 p.m.\nTuesday\, October 1 & 15 @ 4 p.m.\nTuesday\, November 5 & 19 @ 4 p.m.\nTuesday\, December 3 & 17 @ 4 p.m.\nTuesday\, January 14 @ 4 p.m.\nTuesday\, February 18 @ 4 p.m.\nTuesday\, March 18 @ 4 p.m.\n\nDisclaimer: All aspects of in-person programming are subject to change based on health crisis guidelines and procedures.
URL:https://ngrl.devtest.center/event/book-club-tweens-teens-2-2024-05-14-2024-05-28/2024-07-09/
LOCATION:Calhoun-Gordon County Public Library\, 100 N Park Avenue\, Calhoun\, GA\, 30701\, United States
ATTACH;FMTTYPE=image/png:https://ngrl.devtest.center/wp-content/uploads/2021/09/Teens-Featured.png
END:VEVENT
BEGIN:VEVENT
DTSTART;TZID=America/New_York:20240625T160000
DTEND;TZID=America/New_York:20240625T170000
DTSTAMP:20260424T010731
CREATED:20230316T215153Z
LAST-MODIFIED:20250224T154155Z
UID:33545-1719331200-1719334800@ngrl.devtest.center
SUMMARY:Book Club -- Tweens
DESCRIPTION:Open to 3rd – 6th grade. \nGather to enjoy some book club fun. Participants can share what they have learned and read in a fun and casual setting. \n\nFriday\, April 14 @ 4:30 p.m.\nTuesday\, May 14 @ 4 p.m.\nTuesday\, May 28 @ 4 p.m.\nTuesday\, June 11 @ 4 p.m.\nTuesday\, June 25 @ 4 p.m.\nTuesday\, July 9 @ 4 p.m.\nTuesday\, July 23 @ 4 p.m.\nTuesday\, August 6 @ 4 p.m.\nTuesday\, August 20 @ 4 p.m.\nTuesday\, September 3 & 17 @ 4 p.m.\nTuesday\, October 1 & 15 @ 4 p.m.\nTuesday\, November 5 & 19 @ 4 p.m.\nTuesday\, December 3 & 17 @ 4 p.m.\nTuesday\, January 14 @ 4 p.m.\nTuesday\, February 18 @ 4 p.m.\nTuesday\, March 18 @ 4 p.m.\n\nDisclaimer: All aspects of in-person programming are subject to change based on health crisis guidelines and procedures.
URL:https://ngrl.devtest.center/event/book-club-tweens-teens-2-2024-05-14-2024-05-28/2024-06-25/
LOCATION:Calhoun-Gordon County Public Library\, 100 N Park Avenue\, Calhoun\, GA\, 30701\, United States
ATTACH;FMTTYPE=image/png:https://ngrl.devtest.center/wp-content/uploads/2021/09/Teens-Featured.png
END:VEVENT
BEGIN:VEVENT
DTSTART;TZID=America/New_York:20240611T160000
DTEND;TZID=America/New_York:20240611T170000
DTSTAMP:20260424T010731
CREATED:20230316T215153Z
LAST-MODIFIED:20250224T154155Z
UID:33544-1718121600-1718125200@ngrl.devtest.center
SUMMARY:Book Club -- Tweens
DESCRIPTION:Open to 3rd – 6th grade. \nGather to enjoy some book club fun. Participants can share what they have learned and read in a fun and casual setting. \n\nFriday\, April 14 @ 4:30 p.m.\nTuesday\, May 14 @ 4 p.m.\nTuesday\, May 28 @ 4 p.m.\nTuesday\, June 11 @ 4 p.m.\nTuesday\, June 25 @ 4 p.m.\nTuesday\, July 9 @ 4 p.m.\nTuesday\, July 23 @ 4 p.m.\nTuesday\, August 6 @ 4 p.m.\nTuesday\, August 20 @ 4 p.m.\nTuesday\, September 3 & 17 @ 4 p.m.\nTuesday\, October 1 & 15 @ 4 p.m.\nTuesday\, November 5 & 19 @ 4 p.m.\nTuesday\, December 3 & 17 @ 4 p.m.\nTuesday\, January 14 @ 4 p.m.\nTuesday\, February 18 @ 4 p.m.\nTuesday\, March 18 @ 4 p.m.\n\nDisclaimer: All aspects of in-person programming are subject to change based on health crisis guidelines and procedures.
URL:https://ngrl.devtest.center/event/book-club-tweens-teens-2-2024-05-14-2024-05-28/2024-06-11/
LOCATION:Calhoun-Gordon County Public Library\, 100 N Park Avenue\, Calhoun\, GA\, 30701\, United States
ATTACH;FMTTYPE=image/png:https://ngrl.devtest.center/wp-content/uploads/2021/09/Teens-Featured.png
END:VEVENT
BEGIN:VEVENT
DTSTART;TZID=America/New_York:20240528T160000
DTEND;TZID=America/New_York:20240528T170000
DTSTAMP:20260424T010731
CREATED:20230316T215153Z
LAST-MODIFIED:20250224T154154Z
UID:32769-1716912000-1716915600@ngrl.devtest.center
SUMMARY:Book Club -- Tweens
DESCRIPTION:Open to 3rd – 6th grade. \nGather to enjoy some book club fun. Participants can share what they have learned and read in a fun and casual setting. \n\nFriday\, April 14 @ 4:30 p.m.\nTuesday\, May 14 @ 4 p.m.\nTuesday\, May 28 @ 4 p.m.\nTuesday\, June 11 @ 4 p.m.\nTuesday\, June 25 @ 4 p.m.\nTuesday\, July 9 @ 4 p.m.\nTuesday\, July 23 @ 4 p.m.\nTuesday\, August 6 @ 4 p.m.\nTuesday\, August 20 @ 4 p.m.\nTuesday\, September 3 & 17 @ 4 p.m.\nTuesday\, October 1 & 15 @ 4 p.m.\nTuesday\, November 5 & 19 @ 4 p.m.\nTuesday\, December 3 & 17 @ 4 p.m.\nTuesday\, January 14 @ 4 p.m.\nTuesday\, February 18 @ 4 p.m.\nTuesday\, March 18 @ 4 p.m.\n\nDisclaimer: All aspects of in-person programming are subject to change based on health crisis guidelines and procedures.
URL:https://ngrl.devtest.center/event/book-club-tweens-teens-2-2024-05-14-2024-05-28/2024-05-28/
LOCATION:Calhoun-Gordon County Public Library\, 100 N Park Avenue\, Calhoun\, GA\, 30701\, United States
ATTACH;FMTTYPE=image/png:https://ngrl.devtest.center/wp-content/uploads/2021/09/Teens-Featured.png
END:VEVENT
END:VCALENDAR