BEGIN:VCALENDAR
VERSION:2.0
PRODID:-//Northwest Georgia Regional Library System - ECPv6.15.17.1//NONSGML v1.0//EN
CALSCALE:GREGORIAN
METHOD:PUBLISH
X-ORIGINAL-URL:https://ngrl.devtest.center
X-WR-CALDESC:Events for Northwest Georgia Regional Library System
REFRESH-INTERVAL;VALUE=DURATION:PT1H
X-Robots-Tag:noindex
X-PUBLISHED-TTL:PT1H
BEGIN:VTIMEZONE
TZID:America/New_York
BEGIN:DAYLIGHT
TZOFFSETFROM:-0500
TZOFFSETTO:-0400
TZNAME:EDT
DTSTART:20220313T070000
END:DAYLIGHT
BEGIN:STANDARD
TZOFFSETFROM:-0400
TZOFFSETTO:-0500
TZNAME:EST
DTSTART:20221106T060000
END:STANDARD
BEGIN:DAYLIGHT
TZOFFSETFROM:-0500
TZOFFSETTO:-0400
TZNAME:EDT
DTSTART:20230312T070000
END:DAYLIGHT
BEGIN:STANDARD
TZOFFSETFROM:-0400
TZOFFSETTO:-0500
TZNAME:EST
DTSTART:20231105T060000
END:STANDARD
BEGIN:DAYLIGHT
TZOFFSETFROM:-0500
TZOFFSETTO:-0400
TZNAME:EDT
DTSTART:20240310T070000
END:DAYLIGHT
BEGIN:STANDARD
TZOFFSETFROM:-0400
TZOFFSETTO:-0500
TZNAME:EST
DTSTART:20241103T060000
END:STANDARD
BEGIN:DAYLIGHT
TZOFFSETFROM:-0500
TZOFFSETTO:-0400
TZNAME:EDT
DTSTART:20250309T070000
END:DAYLIGHT
BEGIN:STANDARD
TZOFFSETFROM:-0400
TZOFFSETTO:-0500
TZNAME:EST
DTSTART:20251102T060000
END:STANDARD
END:VTIMEZONE
BEGIN:VEVENT
DTSTART;TZID=America/New_York:20241025T110000
DTEND;TZID=America/New_York:20241025T120000
DTSTAMP:20260425T190745
CREATED:20221227T185647Z
LAST-MODIFIED:20221227T185647Z
UID:36113-1729854000-1729857600@ngrl.devtest.center
SUMMARY:Book Club -- Adults
DESCRIPTION:Open to ages 18 and older. \nGather to enjoy some book club fun. Each month we will pick a theme. Participants can share what they have learned and read in a fun and casual setting. \n\nFriday\, January 27 @ 11 a.m. – Theme: Out of My Comfort Zone — try something you wouldn’t normally read and let us know how it goes!\nFriday\, February 25 @ 11 a.m. – Theme: (Don’t) Act Your Age — try something written for a younger audience or reread a favorite from your youth.\nFriday\, March 31 @ 11 a.m. – Theme: Your Favorite Author’s Favorite Author\nFriday\, April 28 @ 11 a.m. – Theme: Library books — Find a book about a library!\nFriday\, May 26 @ 11 a.m. – Theme: Keeping It Real — Read a work of nonfiction\nFriday\, June 23 @ 11 a.m. – Theme: All Together Now\nFriday\, August 25 @ 11 a.m.\nFriday\, September 29 @ 11 a.m. – “Fairytale Retelling.” — We’ll take a classic and twist it into something new.\nFriday\, October 27 @ 11 a.m. – “Thrills and Chills” — We’ll read a book in the horror or thriller genre.\nFriday\, November 17 @ 11 a.m. – “Cozy Reads” — We’ll talk about books we’ve read that were perfect for curling up and enjoying a hot drink with.\nFriday\, December 15 @ 11 a.m. – Join our book for adult conversations.\nFriday\, January 26 @ 11 a.m. – Theme is Reader’s Choice\, so pick a book and come and share.\nFriday\, February 23 @ 11 a.m. – Theme is Romance/Valentine’s Reads.\nFriday\, March 22 @ 11 a.m. – Theme is A Book with Weather in the Title\nFriday\, April 26 @ 11 a.m. – Theme is Book Club Picks where patrons read something suggested by Reese\, Oprah\, Jenna or another of the famous book clubs.\nFriday\, May 31 @ 11 a.m. The club currently reads to a theme rather than a specific book\, but will be adding a more traditional book club with a book chosen by a staff member soon.\nFriday\, June 28 @ 11 a.m. – Theme is Beach Reads.\nFriday\, July 26 @ 11 a.m. – Theme is Georgia Writers\nFriday\, August 30 @ 11 a.m. – Theme is New Writers. Read a book that debuted this year.\nFriday\, September 27 @ 11 a.m. – Theme is Judge a Book by its Cover.\nFriday\, October 25 @ 11 a.m. – Theme is Thrills and Chills\, books in the horror/thriller genre.\n\nDisclaimer: All aspects of in-person programming are subject to change based on health crisis guidelines and procedures.
URL:https://ngrl.devtest.center/event/book-club-adults/2024-10-25/
LOCATION:Calhoun-Gordon County Public Library\, 100 N Park Avenue\, Calhoun\, GA\, 30701\, United States
ATTACH;FMTTYPE=image/png:https://ngrl.devtest.center/wp-content/uploads/2021/09/Adults-Featured.png
END:VEVENT
BEGIN:VEVENT
DTSTART;TZID=America/New_York:20240830T110000
DTEND;TZID=America/New_York:20240830T120000
DTSTAMP:20260425T190745
CREATED:20221227T185647Z
LAST-MODIFIED:20240918T163920Z
UID:34331-1725015600-1725019200@ngrl.devtest.center
SUMMARY:Book Club -- Adults
DESCRIPTION:Open to ages 18 and older. \nGather to enjoy some book club fun. Each month we will pick a theme. Participants can share what they have learned and read in a fun and casual setting. \n\nFriday\, January 27 @ 11 a.m. – Theme: Out of My Comfort Zone — try something you wouldn’t normally read and let us know how it goes!\nFriday\, February 25 @ 11 a.m. – Theme: (Don’t) Act Your Age — try something written for a younger audience or reread a favorite from your youth.\nFriday\, March 31 @ 11 a.m. – Theme: Your Favorite Author’s Favorite Author\nFriday\, April 28 @ 11 a.m. – Theme: Library books — Find a book about a library!\nFriday\, May 26 @ 11 a.m. – Theme: Keeping It Real — Read a work of nonfiction\nFriday\, June 23 @ 11 a.m. – Theme: All Together Now\nFriday\, August 25 @ 11 a.m.\nFriday\, September 29 @ 11 a.m. – “Fairytale Retelling.” — We’ll take a classic and twist it into something new.\nFriday\, October 27 @ 11 a.m. – “Thrills and Chills” — We’ll read a book in the horror or thriller genre.\nFriday\, November 17 @ 11 a.m. – “Cozy Reads” — We’ll talk about books we’ve read that were perfect for curling up and enjoying a hot drink with.\nFriday\, December 15 @ 11 a.m. – Join our book for adult conversations.\nFriday\, January 26 @ 11 a.m. – Theme is Reader’s Choice\, so pick a book and come and share.\nFriday\, February 23 @ 11 a.m. – Theme is Romance/Valentine’s Reads.\nFriday\, March 22 @ 11 a.m. – Theme is A Book with Weather in the Title\nFriday\, April 26 @ 11 a.m. – Theme is Book Club Picks where patrons read something suggested by Reese\, Oprah\, Jenna or another of the famous book clubs.\nFriday\, May 31 @ 11 a.m. The club currently reads to a theme rather than a specific book\, but will be adding a more traditional book club with a book chosen by a staff member soon.\nFriday\, June 28 @ 11 a.m. – Theme is Beach Reads.\nFriday\, July 26 @ 11 a.m. – Theme is Georgia Writers\nFriday\, August 30 @ 11 a.m. – Theme is New Writers. Read a book that debuted this year.\nFriday\, September 27 @ 11 a.m. – Theme is Judge a Book by its Cover.\nFriday\, October 25 @ 11 a.m. – Theme is Thrills and Chills\, books in the horror/thriller genre.\n\nDisclaimer: All aspects of in-person programming are subject to change based on health crisis guidelines and procedures.
URL:https://ngrl.devtest.center/event/book-club-adults/2024-08-30/
LOCATION:Calhoun-Gordon County Public Library\, 100 N Park Avenue\, Calhoun\, GA\, 30701\, United States
ATTACH;FMTTYPE=image/png:https://ngrl.devtest.center/wp-content/uploads/2021/09/Adults-Featured.png
END:VEVENT
BEGIN:VEVENT
DTSTART;TZID=America/New_York:20240726T110000
DTEND;TZID=America/New_York:20240726T120000
DTSTAMP:20260425T190745
CREATED:20221227T185647Z
LAST-MODIFIED:20240918T163918Z
UID:33556-1721991600-1721995200@ngrl.devtest.center
SUMMARY:Book Club -- Adults
DESCRIPTION:Open to ages 18 and older. \nGather to enjoy some book club fun. Each month we will pick a theme. Participants can share what they have learned and read in a fun and casual setting. \n\nFriday\, January 27 @ 11 a.m. – Theme: Out of My Comfort Zone — try something you wouldn’t normally read and let us know how it goes!\nFriday\, February 25 @ 11 a.m. – Theme: (Don’t) Act Your Age — try something written for a younger audience or reread a favorite from your youth.\nFriday\, March 31 @ 11 a.m. – Theme: Your Favorite Author’s Favorite Author\nFriday\, April 28 @ 11 a.m. – Theme: Library books — Find a book about a library!\nFriday\, May 26 @ 11 a.m. – Theme: Keeping It Real — Read a work of nonfiction\nFriday\, June 23 @ 11 a.m. – Theme: All Together Now\nFriday\, August 25 @ 11 a.m.\nFriday\, September 29 @ 11 a.m. – “Fairytale Retelling.” — We’ll take a classic and twist it into something new.\nFriday\, October 27 @ 11 a.m. – “Thrills and Chills” — We’ll read a book in the horror or thriller genre.\nFriday\, November 17 @ 11 a.m. – “Cozy Reads” — We’ll talk about books we’ve read that were perfect for curling up and enjoying a hot drink with.\nFriday\, December 15 @ 11 a.m. – Join our book for adult conversations.\nFriday\, January 26 @ 11 a.m. – Theme is Reader’s Choice\, so pick a book and come and share.\nFriday\, February 23 @ 11 a.m. – Theme is Romance/Valentine’s Reads.\nFriday\, March 22 @ 11 a.m. – Theme is A Book with Weather in the Title\nFriday\, April 26 @ 11 a.m. – Theme is Book Club Picks where patrons read something suggested by Reese\, Oprah\, Jenna or another of the famous book clubs.\nFriday\, May 31 @ 11 a.m. The club currently reads to a theme rather than a specific book\, but will be adding a more traditional book club with a book chosen by a staff member soon.\nFriday\, June 28 @ 11 a.m. – Theme is Beach Reads.\nFriday\, July 26 @ 11 a.m. – Theme is Georgia Writers\nFriday\, August 30 @ 11 a.m. – Theme is New Writers. Read a book that debuted this year.\nFriday\, September 27 @ 11 a.m. – Theme is Judge a Book by its Cover.\nFriday\, October 25 @ 11 a.m. – Theme is Thrills and Chills\, books in the horror/thriller genre.\n\nDisclaimer: All aspects of in-person programming are subject to change based on health crisis guidelines and procedures.
URL:https://ngrl.devtest.center/event/book-club-adults/2024-07-26/
LOCATION:Calhoun-Gordon County Public Library\, 100 N Park Avenue\, Calhoun\, GA\, 30701\, United States
ATTACH;FMTTYPE=image/png:https://ngrl.devtest.center/wp-content/uploads/2021/09/Adults-Featured.png
END:VEVENT
BEGIN:VEVENT
DTSTART;TZID=America/New_York:20240628T110000
DTEND;TZID=America/New_York:20240628T120000
DTSTAMP:20260425T190745
CREATED:20221227T185647Z
LAST-MODIFIED:20240918T163915Z
UID:33555-1719572400-1719576000@ngrl.devtest.center
SUMMARY:Book Club -- Adults
DESCRIPTION:Open to ages 18 and older. \nGather to enjoy some book club fun. Each month we will pick a theme. Participants can share what they have learned and read in a fun and casual setting. \n\nFriday\, January 27 @ 11 a.m. – Theme: Out of My Comfort Zone — try something you wouldn’t normally read and let us know how it goes!\nFriday\, February 25 @ 11 a.m. – Theme: (Don’t) Act Your Age — try something written for a younger audience or reread a favorite from your youth.\nFriday\, March 31 @ 11 a.m. – Theme: Your Favorite Author’s Favorite Author\nFriday\, April 28 @ 11 a.m. – Theme: Library books — Find a book about a library!\nFriday\, May 26 @ 11 a.m. – Theme: Keeping It Real — Read a work of nonfiction\nFriday\, June 23 @ 11 a.m. – Theme: All Together Now\nFriday\, August 25 @ 11 a.m.\nFriday\, September 29 @ 11 a.m. – “Fairytale Retelling.” — We’ll take a classic and twist it into something new.\nFriday\, October 27 @ 11 a.m. – “Thrills and Chills” — We’ll read a book in the horror or thriller genre.\nFriday\, November 17 @ 11 a.m. – “Cozy Reads” — We’ll talk about books we’ve read that were perfect for curling up and enjoying a hot drink with.\nFriday\, December 15 @ 11 a.m. – Join our book for adult conversations.\nFriday\, January 26 @ 11 a.m. – Theme is Reader’s Choice\, so pick a book and come and share.\nFriday\, February 23 @ 11 a.m. – Theme is Romance/Valentine’s Reads.\nFriday\, March 22 @ 11 a.m. – Theme is A Book with Weather in the Title\nFriday\, April 26 @ 11 a.m. – Theme is Book Club Picks where patrons read something suggested by Reese\, Oprah\, Jenna or another of the famous book clubs.\nFriday\, May 31 @ 11 a.m. The club currently reads to a theme rather than a specific book\, but will be adding a more traditional book club with a book chosen by a staff member soon.\nFriday\, June 28 @ 11 a.m. – Theme is Beach Reads.\nFriday\, July 26 @ 11 a.m. – Theme is Georgia Writers\nFriday\, August 30 @ 11 a.m. – Theme is New Writers. Read a book that debuted this year.\nFriday\, September 27 @ 11 a.m. – Theme is Judge a Book by its Cover.\nFriday\, October 25 @ 11 a.m. – Theme is Thrills and Chills\, books in the horror/thriller genre.\n\nDisclaimer: All aspects of in-person programming are subject to change based on health crisis guidelines and procedures.
URL:https://ngrl.devtest.center/event/book-club-adults/2024-06-28/
LOCATION:Calhoun-Gordon County Public Library\, 100 N Park Avenue\, Calhoun\, GA\, 30701\, United States
ATTACH;FMTTYPE=image/png:https://ngrl.devtest.center/wp-content/uploads/2021/09/Adults-Featured.png
END:VEVENT
BEGIN:VEVENT
DTSTART;TZID=America/New_York:20240531T110000
DTEND;TZID=America/New_York:20240531T120000
DTSTAMP:20260425T190745
CREATED:20221227T185647Z
LAST-MODIFIED:20240918T163912Z
UID:32733-1717153200-1717156800@ngrl.devtest.center
SUMMARY:Book Club -- Adults
DESCRIPTION:Open to ages 18 and older. \nGather to enjoy some book club fun. Each month we will pick a theme. Participants can share what they have learned and read in a fun and casual setting. \n\nFriday\, January 27 @ 11 a.m. – Theme: Out of My Comfort Zone — try something you wouldn’t normally read and let us know how it goes!\nFriday\, February 25 @ 11 a.m. – Theme: (Don’t) Act Your Age — try something written for a younger audience or reread a favorite from your youth.\nFriday\, March 31 @ 11 a.m. – Theme: Your Favorite Author’s Favorite Author\nFriday\, April 28 @ 11 a.m. – Theme: Library books — Find a book about a library!\nFriday\, May 26 @ 11 a.m. – Theme: Keeping It Real — Read a work of nonfiction\nFriday\, June 23 @ 11 a.m. – Theme: All Together Now\nFriday\, August 25 @ 11 a.m.\nFriday\, September 29 @ 11 a.m. – “Fairytale Retelling.” — We’ll take a classic and twist it into something new.\nFriday\, October 27 @ 11 a.m. – “Thrills and Chills” — We’ll read a book in the horror or thriller genre.\nFriday\, November 17 @ 11 a.m. – “Cozy Reads” — We’ll talk about books we’ve read that were perfect for curling up and enjoying a hot drink with.\nFriday\, December 15 @ 11 a.m. – Join our book for adult conversations.\nFriday\, January 26 @ 11 a.m. – Theme is Reader’s Choice\, so pick a book and come and share.\nFriday\, February 23 @ 11 a.m. – Theme is Romance/Valentine’s Reads.\nFriday\, March 22 @ 11 a.m. – Theme is A Book with Weather in the Title\nFriday\, April 26 @ 11 a.m. – Theme is Book Club Picks where patrons read something suggested by Reese\, Oprah\, Jenna or another of the famous book clubs.\nFriday\, May 31 @ 11 a.m. The club currently reads to a theme rather than a specific book\, but will be adding a more traditional book club with a book chosen by a staff member soon.\nFriday\, June 28 @ 11 a.m. – Theme is Beach Reads.\nFriday\, July 26 @ 11 a.m. – Theme is Georgia Writers\nFriday\, August 30 @ 11 a.m. – Theme is New Writers. Read a book that debuted this year.\nFriday\, September 27 @ 11 a.m. – Theme is Judge a Book by its Cover.\nFriday\, October 25 @ 11 a.m. – Theme is Thrills and Chills\, books in the horror/thriller genre.\n\nDisclaimer: All aspects of in-person programming are subject to change based on health crisis guidelines and procedures.
URL:https://ngrl.devtest.center/event/book-club-adults/2024-05-31/
LOCATION:Calhoun-Gordon County Public Library\, 100 N Park Avenue\, Calhoun\, GA\, 30701\, United States
ATTACH;FMTTYPE=image/png:https://ngrl.devtest.center/wp-content/uploads/2021/09/Adults-Featured.png
END:VEVENT
BEGIN:VEVENT
DTSTART;TZID=America/New_York:20240426T110000
DTEND;TZID=America/New_York:20240426T120000
DTSTAMP:20260425T190745
CREATED:20221227T185647Z
LAST-MODIFIED:20240918T163909Z
UID:31819-1714129200-1714132800@ngrl.devtest.center
SUMMARY:Book Club -- Adults
DESCRIPTION:Open to ages 18 and older. \nGather to enjoy some book club fun. Each month we will pick a theme. Participants can share what they have learned and read in a fun and casual setting. \n\nFriday\, January 27 @ 11 a.m. – Theme: Out of My Comfort Zone — try something you wouldn’t normally read and let us know how it goes!\nFriday\, February 25 @ 11 a.m. – Theme: (Don’t) Act Your Age — try something written for a younger audience or reread a favorite from your youth.\nFriday\, March 31 @ 11 a.m. – Theme: Your Favorite Author’s Favorite Author\nFriday\, April 28 @ 11 a.m. – Theme: Library books — Find a book about a library!\nFriday\, May 26 @ 11 a.m. – Theme: Keeping It Real — Read a work of nonfiction\nFriday\, June 23 @ 11 a.m. – Theme: All Together Now\nFriday\, August 25 @ 11 a.m.\nFriday\, September 29 @ 11 a.m. – “Fairytale Retelling.” — We’ll take a classic and twist it into something new.\nFriday\, October 27 @ 11 a.m. – “Thrills and Chills” — We’ll read a book in the horror or thriller genre.\nFriday\, November 17 @ 11 a.m. – “Cozy Reads” — We’ll talk about books we’ve read that were perfect for curling up and enjoying a hot drink with.\nFriday\, December 15 @ 11 a.m. – Join our book for adult conversations.\nFriday\, January 26 @ 11 a.m. – Theme is Reader’s Choice\, so pick a book and come and share.\nFriday\, February 23 @ 11 a.m. – Theme is Romance/Valentine’s Reads.\nFriday\, March 22 @ 11 a.m. – Theme is A Book with Weather in the Title\nFriday\, April 26 @ 11 a.m. – Theme is Book Club Picks where patrons read something suggested by Reese\, Oprah\, Jenna or another of the famous book clubs.\nFriday\, May 31 @ 11 a.m. The club currently reads to a theme rather than a specific book\, but will be adding a more traditional book club with a book chosen by a staff member soon.\nFriday\, June 28 @ 11 a.m. – Theme is Beach Reads.\nFriday\, July 26 @ 11 a.m. – Theme is Georgia Writers\nFriday\, August 30 @ 11 a.m. – Theme is New Writers. Read a book that debuted this year.\nFriday\, September 27 @ 11 a.m. – Theme is Judge a Book by its Cover.\nFriday\, October 25 @ 11 a.m. – Theme is Thrills and Chills\, books in the horror/thriller genre.\n\nDisclaimer: All aspects of in-person programming are subject to change based on health crisis guidelines and procedures.
URL:https://ngrl.devtest.center/event/book-club-adults/2024-04-26/
LOCATION:Calhoun-Gordon County Public Library\, 100 N Park Avenue\, Calhoun\, GA\, 30701\, United States
ATTACH;FMTTYPE=image/png:https://ngrl.devtest.center/wp-content/uploads/2021/09/Adults-Featured.png
END:VEVENT
BEGIN:VEVENT
DTSTART;TZID=America/New_York:20230127T110000
DTEND;TZID=America/New_York:20230127T120000
DTSTAMP:20260425T190745
CREATED:20221227T185647Z
LAST-MODIFIED:20240918T163907Z
UID:21272-1674817200-1674820800@ngrl.devtest.center
SUMMARY:Book Club -- Adults
DESCRIPTION:Open to ages 18 and older. \nGather to enjoy some book club fun. Each month we will pick a theme. Participants can share what they have learned and read in a fun and casual setting. \n\nFriday\, January 27 @ 11 a.m. – Theme: Out of My Comfort Zone — try something you wouldn’t normally read and let us know how it goes!\nFriday\, February 25 @ 11 a.m. – Theme: (Don’t) Act Your Age — try something written for a younger audience or reread a favorite from your youth.\nFriday\, March 31 @ 11 a.m. – Theme: Your Favorite Author’s Favorite Author\nFriday\, April 28 @ 11 a.m. – Theme: Library books — Find a book about a library!\nFriday\, May 26 @ 11 a.m. – Theme: Keeping It Real — Read a work of nonfiction\nFriday\, June 23 @ 11 a.m. – Theme: All Together Now\nFriday\, August 25 @ 11 a.m.\nFriday\, September 29 @ 11 a.m. – “Fairytale Retelling.” — We’ll take a classic and twist it into something new.\nFriday\, October 27 @ 11 a.m. – “Thrills and Chills” — We’ll read a book in the horror or thriller genre.\nFriday\, November 17 @ 11 a.m. – “Cozy Reads” — We’ll talk about books we’ve read that were perfect for curling up and enjoying a hot drink with.\nFriday\, December 15 @ 11 a.m. – Join our book for adult conversations.\nFriday\, January 26 @ 11 a.m. – Theme is Reader’s Choice\, so pick a book and come and share.\nFriday\, February 23 @ 11 a.m. – Theme is Romance/Valentine’s Reads.\nFriday\, March 22 @ 11 a.m. – Theme is A Book with Weather in the Title\nFriday\, April 26 @ 11 a.m. – Theme is Book Club Picks where patrons read something suggested by Reese\, Oprah\, Jenna or another of the famous book clubs.\nFriday\, May 31 @ 11 a.m. The club currently reads to a theme rather than a specific book\, but will be adding a more traditional book club with a book chosen by a staff member soon.\nFriday\, June 28 @ 11 a.m. – Theme is Beach Reads.\nFriday\, July 26 @ 11 a.m. – Theme is Georgia Writers\nFriday\, August 30 @ 11 a.m. – Theme is New Writers. Read a book that debuted this year.\nFriday\, September 27 @ 11 a.m. – Theme is Judge a Book by its Cover.\nFriday\, October 25 @ 11 a.m. – Theme is Thrills and Chills\, books in the horror/thriller genre.\n\nDisclaimer: All aspects of in-person programming are subject to change based on health crisis guidelines and procedures.
URL:https://ngrl.devtest.center/event/book-club-adults/2023-01-27/
LOCATION:Calhoun-Gordon County Public Library\, 100 N Park Avenue\, Calhoun\, GA\, 30701\, United States
ATTACH;FMTTYPE=image/png:https://ngrl.devtest.center/wp-content/uploads/2021/09/Adults-Featured.png
END:VEVENT
END:VCALENDAR