BEGIN:VCALENDAR
VERSION:2.0
PRODID:-//Northwest Georgia Regional Library System - ECPv6.15.17.1//NONSGML v1.0//EN
CALSCALE:GREGORIAN
METHOD:PUBLISH
X-ORIGINAL-URL:https://ngrl.devtest.center
X-WR-CALDESC:Events for Northwest Georgia Regional Library System
REFRESH-INTERVAL;VALUE=DURATION:PT1H
X-Robots-Tag:noindex
X-PUBLISHED-TTL:PT1H
BEGIN:VTIMEZONE
TZID:America/New_York
BEGIN:DAYLIGHT
TZOFFSETFROM:-0500
TZOFFSETTO:-0400
TZNAME:EDT
DTSTART:20230312T070000
END:DAYLIGHT
BEGIN:STANDARD
TZOFFSETFROM:-0400
TZOFFSETTO:-0500
TZNAME:EST
DTSTART:20231105T060000
END:STANDARD
BEGIN:DAYLIGHT
TZOFFSETFROM:-0500
TZOFFSETTO:-0400
TZNAME:EDT
DTSTART:20240310T070000
END:DAYLIGHT
BEGIN:STANDARD
TZOFFSETFROM:-0400
TZOFFSETTO:-0500
TZNAME:EST
DTSTART:20241103T060000
END:STANDARD
BEGIN:DAYLIGHT
TZOFFSETFROM:-0500
TZOFFSETTO:-0400
TZNAME:EDT
DTSTART:20250309T070000
END:DAYLIGHT
BEGIN:STANDARD
TZOFFSETFROM:-0400
TZOFFSETTO:-0500
TZNAME:EST
DTSTART:20251102T060000
END:STANDARD
END:VTIMEZONE
BEGIN:VEVENT
DTSTART;TZID=America/New_York:20241207T100000
DTEND;TZID=America/New_York:20241207T133000
DTSTAMP:20260422T191551
CREATED:20241022T182654Z
LAST-MODIFIED:20241022T182654Z
UID:38273-1733565600-1733578200@ngrl.devtest.center
SUMMARY:Authors @ the Library -- All Ages
DESCRIPTION:Open to all ages. Stop and chat with an author and learn about a great new book. \n\nSaturday\, November 2 @ 10 a.m.-1:30 p.m. — Local authors Tenesha L. Curtis\, Kenyon T. Henry and Logan Petty will be at the library.\nSaturday\, December 7 @ 10 a.m. – 1:30 p.m. Local authors Susan Kirkland\, Barbara Tucker and Becky Wooley will be at the library.\n\nDisclaimer: All aspects of in-person programming are subject to change based on health crisis guidelines and procedures.
URL:https://ngrl.devtest.center/event/authors-the-library-all-ages/2024-12-07/
LOCATION:Dalton-Whitfield County Public Library\, 310 Cappes St\, Dalton\, GA\, 30720\, United States
ATTACH;FMTTYPE=image/png:https://ngrl.devtest.center/wp-content/uploads/2021/09/All-Ages-Featured.png
ORGANIZER;CN="Dalton-Whitfield County Public Library":MAILTO:ngrl.librarian@gmail.com
END:VEVENT
BEGIN:VEVENT
DTSTART;TZID=America/New_York:20241102T100000
DTEND;TZID=America/New_York:20241102T133000
DTSTAMP:20260422T191551
CREATED:20241022T182654Z
LAST-MODIFIED:20241120T144831Z
UID:37444-1730541600-1730554200@ngrl.devtest.center
SUMMARY:Authors @ the Library -- All Ages
DESCRIPTION:Open to all ages. Stop and chat with an author and learn about a great new book. \n\nSaturday\, November 2 @ 10 a.m.-1:30 p.m. — Local authors Tenesha L. Curtis\, Kenyon T. Henry and Logan Petty will be at the library.\nSaturday\, December 7 @ 10 a.m. – 1:30 p.m. Local authors Susan Kirkland\, Barbara Tucker and Becky Wooley will be at the library.\n\nDisclaimer: All aspects of in-person programming are subject to change based on health crisis guidelines and procedures.
URL:https://ngrl.devtest.center/event/authors-the-library-all-ages/2024-11-02/
LOCATION:Dalton-Whitfield County Public Library\, 310 Cappes St\, Dalton\, GA\, 30720\, United States
ATTACH;FMTTYPE=image/png:https://ngrl.devtest.center/wp-content/uploads/2021/09/All-Ages-Featured.png
ORGANIZER;CN="Dalton-Whitfield County Public Library":MAILTO:ngrl.librarian@gmail.com
END:VEVENT
END:VCALENDAR